CAMERA 1.27.0 Steffen Neumann
Snapshot Date: 2015-10-26 20:20:04 -0400 (Mon, 26 Oct 2015) | URL: https://hedgehog.fhcrc.org/bioconductor/trunk/madman/Rpacks/CAMERA | Last Changed Rev: 109592 / Revision: 109948 | Last Changed Date: 2015-10-13 15:59:53 -0400 (Tue, 13 Oct 2015) |
| linux2.bioconductor.org | Linux (Ubuntu 14.04.2 LTS) / x86_64 | OK | OK | OK | | |
windows2.bioconductor.org | Windows Server 2012 R2 Enterprise SP1 (64-bit) / x64 | OK | OK | OK | [ OK ] | |
##############################################################################
##############################################################################
###
### Running command:
###
### cd CAMERA.buildbin-libdir/CAMERA && zip -r ../../CAMERA_1.27.0.zip . & cd ../..
###
##############################################################################
##############################################################################
adding: CITATION (188 bytes security) (deflated 51%)
adding: data/ (208 bytes security) (stored 0%)
adding: data/mm14.rda (188 bytes security) (stored 0%)
adding: DESCRIPTION (188 bytes security) (deflated 41%)
adding: doc/ (208 bytes security) (stored 0%)
adding: doc/CAMERA.pdf (188 bytes security) (deflated 14%)
adding: doc/CAMERA.R (188 bytes security) (deflated 55%)
adding: doc/CAMERA.Rnw (188 bytes security) (deflated 68%)
adding: doc/index.html (188 bytes security) (deflated 57%)
adding: help/ (208 bytes security) (stored 0%)
adding: help/aliases.rds (188 bytes security) (stored 0%)
adding: help/AnIndex (188 bytes security) (deflated 79%)
adding: help/CAMERA.rdb (188 bytes security) (deflated 2%)
adding: help/CAMERA.rdx (188 bytes security) (stored 0%)
adding: help/paths.rds (188 bytes security) (stored 0%)
adding: html/ (208 bytes security) (stored 0%)
adding: html/00Index.html (188 bytes security) (deflated 83%)
adding: html/R.css (188 bytes security) (deflated 75%)
adding: INDEX (188 bytes security) (deflated 68%)
adding: libs/ (208 bytes security) (stored 0%)
adding: libs/i386/ (208 bytes security) (stored 0%)
adding: libs/i386/CAMERA.dll (188 bytes security) (deflated 55%)
adding: libs/x64/ (208 bytes security) (stored 0%)
adding: libs/x64/CAMERA.dll (188 bytes security) (deflated 57%)
adding: lists/ (208 bytes security) (stored 0%)
adding: lists/ions.csv (188 bytes security) (deflated 6%)
adding: lists/neutraladdition.csv (188 bytes security) (deflated 9%)
adding: lists/neutralloss.csv (188 bytes security) (deflated 38%)
adding: MD5 (188 bytes security) (deflated 45%)
adding: Meta/ (208 bytes security) (stored 0%)
adding: Meta/data.rds (188 bytes security) (stored 0%)
adding: Meta/hsearch.rds (188 bytes security) (stored 0%)
adding: Meta/links.rds (188 bytes security) (stored 0%)
adding: Meta/nsInfo.rds (188 bytes security) (stored 0%)
adding: Meta/package.rds (188 bytes security) (stored 0%)
adding: Meta/Rd.rds (188 bytes security) (stored 0%)
adding: Meta/vignette.rds (188 bytes security) (stored 0%)
adding: mzdata/ (208 bytes security) (stored 0%)
adding: mzdata/MM14.mzdata (188 bytes security) (deflated 50%)
adding: NAMESPACE (188 bytes security) (deflated 64%)
adding: NEWS (188 bytes security) (deflated 65%)
adding: ONEWS (188 bytes security) (deflated 67%)
adding: R/ (208 bytes security) (stored 0%)
adding: R/CAMERA (188 bytes security) (deflated 41%)
adding: R/CAMERA.rdb (188 bytes security) (deflated 42%)
adding: R/CAMERA.rdx (188 bytes security) (deflated 1%)
adding: rules/ (208 bytes security) (stored 0%)
adding: rules/extended_adducts_neg.csv (188 bytes security) (deflated 69%)
adding: rules/extended_adducts_pos.csv (188 bytes security) (deflated 72%)
adding: rules/primary_adducts_neg.csv (188 bytes security) (deflated 30%)
adding: rules/primary_adducts_pos.csv (188 bytes security) (deflated 31%)
adding: unitTests/ (208 bytes security) (stored 0%)
adding: unitTests/Makefile (188 bytes security) (deflated 27%)
adding: unitTests/test_annotateDiffreport.R (188 bytes security) (stored 0%)
adding: unitTests/test_findAdductsMPI.R (188 bytes security) (deflated 70%)
adding: unitTests/test_generateRules.R (188 bytes security) (deflated 77%)
adding: unitTests/test_groupCorr.R (188 bytes security) (deflated 63%)
adding: unitTests/test_groupFWHM.R (188 bytes security) (deflated 75%)
adding: unitTests/test_kendrick.R (188 bytes security) (deflated 52%)
adding: unitTests/test_psDist.R (188 bytes security) (deflated 38%)
adding: unitTests/test_pspec2metfrag.R (188 bytes security) (deflated 46%)