BiocGenerics 0.17.5 Bioconductor Package Maintainer
Snapshot Date: 2016-04-20 17:20:35 -0700 (Wed, 20 Apr 2016) | URL: https://hedgehog.fhcrc.org/bioconductor/trunk/madman/Rpacks/BiocGenerics | Last Changed Rev: 116092 / Revision: 116626 | Last Changed Date: 2016-04-10 14:48:27 -0700 (Sun, 10 Apr 2016) |
| zin2 | Linux (Ubuntu 14.04.2 LTS) / x86_64 | OK | OK | OK | | |
moscato2 | Windows Server 2008 R2 Enterprise SP1 (64-bit) / x64 | OK | OK | OK | OK | |
morelia | Mac OS X Mavericks (10.9.5) / x86_64 | OK | [ OK ] | OK | OK | |
##############################################################################
##############################################################################
###
### Running command:
###
### /Library/Frameworks/R.framework/Versions/Current/Resources/bin/R CMD build --keep-empty-dirs --no-resave-data BiocGenerics
###
##############################################################################
##############################################################################
* checking for file ‘BiocGenerics/DESCRIPTION’ ... OK
* preparing ‘BiocGenerics’:
* checking DESCRIPTION meta-information ... OK
* checking for LF line-endings in source and make files
* checking for empty or unneeded directories
* building ‘BiocGenerics_0.17.5.tar.gz’