BiocCheck 1.7.11 Bioconductor Package Maintainer
Snapshot Date: 2016-04-20 17:20:35 -0700 (Wed, 20 Apr 2016) | URL: https://hedgehog.fhcrc.org/bioconductor/trunk/madman/Rpacks/BiocCheck | Last Changed Rev: 116152 / Revision: 116626 | Last Changed Date: 2016-04-11 09:40:50 -0700 (Mon, 11 Apr 2016) |
| zin2 | Linux (Ubuntu 14.04.2 LTS) / x86_64 | OK | OK | OK | | |
moscato2 | Windows Server 2008 R2 Enterprise SP1 (64-bit) / x64 | OK | OK | OK | OK | |
morelia | Mac OS X Mavericks (10.9.5) / x86_64 | OK | [ OK ] | OK | OK | |
##############################################################################
##############################################################################
###
### Running command:
###
### /Library/Frameworks/R.framework/Versions/Current/Resources/bin/R CMD build --keep-empty-dirs --no-resave-data BiocCheck
###
##############################################################################
##############################################################################
* checking for file ‘BiocCheck/DESCRIPTION’ ... OK
* preparing ‘BiocCheck’:
* checking DESCRIPTION meta-information ... OK
* installing the package to build vignettes
* creating vignettes ... OK
* checking for LF line-endings in source and make files
* checking for empty or unneeded directories
WARNING: directory ‘BiocCheck/inst/testpackages/devtools0/R’ is empty
WARNING: directory ‘BiocCheck/inst/testpackages/devtools0/inst/templates’ is empty
WARNING: directory ‘BiocCheck/inst/testpackages/devtools0/man’ is empty
WARNING: directory ‘BiocCheck/inst/testpackages/devtools0/src’ is empty
WARNING: directory ‘BiocCheck/inst/testpackages/devtools0/tests/testthat/rtools-2.15/bin’ is empty
WARNING: directory ‘BiocCheck/inst/testpackages/devtools0/tests/testthat/rtools-2.15/gcc-4.6.3/bin’ is empty
WARNING: directory ‘BiocCheck/inst/testpackages/devtools0/tests/testthat/rtools-manual/bin’ is empty
WARNING: directory ‘BiocCheck/inst/testpackages/devtools0/tests/testthat/rtools-manual/gcc-4.6.3/bin’ is empty
WARNING: directory ‘BiocCheck/inst/testpackages/devtools0/tests/testthat/rtools-no-gcc/bin’ is empty
WARNING: directory ‘BiocCheck/inst/testpackages/devtools0/tests/testthat/testCheckExtrafile/R’ is empty
WARNING: directory ‘BiocCheck/inst/testpackages/devtools0/tests/testthat/testCheckExtrafile/man’ is empty
WARNING: directory ‘BiocCheck/inst/testpackages/devtools0/tests/testthat/testCollateAbsent/R’ is empty
WARNING: directory ‘BiocCheck/inst/testpackages/devtools0/tests/testthat/testCollateExtra/R’ is empty
WARNING: directory ‘BiocCheck/inst/testpackages/devtools0/tests/testthat/testCollateMissing/R’ is empty
WARNING: directory ‘BiocCheck/inst/testpackages/devtools0/tests/testthat/testData/R’ is empty
WARNING: directory ‘BiocCheck/inst/testpackages/devtools0/tests/testthat/testData/data’ is empty
WARNING: directory ‘BiocCheck/inst/testpackages/devtools0/tests/testthat/testDataLazy/R’ is empty
WARNING: directory ‘BiocCheck/inst/testpackages/devtools0/tests/testthat/testDataLazy/data’ is empty
WARNING: directory ‘BiocCheck/inst/testpackages/devtools0/tests/testthat/testDependMissing/R’ is empty
WARNING: directory ‘BiocCheck/inst/testpackages/devtools0/tests/testthat/testDllLoad/R’ is empty
WARNING: directory ‘BiocCheck/inst/testpackages/devtools0/tests/testthat/testDllLoad/src’ is empty
WARNING: directory ‘BiocCheck/inst/testpackages/devtools0/tests/testthat/testDllRcpp/R’ is empty
WARNING: directory ‘BiocCheck/inst/testpackages/devtools0/tests/testthat/testDllRcpp/src’ is empty
WARNING: directory ‘BiocCheck/inst/testpackages/devtools0/tests/testthat/testError/R’ is empty
WARNING: directory ‘BiocCheck/inst/testpackages/devtools0/tests/testthat/testHooks/R’ is empty
WARNING: directory ‘BiocCheck/inst/testpackages/devtools0/tests/testthat/testImportMissing/R’ is empty
WARNING: directory ‘BiocCheck/inst/testpackages/devtools0/tests/testthat/testImportVersion/R’ is empty
WARNING: directory ‘BiocCheck/inst/testpackages/devtools0/tests/testthat/testLoadHooks/R’ is empty
WARNING: directory ‘BiocCheck/inst/testpackages/devtools0/tests/testthat/testMarkdownVignettes/vignettes’ is empty
WARNING: directory ‘BiocCheck/inst/testpackages/devtools0/tests/testthat/testNamespace/R’ is empty
WARNING: directory ‘BiocCheck/inst/testpackages/devtools0/tests/testthat/testS4export/R’ is empty
WARNING: directory ‘BiocCheck/inst/testpackages/devtools0/tests/testthat/testS4import/R’ is empty
WARNING: directory ‘BiocCheck/inst/testpackages/devtools0/tests/testthat/testS4union/R’ is empty
WARNING: directory ‘BiocCheck/inst/testpackages/devtools0/tests/testthat/testShim/R’ is empty
WARNING: directory ‘BiocCheck/inst/testpackages/devtools0/tests/testthat/testShim/inst’ is empty
WARNING: directory ‘BiocCheck/inst/testpackages/devtools0/tests/testthat/testVignetteExtras/vignettes’ is empty
WARNING: directory ‘BiocCheck/inst/testpackages/devtools0/tests/testthat/testVignettes/vignettes’ is empty
WARNING: directory ‘BiocCheck/inst/testpackages/devtools0/tests/testthat/testVignettesBuilt/R’ is empty
WARNING: directory ‘BiocCheck/inst/testpackages/devtools0/tests/testthat/testVignettesBuilt/vignettes’ is empty
* building ‘BiocCheck_1.7.11.tar.gz’