Back to the "Multiple platform build/check report" A [B] C  D  E  F  G  H  I  J  K  L  M  N  O  P  Q  R  S  T  U  V  W  X  Y  Z 

BioC 3.3: CHECK report for BiSeq on morelia

This page was generated on 2016-04-21 13:24:11 -0700 (Thu, 21 Apr 2016).

Package 124/1210HostnameOS / ArchINSTALLBUILDCHECKBUILD BIN
BiSeq 1.11.1
Katja Hebestreit
Snapshot Date: 2016-04-20 17:20:35 -0700 (Wed, 20 Apr 2016)
URL: https://hedgehog.fhcrc.org/bioconductor/trunk/madman/Rpacks/BiSeq
Last Changed Rev: 113874 / Revision: 116626
Last Changed Date: 2016-02-22 02:35:36 -0800 (Mon, 22 Feb 2016)
zin2 Linux (Ubuntu 14.04.2 LTS) / x86_64  OK  OK  OK UNNEEDED, same version exists in internal repository
moscato2 Windows Server 2008 R2 Enterprise SP1 (64-bit) / x64  OK  OK  OK  OK UNNEEDED, same version exists in internal repository
morelia Mac OS X Mavericks (10.9.5) / x86_64  OK  OK [ OK ] OK UNNEEDED, same version exists in internal repository

Summary

Package: BiSeq
Version: 1.11.1
Command: /Library/Frameworks/R.framework/Versions/Current/Resources/bin/R CMD check --no-vignettes --timings BiSeq_1.11.1.tar.gz
StartedAt: 2016-04-20 23:45:23 -0700 (Wed, 20 Apr 2016)
EndedAt: 2016-04-20 23:50:34 -0700 (Wed, 20 Apr 2016)
EllapsedTime: 310.9 seconds
RetCode: 0
Status:  OK 
CheckDir: BiSeq.Rcheck
Warnings: 0

Command output

##############################################################################
##############################################################################
###
### Running command:
###
###   /Library/Frameworks/R.framework/Versions/Current/Resources/bin/R CMD check --no-vignettes --timings BiSeq_1.11.1.tar.gz
###
##############################################################################
##############################################################################


* using log directory ‘/Users/biocbuild/bbs-3.3-bioc/meat/BiSeq.Rcheck’
* using R version 3.3.0 beta (2016-04-06 r70435)
* using platform: x86_64-apple-darwin13.4.0 (64-bit)
* using session charset: UTF-8
* using option ‘--no-vignettes’
* checking for file ‘BiSeq/DESCRIPTION’ ... OK
* checking extension type ... Package
* this is package ‘BiSeq’ version ‘1.11.1’
* checking package namespace information ... OK
* checking package dependencies ... OK
* checking if this is a source package ... OK
* checking if there is a namespace ... OK
* checking for hidden files and directories ... OK
* checking for portable file names ... OK
* checking for sufficient/correct file permissions ... OK
* checking whether package ‘BiSeq’ can be installed ... [21s/25s] OK
* checking installed package size ... OK
* checking package directory ... OK
* checking ‘build’ directory ... OK
* checking DESCRIPTION meta-information ... NOTE
Packages listed in more than one of Depends, Imports, Suggests, Enhances:
  ‘methods’ ‘S4Vectors’ ‘IRanges’ ‘GenomicRanges’ ‘SummarizedExperiment’ ‘Formula’
A package should be listed in only one of these fields.
* checking top-level files ... OK
* checking for left-over files ... OK
* checking index information ... OK
* checking package subdirectories ... OK
* checking R files for non-ASCII characters ... OK
* checking R files for syntax errors ... OK
* checking whether the package can be loaded ... OK
* checking whether the package can be loaded with stated dependencies ... OK
* checking whether the package can be unloaded cleanly ... OK
* checking whether the namespace can be loaded with stated dependencies ... OK
* checking whether the namespace can be unloaded cleanly ... OK
* checking dependencies in R code ... NOTE
Namespace in Imports field not imported from: ‘Formula’
  All declared Imports should be used.
Package in Depends field not imported from: ‘Formula’
  These packages need to be imported from (in the NAMESPACE file)
  for when this namespace is loaded but not attached.
* checking S3 generic/method consistency ... OK
* checking replacement functions ... OK
* checking foreign function calls ... OK
* checking R code for possible problems ... NOTE
.betaRegression : inv.link: no visible global function definition for
  ‘pnorm’
.betaRegression : beta.regr: no visible global function definition for
  ‘as.formula’
.categorialColors: no visible global function definition for ‘colors’
.estLocCor: no visible global function definition for ‘combn’
.logisticRegression : inv.link: no visible global function definition
  for ‘pnorm’
.logisticRegression : logistic.regr: no visible global function
  definition for ‘lm’
.logisticRegression : logistic.regr: no visible global function
  definition for ‘as.formula’
.makeVariogram: no visible global function definition for ‘qnorm’
.plotBindingSites: no visible global function definition for
  ‘txtProgressBar’
.plotBindingSites: no visible global function definition for
  ‘setTxtProgressBar’
.plotBindingSites : <anonymous>: no visible global function definition
  for ‘ksmooth’
.plotBindingSites: no visible global function definition for ‘rainbow’
.plotBindingSites: no visible binding for global variable ‘plot’
.plotBindingSites: no visible global function definition for ‘lines’
.plotBindingSites: no visible global function definition for ‘rgb’
.plotBindingSites: no visible global function definition for ‘col2rgb’
.plotMeth: no visible global function definition for ‘col2rgb’
.plotMeth: no visible global function definition for ‘rgb’
.plotMeth: no visible binding for global variable ‘plot’
.plotMeth: no visible global function definition for ‘lines’
.plotMeth: no visible global function definition for ‘legend’
.plotMethMap: no visible global function definition for
  ‘colorRampPalette’
.plotMethMap: no visible binding for global variable ‘heatmap’
.plotSmoothMeth: no visible global function definition for ‘rainbow’
.plotSmoothMeth: no visible binding for global variable ‘plot’
.plotSmoothMeth: no visible global function definition for ‘lines’
.predictMeth: no visible global function definition for
  ‘txtProgressBar’
.predictMeth: no visible global function definition for
  ‘setTxtProgressBar’
.testClusters: no visible global function definition for ‘pnorm’
.trimClusters : integrand: no visible global function definition for
  ‘pnorm’
.trimClusters : integrand: no visible global function definition for
  ‘qnorm’
.trimClusters : integrand: no visible global function definition for
  ‘dnorm’
.trimClusters: no visible global function definition for ‘integrate’
.trimClusters: no visible global function definition for ‘pnorm’
.trimClusters: no visible global function definition for ‘qnorm’
.variogram: no visible global function definition for ‘dist’
.variogram: no visible global function definition for ‘txtProgressBar’
.variogram: no visible global function definition for
  ‘setTxtProgressBar’
.writeBED_BSraw: no visible global function definition for ‘colorRamp’
.writeBED_BSraw: no visible global function definition for ‘rgb’
.writeBED_BSrel: no visible global function definition for ‘colorRamp’
.writeBED_BSrel: no visible global function definition for ‘rgb’
betaRegression,formula-character-BSrel-numeric : inv.link: no visible
  global function definition for ‘pnorm’
betaRegression,formula-character-BSrel-numeric : beta.regr: no visible
  global function definition for ‘as.formula’
estLocCor,list: no visible global function definition for ‘combn’
logisticRegression,formula-character-BSrel-numeric : inv.link: no
  visible global function definition for ‘pnorm’
logisticRegression,formula-character-BSrel-numeric : logistic.regr: no
  visible global function definition for ‘lm’
logisticRegression,formula-character-BSrel-numeric : logistic.regr: no
  visible global function definition for ‘as.formula’
makeVariogram,data.frame-logical-numeric-numeric: no visible global
  function definition for ‘qnorm’
plotMethMap,BSrel-GRanges-factor-logical: no visible global function
  definition for ‘colorRampPalette’
plotMethMap,BSrel-GRanges-factor-logical: no visible binding for global
  variable ‘heatmap’
plotMethMap,BSrel-GRanges-factor-missing: no visible global function
  definition for ‘colorRampPalette’
plotMethMap,BSrel-GRanges-factor-missing: no visible binding for global
  variable ‘heatmap’
plotMethMap,BSrel-GRanges-missing-logical: no visible global function
  definition for ‘colorRampPalette’
plotMethMap,BSrel-GRanges-missing-logical: no visible binding for
  global variable ‘heatmap’
plotMethMap,BSrel-GRanges-missing-missing: no visible global function
  definition for ‘colorRampPalette’
plotMethMap,BSrel-GRanges-missing-missing: no visible binding for
  global variable ‘heatmap’
predictMeth,BSraw-numeric-numeric-numeric: no visible global function
  definition for ‘txtProgressBar’
predictMeth,BSraw-numeric-numeric-numeric: no visible global function
  definition for ‘setTxtProgressBar’
testClusters,list-numeric: no visible global function definition for
  ‘pnorm’
trimClusters,list-numeric : integrand: no visible global function
  definition for ‘pnorm’
trimClusters,list-numeric : integrand: no visible global function
  definition for ‘qnorm’
trimClusters,list-numeric : integrand: no visible global function
  definition for ‘dnorm’
trimClusters,list-numeric: no visible global function definition for
  ‘integrate’
trimClusters,list-numeric: no visible global function definition for
  ‘pnorm’
trimClusters,list-numeric: no visible global function definition for
  ‘qnorm’
writeBED,BSraw-character-character: no visible global function
  definition for ‘colorRamp’
writeBED,BSraw-character-character: no visible global function
  definition for ‘rgb’
writeBED,BSrel-character-character: no visible global function
  definition for ‘colorRamp’
writeBED,BSrel-character-character: no visible global function
  definition for ‘rgb’
Undefined global functions or variables:
  as.formula col2rgb colorRamp colorRampPalette colors combn dist dnorm
  heatmap integrate ksmooth legend lines lm plot pnorm qnorm rainbow
  rgb setTxtProgressBar txtProgressBar
Consider adding
  importFrom("grDevices", "col2rgb", "colorRamp", "colorRampPalette",
             "colors", "rainbow", "rgb")
  importFrom("graphics", "legend", "lines", "plot")
  importFrom("stats", "as.formula", "dist", "dnorm", "heatmap",
             "integrate", "ksmooth", "lm", "pnorm", "qnorm")
  importFrom("utils", "combn", "setTxtProgressBar", "txtProgressBar")
to your NAMESPACE file.
* checking Rd files ... OK
* checking Rd metadata ... OK
* checking Rd cross-references ... OK
* checking for missing documentation entries ... OK
* checking for code/documentation mismatches ... OK
* checking Rd \usage sections ... OK
* checking Rd contents ... OK
* checking for unstated dependencies in examples ... OK
* checking contents of ‘data’ directory ... OK
* checking data for non-ASCII characters ... OK
* checking data for ASCII and uncompressed saves ... OK
* checking sizes of PDF files under ‘inst/doc’ ... OK
* checking installed files from ‘inst/doc’ ... OK
* checking files in ‘vignettes’ ... OK
* checking examples ... [82s/82s] OK
Examples with CPU or elapsed time > 5s
                 user system elapsed
globalTest     27.379  0.127  27.762
betaRegression 12.301  0.620  13.110
estLocCor       6.761  0.581   7.404
makeVariogram   5.371  0.373   5.762
* checking for unstated dependencies in vignettes ... OK
* checking package vignettes in ‘inst/doc’ ... OK
* checking running R code from vignettes ... SKIPPED
* checking re-building of vignette outputs ... SKIPPED
* checking PDF version of manual ... OK
* DONE

Status: 3 NOTEs
See
  ‘/Users/biocbuild/bbs-3.3-bioc/meat/BiSeq.Rcheck/00check.log’
for details.


BiSeq.Rcheck/00install.out:

* installing *source* package ‘BiSeq’ ...
** R
** data
** inst
** preparing package for lazy loading
** help
*** installing help indices
** building package indices
** installing vignettes
** testing if installed package can be loaded
* DONE (BiSeq)

BiSeq.Rcheck/BiSeq-Ex.timings:

nameusersystemelapsed
BSraw-class0.1740.0190.194
BSrel-class0.1330.0170.160
DMRs0.0530.0010.056
annotateGRanges0.2180.0170.239
betaRegression12.301 0.62013.110
betaResults0.0080.0010.009
betaResultsNull0.0070.0020.008
binomLikelihoodSmooth0.0080.0010.009
clusterSites0.3360.1860.572
clusterSitesToGR0.5320.2970.870
compareTwoSamples2.8331.9904.481
covBoxplots0.0860.0110.097
covStatistics0.1140.0090.124
estLocCor6.7610.5817.404
filterByCov0.1400.0070.147
filterBySharedRegions0.1360.0110.147
findDMRs0.5580.0130.574
globalTest27.379 0.12727.762
limitCov0.3900.1830.746
logisticRegression1.6570.0661.724
makeVariogram5.3710.3735.762
plotBindingSites2.1670.0412.219
plotMeth0.2210.0230.247
plotMethMap0.2280.0260.257
plotSmoothMeth0.1130.0130.126
predictMeth1.0550.6221.503
predictedMeth0.0190.0050.023
promoters0.0700.0070.077
rawToRel0.0700.0080.078
readBismark0.0740.0110.085
rrbs0.0520.0040.057
smoothVariogram0.4460.0970.565
summarizeRegions1.1790.3481.611
testClusters0.0890.0040.094
trimClusters0.5550.0510.607
vario0.0040.0010.005
writeBED0.2300.0120.245