Back to the "Multiple platform build/check report"[A] B  C  D  E  F  G  H  I  J  K  L  M  N  O  P  Q  R  S  T  U  V  W  X  Y  Z 

BioC 3.3: INSTALL report for ArrayExpress on morelia

This page was generated on 2016-04-21 13:20:54 -0700 (Thu, 21 Apr 2016).

Package 55/1210HostnameOS / ArchINSTALLBUILDCHECKBUILD BIN
ArrayExpress 1.31.1
Ugis Sarkans
Snapshot Date: 2016-04-20 17:20:35 -0700 (Wed, 20 Apr 2016)
URL: https://hedgehog.fhcrc.org/bioconductor/trunk/madman/Rpacks/ArrayExpress
Last Changed Rev: 110102 / Revision: 116626
Last Changed Date: 2015-10-30 09:42:43 -0700 (Fri, 30 Oct 2015)
zin2 Linux (Ubuntu 14.04.2 LTS) / x86_64  OK  OK  OK UNNEEDED, same version exists in internal repository
moscato2 Windows Server 2008 R2 Enterprise SP1 (64-bit) / x64  OK  OK  OK  OK UNNEEDED, same version exists in internal repository
morelia Mac OS X Mavericks (10.9.5) / x86_64 [ OK ] OK  OK  OK UNNEEDED, same version exists in internal repository

Summary

Package: ArrayExpress
Version: 1.31.1
Command: /Library/Frameworks/R.framework/Versions/Current/Resources/bin/R CMD INSTALL ArrayExpress
StartedAt: 2016-04-20 18:27:00 -0700 (Wed, 20 Apr 2016)
EndedAt: 2016-04-20 18:27:12 -0700 (Wed, 20 Apr 2016)
EllapsedTime: 11.7 seconds
RetCode: 0
Status:  OK 

Command output

##############################################################################
##############################################################################
###
### Running command:
###
###   /Library/Frameworks/R.framework/Versions/Current/Resources/bin/R CMD INSTALL ArrayExpress
###
##############################################################################
##############################################################################


* installing to library ‘/Library/Frameworks/R.framework/Versions/3.3/Resources/library’
* installing *source* package ‘ArrayExpress’ ...
** R
** inst
** preparing package for lazy loading
** help
*** installing help indices
** building package indices
** installing vignettes
** testing if installed package can be loaded
* DONE (ArrayExpress)