Back to the "Multiple platform build/check report" A  B  C  D  E  F  G  H  I  J  K  L  M  N  O  P  Q  R  S  T  U  V  W [X] Y  Z 

BioC 3.3: BUILD report for xcms on morelia

This page was generated on 2015-10-22 17:51:59 -0400 (Thu, 22 Oct 2015).

Package 1098/1104HostnameOS / ArchINSTALLBUILDCHECKBUILD BIN
xcms 1.47.0
Steffen Neumann
Snapshot Date: 2015-10-21 20:20:05 -0400 (Wed, 21 Oct 2015)
URL: https://hedgehog.fhcrc.org/bioconductor/trunk/madman/Rpacks/xcms
Last Changed Rev: 109592 / Revision: 109826
Last Changed Date: 2015-10-13 15:59:53 -0400 (Tue, 13 Oct 2015)
linux2.bioconductor.org Linux (Ubuntu 14.04.2 LTS) / x86_64  OK  OK  OK UNNEEDED, same version exists in internal repository
windows2.bioconductor.org Windows Server 2012 R2 Enterprise SP1 (64-bit) / x64  OK  OK  OK  OK UNNEEDED, same version exists in internal repository
morelia Mac OS X Mavericks (10.9.5) / x86_64  OK [ OK ] OK  OK UNNEEDED, same version exists in internal repository

Summary

Package: xcms
Version: 1.47.0
Command: /Library/Frameworks/R.framework/Versions/Current/Resources/bin/R CMD build --keep-empty-dirs --no-resave-data xcms
StartedAt: 2015-10-21 21:49:44 -0400 (Wed, 21 Oct 2015)
EndedAt: 2015-10-21 21:51:08 -0400 (Wed, 21 Oct 2015)
EllapsedTime: 83.8 seconds
RetCode: 0
Status:  OK 
PackageFile: xcms_1.47.0.tar.gz
PackageFileSize: 1.287 MiB

Command output

##############################################################################
##############################################################################
###
### Running command:
###
###   /Library/Frameworks/R.framework/Versions/Current/Resources/bin/R CMD build --keep-empty-dirs --no-resave-data xcms
###
##############################################################################
##############################################################################


* checking for file ‘xcms/DESCRIPTION’ ... OK
* preparing ‘xcms’:
* checking DESCRIPTION meta-information ... OK
* cleaning src
* installing the package to build vignettes
* creating vignettes ... OK
* cleaning src
* checking for LF line-endings in source and make files
* checking for empty or unneeded directories
WARNING: directory ‘xcms/src/win/i386’ is empty
WARNING: directory ‘xcms/src/win/x64’ is empty
* building ‘xcms_1.47.0.tar.gz’