vsn 3.39.0 Wolfgang Huber
Snapshot Date: 2015-10-26 20:20:04 -0400 (Mon, 26 Oct 2015) | URL: https://hedgehog.fhcrc.org/bioconductor/trunk/madman/Rpacks/vsn | Last Changed Rev: 109592 / Revision: 109948 | Last Changed Date: 2015-10-13 15:59:53 -0400 (Tue, 13 Oct 2015) |
| linux2.bioconductor.org | Linux (Ubuntu 14.04.2 LTS) / x86_64 | OK | OK | OK | | ![UNNEEDED, same version exists in internal repository UNNEEDED, same version exists in internal repository](../120px-Blue_Light_Icon.svg.png) |
windows2.bioconductor.org | Windows Server 2012 R2 Enterprise SP1 (64-bit) / x64 | [ OK ] | OK | OK | OK | ![UNNEEDED, same version exists in internal repository UNNEEDED, same version exists in internal repository](../120px-Blue_Light_Icon.svg.png) |
##############################################################################
##############################################################################
###
### Running command:
###
### C:\cygwin64\bin\curl.exe -O http://linux2.bioconductor.org/BBS/3.3/bioc/src/contrib/vsn_3.39.0.tar.gz && c:\biocbld\bbs-3.3-bioc\R\bin\R.exe CMD INSTALL --merge-multiarch vsn_3.39.0.tar.gz && rm vsn_3.39.0.tar.gz
###
##############################################################################
##############################################################################
% Total % Received % Xferd Average Speed Time Time Time Current
Dload Upload Total Spent Left Speed
0 0 0 0 0 0 0 0 --:--:-- --:--:-- --:--:-- 0
100 444k 100 444k 0 0 49.3M 0 --:--:-- --:--:-- --:--:-- 86.8M
install for i386
* installing to library 'c:/biocbld/bbs-3.3-bioc/R/library'
* installing *source* package 'vsn' ...
** libs
gcc -m32 -I"c:/biocbld/BBS-3˜1.3-B/R/include" -DNDEBUG -I"d:/RCompile/r-compiling/local/local320/include" -O3 -Wall -std=gnu99 -mtune=core2 -c init.c -o init.o
gcc -m32 -I"c:/biocbld/BBS-3˜1.3-B/R/include" -DNDEBUG -I"d:/RCompile/r-compiling/local/local320/include" -O3 -Wall -std=gnu99 -mtune=core2 -c vsn.c -o vsn.o
gcc -m32 -I"c:/biocbld/BBS-3˜1.3-B/R/include" -DNDEBUG -I"d:/RCompile/r-compiling/local/local320/include" -O3 -Wall -std=gnu99 -mtune=core2 -c vsn2.c -o vsn2.o
gcc -m32 -shared -s -static-libgcc -o vsn.dll tmp.def init.o vsn.o vsn2.o -Ld:/RCompile/r-compiling/local/local320/lib/i386 -Ld:/RCompile/r-compiling/local/local320/lib -Lc:/biocbld/BBS-3˜1.3-B/R/bin/i386 -lR
installing to c:/biocbld/bbs-3.3-bioc/R/library/vsn/libs/i386
** R
** data
** inst
** preparing package for lazy loading
Creating a generic function for 'logLik' from package 'stats' in package 'vsn'
Creating a generic function for 'coef' from package 'stats' in package 'vsn'
Creating a generic function for 'coefficients' from package 'stats' in package 'vsn'
** help
*** installing help indices
** building package indices
** installing vignettes
** testing if installed package can be loaded
install for x64
* installing to library 'c:/biocbld/bbs-3.3-bioc/R/library'
* installing *source* package 'vsn' ...
** libs
gcc -m64 -I"c:/biocbld/BBS-3˜1.3-B/R/include" -DNDEBUG -I"d:/RCompile/r-compiling/local/local320/include" -O2 -Wall -std=gnu99 -mtune=core2 -c init.c -o init.o
gcc -m64 -I"c:/biocbld/BBS-3˜1.3-B/R/include" -DNDEBUG -I"d:/RCompile/r-compiling/local/local320/include" -O2 -Wall -std=gnu99 -mtune=core2 -c vsn.c -o vsn.o
gcc -m64 -I"c:/biocbld/BBS-3˜1.3-B/R/include" -DNDEBUG -I"d:/RCompile/r-compiling/local/local320/include" -O2 -Wall -std=gnu99 -mtune=core2 -c vsn2.c -o vsn2.o
gcc -m64 -shared -s -static-libgcc -o vsn.dll tmp.def init.o vsn.o vsn2.o -Ld:/RCompile/r-compiling/local/local320/lib/x64 -Ld:/RCompile/r-compiling/local/local320/lib -Lc:/biocbld/BBS-3˜1.3-B/R/bin/x64 -lR
installing to c:/biocbld/bbs-3.3-bioc/R/library/vsn/libs/x64
** testing if installed package can be loaded
* DONE (vsn)