Back to the "Multiple platform build/check report" A  B  C  D  E  F  G  H  I  J  K  L  M  N  O  P  Q  R  S [T] U  V  W  X  Y  Z 

BioC 3.3: CHECK report for trackViewer on morelia

This page was generated on 2015-10-22 17:54:05 -0400 (Thu, 22 Oct 2015).

Package 1061/1104HostnameOS / ArchINSTALLBUILDCHECKBUILD BIN
trackViewer 1.7.0
Jianhong Ou
Snapshot Date: 2015-10-21 20:20:05 -0400 (Wed, 21 Oct 2015)
URL: https://hedgehog.fhcrc.org/bioconductor/trunk/madman/Rpacks/trackViewer
Last Changed Rev: 109592 / Revision: 109826
Last Changed Date: 2015-10-13 15:59:53 -0400 (Tue, 13 Oct 2015)
linux2.bioconductor.org Linux (Ubuntu 14.04.2 LTS) / x86_64  OK  OK  OK UNNEEDED, same version exists in internal repository
windows2.bioconductor.org Windows Server 2012 R2 Enterprise SP1 (64-bit) / x64  OK  OK  OK  OK UNNEEDED, same version exists in internal repository
morelia Mac OS X Mavericks (10.9.5) / x86_64  OK  OK [ OK ] OK UNNEEDED, same version exists in internal repository

Summary

Package: trackViewer
Version: 1.7.0
Command: /Library/Frameworks/R.framework/Versions/Current/Resources/bin/R CMD check --no-vignettes --timings trackViewer_1.7.0.tar.gz
StartedAt: 2015-10-22 12:10:02 -0400 (Thu, 22 Oct 2015)
EndedAt: 2015-10-22 12:14:16 -0400 (Thu, 22 Oct 2015)
EllapsedTime: 253.9 seconds
RetCode: 0
Status:  OK 
CheckDir: trackViewer.Rcheck
Warnings: 0

Command output

##############################################################################
##############################################################################
###
### Running command:
###
###   /Library/Frameworks/R.framework/Versions/Current/Resources/bin/R CMD check --no-vignettes --timings trackViewer_1.7.0.tar.gz
###
##############################################################################
##############################################################################


* using log directory ‘/Users/biocbuild/bbs-3.3-bioc/meat/trackViewer.Rcheck’
* using R Under development (unstable) (2015-10-08 r69496)
* using platform: x86_64-apple-darwin13.4.0 (64-bit)
* using session charset: UTF-8
* using option ‘--no-vignettes’
* checking for file ‘trackViewer/DESCRIPTION’ ... OK
* checking extension type ... Package
* this is package ‘trackViewer’ version ‘1.7.0’
* checking package namespace information ... OK
* checking package dependencies ... OK
* checking if this is a source package ... OK
* checking if there is a namespace ... OK
* checking for hidden files and directories ... OK
* checking for portable file names ... OK
* checking for sufficient/correct file permissions ... OK
* checking whether package ‘trackViewer’ can be installed ... [18s/18s] OK
* checking installed package size ... OK
* checking package directory ... OK
* checking ‘build’ directory ... OK
* checking DESCRIPTION meta-information ... OK
* checking top-level files ... OK
* checking for left-over files ... OK
* checking index information ... OK
* checking package subdirectories ... OK
* checking R files for non-ASCII characters ... OK
* checking R files for syntax errors ... OK
* checking whether the package can be loaded ... OK
* checking whether the package can be loaded with stated dependencies ... OK
* checking whether the package can be unloaded cleanly ... OK
* checking whether the namespace can be loaded with stated dependencies ... OK
* checking whether the namespace can be unloaded cleanly ... OK
* checking dependencies in R code ... OK
* checking S3 generic/method consistency ... OK
* checking replacement functions ... OK
* checking foreign function calls ... OK
* checking R code for possible problems ... OK
* checking Rd files ... OK
* checking Rd metadata ... OK
* checking Rd cross-references ... OK
* checking for missing documentation entries ... OK
* checking for code/documentation mismatches ... OK
* checking Rd \usage sections ... OK
* checking Rd contents ... OK
* checking for unstated dependencies in examples ... OK
* checking installed files from ‘inst/doc’ ... OK
* checking files in ‘vignettes’ ... OK
* checking examples ... [62s/70s] OK
Examples with CPU or elapsed time > 5s
                      user system elapsed
trackViewer-package 18.041  0.220  18.441
parseWIG            10.854  0.055  11.029
viewTracks          10.596  0.068  10.742
geneModelFromTxdb    7.134  0.409  15.124
* checking for unstated dependencies in ‘tests’ ... OK
* checking tests ...
  Running ‘runTests.R’ [8s/8s]
 [8s/9s] OK
* checking for unstated dependencies in vignettes ... OK
* checking package vignettes in ‘inst/doc’ ... OK
* checking running R code from vignettes ... SKIPPED
* checking re-building of vignette outputs ... SKIPPED
* checking PDF version of manual ... OK
* DONE

Status: OK

trackViewer.Rcheck/00install.out:

* installing *source* package ‘trackViewer’ ...
** R
** inst
** preparing package for lazy loading
** help
*** installing help indices
** building package indices
** installing vignettes
** testing if installed package can be loaded
* DONE (trackViewer)

trackViewer.Rcheck/trackViewer-Ex.timings:

nameusersystemelapsed
GRoperator1.0210.0281.098
addArrowMark0.0070.0010.007
addGuideLine0.0050.0000.005
coverageGR0.3400.0030.388
geneModelFromTxdb 7.134 0.40915.124
getCurTrackViewport0.0030.0010.003
importBam0.2660.0060.293
importData1.2500.0201.323
importScore0.8310.0240.857
optimizeStyle0.8120.0200.853
parse2GRanges0.0070.0000.008
parseWIG10.854 0.05511.029
plotGRanges1.0700.0081.100
track0.0710.0000.074
trackViewer-package18.041 0.22018.441
trackViewerStyle0.0000.0000.001
viewTracks10.596 0.06810.742