Back to the "Multiple platform build/check report" A  B  C  D  E  F  G  H  I  J  K  L  M  N  O  P  Q  R  S [T] U  V  W  X  Y  Z 

BioC 3.3: BUILD BIN report for topGO on morelia

This page was generated on 2015-10-22 17:52:13 -0400 (Thu, 22 Oct 2015).

Package 1058/1104HostnameOS / ArchINSTALLBUILDCHECKBUILD BIN
topGO 2.23.0
Adrian Alexa
Snapshot Date: 2015-10-21 20:20:05 -0400 (Wed, 21 Oct 2015)
URL: https://hedgehog.fhcrc.org/bioconductor/trunk/madman/Rpacks/topGO
Last Changed Rev: 109592 / Revision: 109826
Last Changed Date: 2015-10-13 15:59:53 -0400 (Tue, 13 Oct 2015)
linux2.bioconductor.org Linux (Ubuntu 14.04.2 LTS) / x86_64  OK  OK  OK UNNEEDED, same version exists in internal repository
windows2.bioconductor.org Windows Server 2012 R2 Enterprise SP1 (64-bit) / x64  OK  OK  OK  OK UNNEEDED, same version exists in internal repository
morelia Mac OS X Mavericks (10.9.5) / x86_64  OK  OK  OK [ OK ]UNNEEDED, same version exists in internal repository

Summary

Package: topGO
Version: 2.23.0
Command: rm -rf topGO.buildbin-libdir && mkdir topGO.buildbin-libdir && /Users/biocbuild/BBS/utils/build-universal.sh topGO_2.23.0.tar.gz /Library/Frameworks/R.framework/Versions/Current/Resources/bin/R topGO.buildbin-libdir
StartedAt: 2015-10-22 16:28:27 -0400 (Thu, 22 Oct 2015)
EndedAt: 2015-10-22 16:29:13 -0400 (Thu, 22 Oct 2015)
EllapsedTime: 45.8 seconds
RetCode: 0
Status:  OK 
PackageFile: topGO_2.23.0.tgz
PackageFileSize: 1.226 MiB

Command output

##############################################################################
##############################################################################
###
### Running command:
###
###   rm -rf topGO.buildbin-libdir && mkdir topGO.buildbin-libdir && /Users/biocbuild/BBS/utils/build-universal.sh topGO_2.23.0.tar.gz /Library/Frameworks/R.framework/Versions/Current/Resources/bin/R topGO.buildbin-libdir
###
##############################################################################
##############################################################################


>>>>>>> 
>>>>>>> INSTALLATION WITH 'R CMD INSTALL --preclean --no-multiarch --library=topGO.buildbin-libdir topGO_2.23.0.tar.gz'
>>>>>>> 

* installing *source* package ‘topGO’ ...
** R
** data
** inst
** preparing package for lazy loading
Creating a generic function for ‘print’ from package ‘base’ in package ‘topGO’
** help
*** installing help indices
** building package indices
** installing vignettes
** testing if installed package can be loaded

groupGOTerms: 	GOBPTerm, GOMFTerm, GOCCTerm environments built.
* DONE (topGO)