systemPipeR 1.5.1 Thomas Girke
Snapshot Date: 2015-10-21 20:20:05 -0400 (Wed, 21 Oct 2015) | URL: https://hedgehog.fhcrc.org/bioconductor/trunk/madman/Rpacks/systemPipeR | Last Changed Rev: 109808 / Revision: 109826 | Last Changed Date: 2015-10-20 21:59:03 -0400 (Tue, 20 Oct 2015) |
| linux2.bioconductor.org | Linux (Ubuntu 14.04.2 LTS) / x86_64 | OK | OK | OK | | ![YES, new version is higher than in internal repository YES, new version is higher than in internal repository](../120px-Green_Light_Icon.svg.png) |
windows2.bioconductor.org | Windows Server 2012 R2 Enterprise SP1 (64-bit) / x64 | OK | OK | OK | OK | ![YES, new version is higher than in internal repository YES, new version is higher than in internal repository](../120px-Green_Light_Icon.svg.png) |
morelia | Mac OS X Mavericks (10.9.5) / x86_64 | OK | [ OK ] | OK | OK | ![YES, new version is higher than in internal repository YES, new version is higher than in internal repository](../120px-Green_Light_Icon.svg.png) |
##############################################################################
##############################################################################
###
### Running command:
###
### /Library/Frameworks/R.framework/Versions/Current/Resources/bin/R CMD build --keep-empty-dirs --no-resave-data systemPipeR
###
##############################################################################
##############################################################################
* checking for file ‘systemPipeR/DESCRIPTION’ ... OK
* preparing ‘systemPipeR’:
* checking DESCRIPTION meta-information ... OK
* installing the package to build vignettes
* creating vignettes ... OK
* checking for LF line-endings in source and make files
* checking for empty or unneeded directories
WARNING: directory ‘systemPipeR/inst/extdata/slides/systemPipeRslides_cache/html’ is empty
* building ‘systemPipeR_1.5.1.tar.gz’