Back to the "Multiple platform build/check report" A  B  C  D  E  F  G  H  I  J  K  L  M  N  O  P  Q  R [S] T  U  V  W  X  Y  Z 

BioC 3.3: CHECK report for supraHex on morelia

This page was generated on 2015-10-22 17:53:50 -0400 (Thu, 22 Oct 2015).

Package 1031/1104HostnameOS / ArchINSTALLBUILDCHECKBUILD BIN
supraHex 1.9.0
Hai Fang
Snapshot Date: 2015-10-21 20:20:05 -0400 (Wed, 21 Oct 2015)
URL: https://hedgehog.fhcrc.org/bioconductor/trunk/madman/Rpacks/supraHex
Last Changed Rev: 109592 / Revision: 109826
Last Changed Date: 2015-10-13 15:59:53 -0400 (Tue, 13 Oct 2015)
linux2.bioconductor.org Linux (Ubuntu 14.04.2 LTS) / x86_64  OK  OK  OK UNNEEDED, same version exists in internal repository
windows2.bioconductor.org Windows Server 2012 R2 Enterprise SP1 (64-bit) / x64  OK  OK  OK  OK UNNEEDED, same version exists in internal repository
morelia Mac OS X Mavericks (10.9.5) / x86_64  OK  OK [ OK ] OK UNNEEDED, same version exists in internal repository

Summary

Package: supraHex
Version: 1.9.0
Command: /Library/Frameworks/R.framework/Versions/Current/Resources/bin/R CMD check --no-vignettes --timings supraHex_1.9.0.tar.gz
StartedAt: 2015-10-22 11:50:10 -0400 (Thu, 22 Oct 2015)
EndedAt: 2015-10-22 11:50:50 -0400 (Thu, 22 Oct 2015)
EllapsedTime: 40.1 seconds
RetCode: 0
Status:  OK 
CheckDir: supraHex.Rcheck
Warnings: 0

Command output

##############################################################################
##############################################################################
###
### Running command:
###
###   /Library/Frameworks/R.framework/Versions/Current/Resources/bin/R CMD check --no-vignettes --timings supraHex_1.9.0.tar.gz
###
##############################################################################
##############################################################################


* using log directory ‘/Users/biocbuild/bbs-3.3-bioc/meat/supraHex.Rcheck’
* using R Under development (unstable) (2015-10-08 r69496)
* using platform: x86_64-apple-darwin13.4.0 (64-bit)
* using session charset: UTF-8
* using option ‘--no-vignettes’
* checking for file ‘supraHex/DESCRIPTION’ ... OK
* checking extension type ... Package
* this is package ‘supraHex’ version ‘1.9.0’
* checking package namespace information ... OK
* checking package dependencies ... OK
* checking if this is a source package ... OK
* checking if there is a namespace ... OK
* checking for hidden files and directories ... OK
* checking for portable file names ... OK
* checking for sufficient/correct file permissions ... OK
* checking whether package ‘supraHex’ can be installed ... [2s/2s] OK
* checking installed package size ... OK
* checking package directory ... OK
* checking ‘build’ directory ... OK
* checking DESCRIPTION meta-information ... OK
* checking top-level files ... OK
* checking for left-over files ... OK
* checking index information ... OK
* checking package subdirectories ... OK
* checking R files for non-ASCII characters ... OK
* checking R files for syntax errors ... OK
* checking whether the package can be loaded ... OK
* checking whether the package can be loaded with stated dependencies ... OK
* checking whether the package can be unloaded cleanly ... OK
* checking whether the namespace can be loaded with stated dependencies ... OK
* checking whether the namespace can be unloaded cleanly ... OK
* checking dependencies in R code ... OK
* checking S3 generic/method consistency ... OK
* checking replacement functions ... OK
* checking foreign function calls ... OK
* checking R code for possible problems ... OK
* checking Rd files ... OK
* checking Rd metadata ... OK
* checking Rd cross-references ... OK
* checking for missing documentation entries ... OK
* checking for code/documentation mismatches ... OK
* checking Rd \usage sections ... OK
* checking Rd contents ... OK
* checking for unstated dependencies in examples ... OK
* checking contents of ‘data’ directory ... OK
* checking data for non-ASCII characters ... OK
* checking data for ASCII and uncompressed saves ... OK
* checking sizes of PDF files under ‘inst/doc’ ... OK
* checking installed files from ‘inst/doc’ ... OK
* checking files in ‘vignettes’ ... OK
* checking examples ... [8s/9s] OK
* checking for unstated dependencies in vignettes ... OK
* checking package vignettes in ‘inst/doc’ ... OK
* checking running R code from vignettes ... SKIPPED
* checking re-building of vignette outputs ... SKIPPED
* checking PDF version of manual ... OK
* DONE

Status: OK

supraHex.Rcheck/00install.out:

* installing *source* package ‘supraHex’ ...
** R
** data
** inst
** preparing package for lazy loading
** help
*** installing help indices
** building package indices
** installing vignettes
** testing if installed package can be loaded
* DONE (supraHex)

supraHex.Rcheck/supraHex-Ex.timings:

nameusersystemelapsed
sBMH0.0380.0020.041
sCompReorder0.6310.0140.649
sDistance0.0820.0010.082
sDmat0.1010.0020.103
sDmatCluster0.1640.0020.166
sDmatMinima0.1050.0020.108
sHexDist0.0030.0010.003
sHexGrid0.0020.0000.002
sInitial0.0020.0000.003
sMapOverlay0.1880.0060.195
sNeighAny0.0090.0010.011
sNeighDirect0.0090.0000.010
sPipeline0.2460.0060.253
sTopology0.0140.0040.017
sTrainBatch0.0390.0010.040
sTrainSeq0.3100.0010.311
sTrainology0.0040.0000.003
sWriteData0.1590.0030.162
visColoralpha0.0040.0000.004
visColorbar0.0310.0030.035
visColormap0.0040.0000.004
visCompReorder1.0710.0301.146
visDmatCluster0.2350.0240.260
visDmatHeatmap0.1510.0060.157
visHeatmap0.0740.0000.075
visHeatmapAdv0.3580.0041.100
visHexAnimate0.0010.0010.000
visHexComp0.0880.0040.093
visHexGrid0.0770.0030.080
visHexMapping1.0000.0511.052
visHexMulComp0.7460.0250.772
visHexPattern1.0350.0681.104
visKernels0.0070.0040.011
visTreeBootstrap0.1340.0040.166
visVp0.0350.0060.041