Back to the "Multiple platform build/check report" A  B  C  D  E  F  G  H  I  J  K  L  M  N  O  P  Q  R [S] T  U  V  W  X  Y  Z 

BioC 3.3: BUILD report for snpStats on morelia

This page was generated on 2015-10-22 17:52:22 -0400 (Thu, 22 Oct 2015).

Package 995/1104HostnameOS / ArchINSTALLBUILDCHECKBUILD BIN
snpStats 1.21.0
David Clayton
Snapshot Date: 2015-10-21 20:20:05 -0400 (Wed, 21 Oct 2015)
URL: https://hedgehog.fhcrc.org/bioconductor/trunk/madman/Rpacks/snpStats
Last Changed Rev: 109592 / Revision: 109826
Last Changed Date: 2015-10-13 15:59:53 -0400 (Tue, 13 Oct 2015)
linux2.bioconductor.org Linux (Ubuntu 14.04.2 LTS) / x86_64  OK  OK  OK UNNEEDED, same version exists in internal repository
windows2.bioconductor.org Windows Server 2012 R2 Enterprise SP1 (64-bit) / x64  OK  OK  OK  OK UNNEEDED, same version exists in internal repository
morelia Mac OS X Mavericks (10.9.5) / x86_64  OK [ OK ] OK  OK UNNEEDED, same version exists in internal repository

Summary

Package: snpStats
Version: 1.21.0
Command: /Library/Frameworks/R.framework/Versions/Current/Resources/bin/R CMD build --keep-empty-dirs --no-resave-data snpStats
StartedAt: 2015-10-21 22:17:37 -0400 (Wed, 21 Oct 2015)
EndedAt: 2015-10-21 22:18:39 -0400 (Wed, 21 Oct 2015)
EllapsedTime: 62.2 seconds
RetCode: 0
Status:  OK 
PackageFile: snpStats_1.21.0.tar.gz
PackageFileSize: 6.584 MiB

Command output

##############################################################################
##############################################################################
###
### Running command:
###
###   /Library/Frameworks/R.framework/Versions/Current/Resources/bin/R CMD build --keep-empty-dirs --no-resave-data snpStats
###
##############################################################################
##############################################################################


* checking for file ‘snpStats/DESCRIPTION’ ... OK
* preparing ‘snpStats’:
* checking DESCRIPTION meta-information ... OK
* cleaning src
* installing the package to process help pages
* saving partial Rd database
* creating vignettes ... OK
* cleaning src
* checking for LF line-endings in source and make files
* checking for empty or unneeded directories
* looking to see if a ‘data/datalist’ file should be added
* building ‘snpStats_1.21.0.tar.gz’