| rTRM 1.9.0 Diego Diez
 
 | Snapshot Date: 2015-10-26 20:20:04 -0400 (Mon, 26 Oct 2015) |  | URL: https://hedgehog.fhcrc.org/bioconductor/trunk/madman/Rpacks/rTRM |  | Last Changed Rev: 109592 / Revision: 109948 |  | Last Changed Date: 2015-10-13 15:59:53 -0400 (Tue, 13 Oct 2015) | 
 | linux2.bioconductor.org | Linux (Ubuntu 14.04.2 LTS) / x86_64 | OK | OK | OK |  |  | 
| windows2.bioconductor.org | Windows Server 2012 R2 Enterprise SP1 (64-bit) / x64 | OK | OK | OK | [ OK ] |  | 
##############################################################################
##############################################################################
###
### Running command:
###
###   cd rTRM.buildbin-libdir/rTRM && zip -r ../../rTRM_1.9.0.zip . & cd ../..
###
##############################################################################
##############################################################################
  adding: CITATION (188 bytes security) (deflated 51%)
  adding: data/ (208 bytes security) (stored 0%)
  adding: data/biogrid_hs.rda (188 bytes security) (deflated 0%)
  adding: data/biogrid_mm.rda (188 bytes security) (deflated 0%)
  adding: data/datalist (188 bytes security) (deflated 17%)
  adding: db/ (208 bytes security) (stored 0%)
  adding: db/database.db (188 bytes security) (deflated 44%)
  adding: DESCRIPTION (188 bytes security) (deflated 41%)
  adding: doc/ (208 bytes security) (stored 0%)
  adding: doc/index.html (188 bytes security) (deflated 57%)
  adding: doc/rTRM_Introduction.pdf (188 bytes security) (deflated 14%)
  adding: doc/rTRM_Introduction.Rnw (188 bytes security) (deflated 63%)
  adding: extra/ (208 bytes security) (stored 0%)
  adding: extra/ESC-expressed.txt (188 bytes security) (deflated 62%)
  adding: extra/ESC_Sox2_peaks.txt (188 bytes security) (deflated 67%)
  adding: extra/example.rda (188 bytes security) (stored 0%)
  adding: extra/pwm_mm_logn.rda (188 bytes security) (deflated 0%)
  adding: extra/sox2_enr.rda (188 bytes security) (deflated 0%)
  adding: extra/sox2_motif_list.rda (188 bytes security) (stored 0%)
  adding: extra/test.R (188 bytes security) (deflated 53%)
  adding: help/ (208 bytes security) (stored 0%)
  adding: help/aliases.rds (188 bytes security) (stored 0%)
  adding: help/AnIndex (188 bytes security) (deflated 66%)
  adding: help/paths.rds (188 bytes security) (stored 0%)
  adding: help/rTRM.rdb (188 bytes security) (deflated 3%)
  adding: help/rTRM.rdx (188 bytes security) (stored 0%)
  adding: html/ (208 bytes security) (stored 0%)
  adding: html/00Index.html (188 bytes security) (deflated 73%)
  adding: html/R.css (188 bytes security) (deflated 75%)
  adding: INDEX (188 bytes security) (deflated 68%)
  adding: MD5 (188 bytes security) (deflated 42%)
  adding: Meta/ (208 bytes security) (stored 0%)
  adding: Meta/data.rds (188 bytes security) (stored 0%)
  adding: Meta/hsearch.rds (188 bytes security) (stored 0%)
  adding: Meta/links.rds (188 bytes security) (stored 0%)
  adding: Meta/nsInfo.rds (188 bytes security) (stored 0%)
  adding: Meta/package.rds (188 bytes security) (stored 0%)
  adding: Meta/Rd.rds (188 bytes security) (stored 0%)
  adding: Meta/vignette.rds (188 bytes security) (stored 0%)
  adding: NAMESPACE (188 bytes security) (deflated 40%)
  adding: NEWS (188 bytes security) (deflated 39%)
  adding: R/ (208 bytes security) (stored 0%)
  adding: R/rTRM (188 bytes security) (deflated 41%)
  adding: R/rTRM.rdb (188 bytes security) (deflated 1%)
  adding: R/rTRM.rdx (188 bytes security) (stored 0%)
  adding: unitTests/ (208 bytes security) (stored 0%)
  adding: unitTests/test_findTRM.R (188 bytes security) (deflated 31%)