Back to the "Multiple platform build/check report" A  B  C  D  E  F  G  H  I  J  K  L  M  N  O  P  Q [R] S  T  U  V  W  X  Y  Z 

BioC 3.3: CHECK report for rBiopaxParser on morelia

This page was generated on 2015-10-22 17:53:35 -0400 (Thu, 22 Oct 2015).

Package 844/1104HostnameOS / ArchINSTALLBUILDCHECKBUILD BIN
rBiopaxParser 2.9.0
Frank Kramer
Snapshot Date: 2015-10-21 20:20:05 -0400 (Wed, 21 Oct 2015)
URL: https://hedgehog.fhcrc.org/bioconductor/trunk/madman/Rpacks/rBiopaxParser
Last Changed Rev: 109592 / Revision: 109826
Last Changed Date: 2015-10-13 15:59:53 -0400 (Tue, 13 Oct 2015)
linux2.bioconductor.org Linux (Ubuntu 14.04.2 LTS) / x86_64  OK  OK  OK UNNEEDED, same version exists in internal repository
windows2.bioconductor.org Windows Server 2012 R2 Enterprise SP1 (64-bit) / x64  OK  OK  OK  OK UNNEEDED, same version exists in internal repository
morelia Mac OS X Mavericks (10.9.5) / x86_64  OK  OK [ OK ] OK UNNEEDED, same version exists in internal repository

Summary

Package: rBiopaxParser
Version: 2.9.0
Command: /Library/Frameworks/R.framework/Versions/Current/Resources/bin/R CMD check --no-vignettes --timings rBiopaxParser_2.9.0.tar.gz
StartedAt: 2015-10-22 10:12:33 -0400 (Thu, 22 Oct 2015)
EndedAt: 2015-10-22 10:13:16 -0400 (Thu, 22 Oct 2015)
EllapsedTime: 43.1 seconds
RetCode: 0
Status:  OK 
CheckDir: rBiopaxParser.Rcheck
Warnings: 0

Command output

##############################################################################
##############################################################################
###
### Running command:
###
###   /Library/Frameworks/R.framework/Versions/Current/Resources/bin/R CMD check --no-vignettes --timings rBiopaxParser_2.9.0.tar.gz
###
##############################################################################
##############################################################################


* using log directory ‘/Users/biocbuild/bbs-3.3-bioc/meat/rBiopaxParser.Rcheck’
* using R Under development (unstable) (2015-10-08 r69496)
* using platform: x86_64-apple-darwin13.4.0 (64-bit)
* using session charset: UTF-8
* using option ‘--no-vignettes’
* checking for file ‘rBiopaxParser/DESCRIPTION’ ... OK
* checking extension type ... Package
* this is package ‘rBiopaxParser’ version ‘2.9.0’
* checking package namespace information ... OK
* checking package dependencies ... OK
* checking if this is a source package ... OK
* checking if there is a namespace ... OK
* checking for hidden files and directories ... OK
* checking for portable file names ... OK
* checking for sufficient/correct file permissions ... OK
* checking whether package ‘rBiopaxParser’ can be installed ... [1s/1s] OK
* checking installed package size ... OK
* checking package directory ... OK
* checking ‘build’ directory ... OK
* checking DESCRIPTION meta-information ... OK
* checking top-level files ... OK
* checking for left-over files ... OK
* checking index information ... OK
* checking package subdirectories ... OK
* checking R files for non-ASCII characters ... OK
* checking R files for syntax errors ... OK
* checking whether the package can be loaded ... OK
* checking whether the package can be loaded with stated dependencies ... OK
* checking whether the package can be unloaded cleanly ... OK
* checking whether the namespace can be loaded with stated dependencies ... OK
* checking whether the namespace can be unloaded cleanly ... OK
* checking dependencies in R code ... NOTE
'library' or 'require' calls in package code:
  ‘RBGL’ ‘RCurl’ ‘Rgraphviz’ ‘graph’ ‘nem’
  Please use :: or requireNamespace() instead.
  See section 'Suggested packages' in the 'Writing R Extensions' manual.
* checking S3 generic/method consistency ... OK
* checking replacement functions ... OK
* checking foreign function calls ... OK
* checking R code for possible problems ... NOTE
addBiopaxInstance: no visible binding for global variable ‘property’
addBiopaxInstances: no visible binding for global variable ‘id’
addBiopaxInstances: no visible binding for global variable ‘property’
addPropertiesToBiopaxInstance: no visible binding for global variable
  ‘property’
createBiopax: no visible binding for global variable ‘id’
createBiopax: no visible binding for global variable ‘property’
getReferencedIDs: no visible binding for global variable
  ‘property_attr’
getReferencedIDs: no visible binding for global variable ‘property’
getReferencingIDs: no visible binding for global variable
  ‘property_attr’
getReferencingIDs: no visible binding for global variable ‘property’
internal_XMLInstance2DF: no visible binding for global variable ‘i’
internal_XMLInstance2DF: no visible binding for global variable ‘p’
internal_generateXMLfromBiopax: no visible binding for global variable
  ‘id’
internal_getBiopaxModelAsDataFrame: no visible binding for global
  variable ‘property’
internal_propertyListToDF: no visible binding for global variable
  ‘property’
layoutRegulatoryGraph: no visible global function definition for
  ‘nodes’
listInstances: no visible binding for global variable ‘property_value’
listInstances: no visible binding for global variable ‘property’
pathway2RegulatoryGraph: no visible binding for global variable ‘id’
pathway2RegulatoryGraph: no visible binding for global variable
  ‘property’
plotRegulatoryGraph: no visible global function definition for ‘nodes’
removeNodes: no visible global function definition for ‘edgeWeights’
removeNodes: no visible global function definition for ‘removeNode’
removeNodes: no visible global function definition for ‘addEdge’
removeProperties: no visible binding for global variable ‘property’
selectInstances: no visible binding for global variable
  ‘property_value’
Undefined global functions or variables:
  addEdge edgeWeights i id nodes p property property_attr
  property_value removeNode
* checking Rd files ... OK
* checking Rd metadata ... OK
* checking Rd cross-references ... OK
* checking for missing documentation entries ... OK
* checking for code/documentation mismatches ... OK
* checking Rd \usage sections ... OK
* checking Rd contents ... OK
* checking for unstated dependencies in examples ... OK
* checking contents of ‘data’ directory ... OK
* checking data for non-ASCII characters ... OK
* checking data for ASCII and uncompressed saves ... OK
* checking sizes of PDF files under ‘inst/doc’ ... OK
* checking installed files from ‘inst/doc’ ... OK
* checking files in ‘vignettes’ ... OK
* checking examples ... [13s/13s] OK
* checking for unstated dependencies in ‘tests’ ... OK
* checking tests ...
  Running ‘runTests.R’ [1s/1s]
 [1s/1s] OK
* checking for unstated dependencies in vignettes ... OK
* checking package vignettes in ‘inst/doc’ ... OK
* checking running R code from vignettes ... SKIPPED
* checking re-building of vignette outputs ... SKIPPED
* checking PDF version of manual ... OK
* DONE

Status: 2 NOTEs
See
  ‘/Users/biocbuild/bbs-3.3-bioc/meat/rBiopaxParser.Rcheck/00check.log’
for details.


rBiopaxParser.Rcheck/00install.out:

* installing *source* package ‘rBiopaxParser’ ...
** R
** data
** inst
** preparing package for lazy loading
** help
*** installing help indices
** building package indices
** installing vignettes
** testing if installed package can be loaded
* DONE (rBiopaxParser)

rBiopaxParser.Rcheck/rBiopaxParser-Ex.timings:

nameusersystemelapsed
addBiochemicalReaction0.0500.0010.051
addBiopaxInstance0.0280.0000.028
addBiopaxInstances0.0250.0030.029
addControl0.0380.0000.038
addPathway0.0380.0010.039
addPathwayComponents0.0430.0010.044
addPhysicalEntity0.0150.0000.015
addPhysicalEntityParticipant0.0230.0000.024
addPropertiesToBiopaxInstance0.0130.0000.013
biopax0.0090.0010.010
calcGraphOverlap1.7040.0151.719
colorGraphNodes1.0880.0131.101
combineNodes0.0030.0000.003
createBiopax0.0030.0000.003
diffGraphs1.5410.0071.549
downloadBiopaxData0.0000.0000.001
getClassProperties0.0010.0000.001
getInstanceClass0.0040.0010.004
getInstanceProperty0.0080.0000.009
getReferencedIDs0.0160.0010.017
getReferencingIDs0.0160.0000.016
getSubClasses0.0000.0000.001
getSuperClasses0.0010.0000.000
getXrefAnnotations0.1280.0000.128
intersectGraphs1.5260.0051.532
listComplexComponents0.0110.0000.010
listInstances0.0260.0020.028
listInteractionComponents0.0140.0000.015
listPathwayComponents0.0130.0010.014
listPathways0.010.000.01
pathway2AdjacancyMatrix0.8650.0040.869
pathway2Geneset0.2280.0010.229
pathway2RegulatoryGraph0.9570.0040.961
plotRegulatoryGraph0.9700.0030.974
print.biopax0.0080.0010.009
rBiopaxParser-package0.0010.0000.000
readBiopax0.0010.0000.001
removeNodes1.0770.0061.083
selectInstances0.0180.0010.019
splitComplex0.0250.0010.026
uniteGraphs1.7600.0121.772
writeBiopax0.0020.0000.021