Back to the "Multiple platform build/check report" A  B  C  D  E  F  G  H  I  J  K  L  M  N  O [P] Q  R  S  T  U  V  W  X  Y  Z 

BioC 3.3: INSTALL report for puma on linux2.bioconductor.org

This page was generated on 2015-10-27 12:11:36 -0400 (Tue, 27 Oct 2015).

Package 813/1104HostnameOS / ArchINSTALLBUILDCHECKBUILD BIN
puma 3.13.0
Xuejun Liu
Snapshot Date: 2015-10-26 20:20:04 -0400 (Mon, 26 Oct 2015)
URL: https://hedgehog.fhcrc.org/bioconductor/trunk/madman/Rpacks/puma
Last Changed Rev: 109592 / Revision: 109948
Last Changed Date: 2015-10-13 15:59:53 -0400 (Tue, 13 Oct 2015)
linux2.bioconductor.org Linux (Ubuntu 14.04.2 LTS) / x86_64 [ OK ] OK  OK UNNEEDED, same version exists in internal repository
windows2.bioconductor.org Windows Server 2012 R2 Enterprise SP1 (64-bit) / x64  OK  OK  OK  OK UNNEEDED, same version exists in internal repository

Summary

Package: puma
Version: 3.13.0
Command: /home/biocbuild/bbs-3.3-bioc/R/bin/R CMD INSTALL puma
StartedAt: 2015-10-26 21:11:27 -0400 (Mon, 26 Oct 2015)
EndedAt: 2015-10-26 21:11:47 -0400 (Mon, 26 Oct 2015)
EllapsedTime: 20.0 seconds
RetCode: 0
Status:  OK 

Command output

##############################################################################
##############################################################################
###
### Running command:
###
###   /home/biocbuild/bbs-3.3-bioc/R/bin/R CMD INSTALL puma
###
##############################################################################
##############################################################################


* installing to library ‘/home/biocbuild/bbs-3.3-bioc/R/library’
* installing *source* package ‘puma’ ...
** libs
gcc -std=gnu99 -I/home/biocbuild/bbs-3.3-bioc/R/include -DNDEBUG  -I/usr/local/include    -fpic  -g -O2  -c PMmultimgmos.c -o PMmultimgmos.o
gcc -std=gnu99 -I/home/biocbuild/bbs-3.3-bioc/R/include -DNDEBUG  -I/usr/local/include    -fpic  -g -O2  -c cregistration.c -o cregistration.o
gcc -std=gnu99 -I/home/biocbuild/bbs-3.3-bioc/R/include -DNDEBUG  -I/usr/local/include    -fpic  -g -O2  -c donlp2.c -o donlp2.o
gcc -std=gnu99 -I/home/biocbuild/bbs-3.3-bioc/R/include -DNDEBUG  -I/usr/local/include    -fpic  -g -O2  -c gme.c -o gme.o
gcc -std=gnu99 -I/home/biocbuild/bbs-3.3-bioc/R/include -DNDEBUG  -I/usr/local/include    -fpic  -g -O2  -c ipplr_c.c -o ipplr_c.o
gcc -std=gnu99 -I/home/biocbuild/bbs-3.3-bioc/R/include -DNDEBUG  -I/usr/local/include    -fpic  -g -O2  -c multimgmos.c -o multimgmos.o
gcc -std=gnu99 -I/home/biocbuild/bbs-3.3-bioc/R/include -DNDEBUG  -I/usr/local/include    -fpic  -g -O2  -c newx.c -o newx.o
gcc -std=gnu99 -I/home/biocbuild/bbs-3.3-bioc/R/include -DNDEBUG  -I/usr/local/include    -fpic  -g -O2  -c pplr_c.c -o pplr_c.o
gcc -std=gnu99 -I/home/biocbuild/bbs-3.3-bioc/R/include -DNDEBUG  -I/usr/local/include    -fpic  -g -O2  -c pumaclust_c.c -o pumaclust_c.o
gcc -std=gnu99 -I/home/biocbuild/bbs-3.3-bioc/R/include -DNDEBUG  -I/usr/local/include    -fpic  -g -O2  -c pumaclustii_c.c -o pumaclustii_c.o
gcc -std=gnu99 -I/home/biocbuild/bbs-3.3-bioc/R/include -DNDEBUG  -I/usr/local/include    -fpic  -g -O2  -c user_eval.c -o user_eval.o
gcc -std=gnu99 -shared -L/home/biocbuild/bbs-3.3-bioc/R/lib -L/usr/local/lib -o puma.so PMmultimgmos.o cregistration.o donlp2.o gme.o ipplr_c.o multimgmos.o newx.o pplr_c.o pumaclust_c.o pumaclustii_c.o user_eval.o -L/home/biocbuild/bbs-3.3-bioc/R/lib -lR
installing to /home/biocbuild/bbs-3.3-bioc/R/library/puma/libs
** R
** data
** demo
** inst
** preparing package for lazy loading
** help
*** installing help indices
** building package indices
** installing vignettes
   ‘puma.Rnw’ using ‘UTF-8’ 
** testing if installed package can be loaded
* DONE (puma)