Back to the "Multiple platform build/check report" A  B  C  D  E  F  G  H  I  J  K  L  M  N  O [P] Q  R  S  T  U  V  W  X  Y  Z 

BioC 3.3: BUILD BIN report for prada on windows2.bioconductor.org

This page was generated on 2015-10-27 12:13:58 -0400 (Tue, 27 Oct 2015).

Package 791/1104HostnameOS / ArchINSTALLBUILDCHECKBUILD BIN
prada 1.47.0
Florian Hahne
Snapshot Date: 2015-10-26 20:20:04 -0400 (Mon, 26 Oct 2015)
URL: https://hedgehog.fhcrc.org/bioconductor/trunk/madman/Rpacks/prada
Last Changed Rev: 109592 / Revision: 109948
Last Changed Date: 2015-10-13 15:59:53 -0400 (Tue, 13 Oct 2015)
linux2.bioconductor.org Linux (Ubuntu 14.04.2 LTS) / x86_64  OK  OK  ERROR 
windows2.bioconductor.org Windows Server 2012 R2 Enterprise SP1 (64-bit) / x64  OK  OK  ERROR [ OK ]

Summary

Package: prada
Version: 1.47.0
Command: cd prada.buildbin-libdir/prada && zip -r ../../prada_1.47.0.zip . & cd ../..
StartedAt: 2015-10-27 07:42:44 -0400 (Tue, 27 Oct 2015)
EndedAt: 2015-10-27 07:42:59 -0400 (Tue, 27 Oct 2015)
EllapsedTime: 14.6 seconds
RetCode: 0
Status:  OK  
PackageFile: prada_1.47.0.zip
PackageFileSize: 1.581 MiB

Command output

##############################################################################
##############################################################################
###
### Running command:
###
###   cd prada.buildbin-libdir/prada && zip -r ../../prada_1.47.0.zip . & cd ../..
###
##############################################################################
##############################################################################


  adding: data/ (208 bytes security) (stored 0%)
  adding: data/cframe.rda (188 bytes security) (stored 0%)
  adding: data/cset.rda (188 bytes security) (deflated 0%)
  adding: DESCRIPTION (188 bytes security) (deflated 44%)
  adding: doc/ (208 bytes security) (stored 0%)
  adding: doc/index.html (188 bytes security) (deflated 66%)
  adding: doc/norm2.pdf (188 bytes security) (deflated 7%)
  adding: doc/norm2.R (188 bytes security) (deflated 76%)
  adding: doc/norm2.Rnw (188 bytes security) (deflated 59%)
  adding: doc/prada2cellHTS.pdf (188 bytes security) (deflated 5%)
  adding: doc/prada2cellHTS.R (188 bytes security) (deflated 68%)
  adding: doc/prada2cellHTS.Rnw (188 bytes security) (deflated 53%)
  adding: extdata/ (208 bytes security) (stored 0%)
  adding: extdata/Description.txt (188 bytes security) (deflated 30%)
  adding: extdata/dorit13_2c-1-2--13-Ytrail=3143937171.xml (188 bytes security) (deflated 88%)
  adding: extdata/Experiment1.txt (188 bytes security) (deflated 72%)
  adding: extdata/Experiment2.txt (188 bytes security) (deflated 73%)
  adding: extdata/fas-Bcl2-plate323-04-04.A01 (188 bytes security) (deflated 41%)
  adding: extdata/fas-Bcl2-plate323-04-04.A02 (188 bytes security) (deflated 41%)
  adding: extdata/fas-Bcl2-plate323-04-04.A03 (188 bytes security) (deflated 42%)
  adding: extdata/fas-Bcl2-plate323-04-04.B01 (188 bytes security) (deflated 42%)
  adding: extdata/fas-Bcl2-plate323-04-04.B02 (188 bytes security) (deflated 41%)
  adding: extdata/fas-Bcl2-plate323-04-04.B03 (188 bytes security) (deflated 42%)
  adding: extdata/GeneIDs.txt (188 bytes security) (deflated 77%)
  adding: extdata/plate3_1.txt (188 bytes security) (deflated 75%)
  adding: extdata/plate3_2.txt (188 bytes security) (deflated 74%)
  adding: extdata/plate3_3.txt (188 bytes security) (deflated 74%)
  adding: extdata/plate4_1.txt (188 bytes security) (deflated 75%)
  adding: extdata/plate4_2.txt (188 bytes security) (deflated 74%)
  adding: extdata/plate4_3.txt (188 bytes security) (deflated 74%)
  adding: extdata/Plateconf.txt (188 bytes security) (deflated 73%)
  adding: extdata/Platelist.txt (188 bytes security) (deflated 35%)
  adding: extdata/sampleData.txt (188 bytes security) (deflated 46%)
  adding: extdata/Screenlog.txt (188 bytes security) (stored 0%)
  adding: help/ (208 bytes security) (stored 0%)
  adding: help/aliases.rds (188 bytes security) (stored 0%)
  adding: help/AnIndex (188 bytes security) (deflated 79%)
  adding: help/paths.rds (188 bytes security) (stored 0%)
  adding: help/prada.rdb (188 bytes security) (deflated 2%)
  adding: help/prada.rdx (188 bytes security) (stored 0%)
  adding: html/ (208 bytes security) (stored 0%)
  adding: html/00Index.html (188 bytes security) (deflated 89%)
  adding: html/R.css (188 bytes security) (deflated 75%)
  adding: INDEX (188 bytes security) (deflated 64%)
  adding: libs/ (208 bytes security) (stored 0%)
  adding: libs/i386/ (208 bytes security) (stored 0%)
  adding: libs/i386/prada.dll (188 bytes security) (deflated 58%)
  adding: libs/x64/ (208 bytes security) (stored 0%)
  adding: libs/x64/prada.dll (188 bytes security) (deflated 58%)
  adding: MD5 (188 bytes security) (deflated 48%)
  adding: Meta/ (208 bytes security) (stored 0%)
  adding: Meta/data.rds (188 bytes security) (stored 0%)
  adding: Meta/hsearch.rds (188 bytes security) (stored 0%)
  adding: Meta/links.rds (188 bytes security) (stored 0%)
  adding: Meta/nsInfo.rds (188 bytes security) (stored 0%)
  adding: Meta/package.rds (188 bytes security) (stored 0%)
  adding: Meta/Rd.rds (188 bytes security) (stored 0%)
  adding: Meta/vignette.rds (188 bytes security) (stored 0%)
  adding: NAMESPACE (188 bytes security) (deflated 60%)
  adding: R/ (208 bytes security) (stored 0%)
  adding: R/prada (188 bytes security) (deflated 41%)
  adding: R/prada.rdb (188 bytes security) (deflated 28%)
  adding: R/prada.rdx (188 bytes security) (deflated 2%)