plier 1.41.0 Crispin Miller
Snapshot Date: 2015-10-26 20:20:04 -0400 (Mon, 26 Oct 2015) | URL: https://hedgehog.fhcrc.org/bioconductor/trunk/madman/Rpacks/plier | Last Changed Rev: 109592 / Revision: 109948 | Last Changed Date: 2015-10-13 15:59:53 -0400 (Tue, 13 Oct 2015) |
| linux2.bioconductor.org | Linux (Ubuntu 14.04.2 LTS) / x86_64 | [ OK ] | OK | WARNINGS | | ![UNNEEDED, same version exists in internal repository UNNEEDED, same version exists in internal repository](../120px-Blue_Light_Icon.svg.png) |
windows2.bioconductor.org | Windows Server 2012 R2 Enterprise SP1 (64-bit) / x64 | OK | OK | OK | OK | ![UNNEEDED, same version exists in internal repository UNNEEDED, same version exists in internal repository](../120px-Blue_Light_Icon.svg.png) |
##############################################################################
##############################################################################
###
### Running command:
###
### /home/biocbuild/bbs-3.3-bioc/R/bin/R CMD INSTALL plier
###
##############################################################################
##############################################################################
* installing to library ‘/home/biocbuild/bbs-3.3-bioc/R/library’
* installing *source* package ‘plier’ ...
** libs
g++ -I/home/biocbuild/bbs-3.3-bioc/R/include -DNDEBUG -I/usr/local/include -fpic -g -O2 -c affyplier.cpp -o affyplier.o
g++ -I/home/biocbuild/bbs-3.3-bioc/R/include -DNDEBUG -I/usr/local/include -fpic -g -O2 -c plier_impl.cpp -o plier_impl.o
g++ -I/home/biocbuild/bbs-3.3-bioc/R/include -DNDEBUG -I/usr/local/include -fpic -g -O2 -c plieralg.cpp -o plieralg.o
g++ -I/home/biocbuild/bbs-3.3-bioc/R/include -DNDEBUG -I/usr/local/include -fpic -g -O2 -c rwrapper.cpp -o rwrapper.o
g++ -shared -L/home/biocbuild/bbs-3.3-bioc/R/lib -L/usr/local/lib -o plier.so affyplier.o plier_impl.o plieralg.o rwrapper.o -L/home/biocbuild/bbs-3.3-bioc/R/lib -lR
installing to /home/biocbuild/bbs-3.3-bioc/R/library/plier/libs
** R
** preparing package for lazy loading
** help
*** installing help indices
** building package indices
** testing if installed package can be loaded
* DONE (plier)