Back to the "Multiple platform build/check report" A  B  C  D  E  F  G  H  I  J  K  L  M  N [O] P  Q  R  S  T  U  V  W  X  Y  Z 

BioC 3.3: BUILD report for openCyto on linux2.bioconductor.org

This page was generated on 2015-10-27 12:12:28 -0400 (Tue, 27 Oct 2015).

Package 731/1104HostnameOS / ArchINSTALLBUILDCHECKBUILD BIN
openCyto 1.9.2
Mike Jiang
Snapshot Date: 2015-10-26 20:20:04 -0400 (Mon, 26 Oct 2015)
URL: https://hedgehog.fhcrc.org/bioconductor/trunk/madman/Rpacks/openCyto
Last Changed Rev: 109945 / Revision: 109948
Last Changed Date: 2015-10-26 18:00:01 -0400 (Mon, 26 Oct 2015)
linux2.bioconductor.org Linux (Ubuntu 14.04.2 LTS) / x86_64  OK [ OK ] OK YES, new version is higher than in internal repository
windows2.bioconductor.org Windows Server 2012 R2 Enterprise SP1 (64-bit) / x64  OK  OK  OK  OK YES, new version is higher than in internal repository

Summary

Package: openCyto
Version: 1.9.2
Command: /home/biocbuild/bbs-3.3-bioc/R/bin/R CMD build --keep-empty-dirs --no-resave-data openCyto
StartedAt: 2015-10-26 23:48:38 -0400 (Mon, 26 Oct 2015)
EndedAt: 2015-10-26 23:49:57 -0400 (Mon, 26 Oct 2015)
EllapsedTime: 78.6 seconds
RetCode: 0
Status:  OK 
PackageFile: openCyto_1.9.2.tar.gz
PackageFileSize: 394.2 KiB

Command output

##############################################################################
##############################################################################
###
### Running command:
###
###   /home/biocbuild/bbs-3.3-bioc/R/bin/R CMD build --keep-empty-dirs --no-resave-data openCyto
###
##############################################################################
##############################################################################


* checking for file ‘openCyto/DESCRIPTION’ ... OK
* preparing ‘openCyto’:
* checking DESCRIPTION meta-information ... OK
* cleaning src
* installing the package to build vignettes
* creating vignettes ... OK
* cleaning src
* checking for LF line-endings in source and make files
* checking for empty or unneeded directories
WARNING: directory ‘openCyto/example’ is empty
* building ‘openCyto_1.9.2.tar.gz’