Back to the "Multiple platform build/check report" A  B  C  D  E  F  G  H  I  J  K  L  M  N [O] P  Q  R  S  T  U  V  W  X  Y  Z 

BioC 3.3: CHECK report for oligoClasses on morelia

This page was generated on 2015-10-22 17:52:17 -0400 (Thu, 22 Oct 2015).

Package 722/1104HostnameOS / ArchINSTALLBUILDCHECKBUILD BIN
oligoClasses 1.33.0
Benilton Carvalho and Robert Scharpf
Snapshot Date: 2015-10-21 20:20:05 -0400 (Wed, 21 Oct 2015)
URL: https://hedgehog.fhcrc.org/bioconductor/trunk/madman/Rpacks/oligoClasses
Last Changed Rev: 109592 / Revision: 109826
Last Changed Date: 2015-10-13 15:59:53 -0400 (Tue, 13 Oct 2015)
linux2.bioconductor.org Linux (Ubuntu 14.04.2 LTS) / x86_64  OK  OK  OK UNNEEDED, same version exists in internal repository
windows2.bioconductor.org Windows Server 2012 R2 Enterprise SP1 (64-bit) / x64  OK  OK  OK  OK UNNEEDED, same version exists in internal repository
morelia Mac OS X Mavericks (10.9.5) / x86_64  OK  OK [ OK ] OK UNNEEDED, same version exists in internal repository

Summary

Package: oligoClasses
Version: 1.33.0
Command: /Library/Frameworks/R.framework/Versions/Current/Resources/bin/R CMD check --no-vignettes --timings oligoClasses_1.33.0.tar.gz
StartedAt: 2015-10-22 09:08:56 -0400 (Thu, 22 Oct 2015)
EndedAt: 2015-10-22 09:11:29 -0400 (Thu, 22 Oct 2015)
EllapsedTime: 153.4 seconds
RetCode: 0
Status:  OK 
CheckDir: oligoClasses.Rcheck
Warnings: 0

Command output

##############################################################################
##############################################################################
###
### Running command:
###
###   /Library/Frameworks/R.framework/Versions/Current/Resources/bin/R CMD check --no-vignettes --timings oligoClasses_1.33.0.tar.gz
###
##############################################################################
##############################################################################


* using log directory ‘/Users/biocbuild/bbs-3.3-bioc/meat/oligoClasses.Rcheck’
* using R Under development (unstable) (2015-10-08 r69496)
* using platform: x86_64-apple-darwin13.4.0 (64-bit)
* using session charset: UTF-8
* using option ‘--no-vignettes’
* checking for file ‘oligoClasses/DESCRIPTION’ ... OK
* this is package ‘oligoClasses’ version ‘1.33.0’
* checking package namespace information ... OK
* checking package dependencies ... NOTE
Package which this enhances but not available for checking: ‘doRedis’
* checking if this is a source package ... OK
* checking if there is a namespace ... OK
* checking for hidden files and directories ... OK
* checking for portable file names ... OK
* checking for sufficient/correct file permissions ... OK
* checking whether package ‘oligoClasses’ can be installed ... [11s/11s] OK
* checking installed package size ... OK
* checking package directory ... OK
* checking DESCRIPTION meta-information ... OK
* checking top-level files ... OK
* checking for left-over files ... OK
* checking index information ... OK
* checking package subdirectories ... OK
* checking R files for non-ASCII characters ... OK
* checking R files for syntax errors ... OK
* checking whether the package can be loaded ... OK
* checking whether the package can be loaded with stated dependencies ... OK
* checking whether the package can be unloaded cleanly ... OK
* checking whether the namespace can be loaded with stated dependencies ... OK
* checking whether the namespace can be unloaded cleanly ... OK
* checking dependencies in R code ... NOTE
Unexported object imported by a ':::' call: ‘Biobase:::assayDataEnvLock’
  See the note in ?`:::` about the use of this operator.
* checking S3 generic/method consistency ... OK
* checking replacement functions ... OK
* checking foreign function calls ... OK
* checking R code for possible problems ... NOTE
getSequenceLengths: no visible binding for global variable ‘seqlengths’
chromosome,gSetList: no visible global function definition for
  ‘chromosomeList’
coerce,CNSet-CopyNumberSet: no visible global function definition for
  ‘totalCopynumber’
geometry,FeatureSet: no visible global function definition for ‘getPD’
Undefined global functions or variables:
  chromosomeList getPD seqlengths totalCopynumber
* checking Rd files ... OK
* checking Rd metadata ... OK
* checking Rd cross-references ... OK
* checking for missing documentation entries ... OK
* checking for code/documentation mismatches ... OK
* checking Rd \usage sections ... OK
* checking Rd contents ... OK
* checking for unstated dependencies in examples ... OK
* checking contents of ‘data’ directory ... OK
* checking data for non-ASCII characters ... OK
* checking data for ASCII and uncompressed saves ... OK
* checking line endings in Makefiles ... OK
* checking for GNU extensions in Makefiles ... OK
* checking files in ‘vignettes’ ... OK
* checking examples ... [13s/32s] OK
Examples with CPU or elapsed time > 5s
                               user system elapsed
GenomeAnnotatedDataFrame-class 1.08  0.205   19.43
* checking for unstated dependencies in ‘tests’ ... OK
* checking tests ...
  Running ‘doRUnit.R’ [19s/19s]
 [19s/19s] OK
* checking PDF version of manual ... OK
* DONE

Status: 3 NOTEs
See
  ‘/Users/biocbuild/bbs-3.3-bioc/meat/oligoClasses.Rcheck/00check.log’
for details.


oligoClasses.Rcheck/00install.out:

* installing *source* package ‘oligoClasses’ ...
** R
** data
** inst
** preparing package for lazy loading
Creating a generic function for ‘open’ from package ‘base’ in package ‘oligoClasses’
Creating a generic function for ‘close’ from package ‘base’ in package ‘oligoClasses’
** help
*** installing help indices
** building package indices
** installing vignettes
** testing if installed package can be loaded
* DONE (oligoClasses)

oligoClasses.Rcheck/oligoClasses-Ex.timings:

nameusersystemelapsed
AlleleSet-class0.2390.0010.241
AssayData-methods2.0740.0662.397
AssayDataList0.0010.0000.001
BeadStudioSet-class0.0390.0000.039
CNSet-class0.0370.0040.041
CopyNumberSet-class0.0330.0040.037
CopyNumberSet-methods0.1490.0430.194
FeatureSetExtensions-class0.1070.0000.107
GRanges-methods0.2970.0030.301
GenomeAnnotatedDataFrame-class 1.080 0.20519.430
GenomeAnnotatedDataFrameFrom-methods0.7800.0180.899
SnpSet-methods0.0300.0010.031
SnpSet2-class0.0270.0000.028
SnpSuperSet-class0.0510.0010.051
affyPlatforms0.0010.0000.001
batch0.0270.0000.026
celfileDate0.0150.0020.103
celfileName000
checkExists0.0040.0010.005
checkOrder0.2290.0080.237
chromosome-methods0.0010.0000.001
chromosome2integer0.0010.0000.001
clusterOpts0.0390.0020.071
data-efsExample0.0010.0010.002
data-scqsExample0.0010.0000.001
data-sfsExample0.0010.0000.001
data-sqsExample0.0010.0000.001
db0.0010.0000.001
ff_matrix0.0010.0000.001
ff_or_matrix-class0.0010.0000.001
fileConnections0.0010.0010.001
flags0.3130.0010.314
gSet-class0.0010.0000.002
gSetList-class0.0010.0000.001
genomeBuild0.0030.0000.003
geometry-methods0.1550.0060.161
getBar0.0010.0000.001
getSequenceLengths0.0920.0040.097
i2p_p2i0.0010.0000.001
integerMatrix000
is.ffmatrix0.0010.0000.002
isPackageLoaded0.0010.0000.001
kind0.1560.0060.161
largeObjects0.0020.0000.002
ldOpts0.0010.0000.001
library20.0260.0000.027
list.celfiles0.0110.0020.042
locusLevelData0.1090.0050.113
makeFeatureGRanges2.0300.0472.122
oligoSetExample0.4080.0070.415
pdPkgFromBioC000
requireAnnotation0.0000.0000.001
splitVec0.0020.0010.002