Back to the "Multiple platform build/check report" A  B  C  D  E  F  G  H  I  J  K  L  M [N] O  P  Q  R  S  T  U  V  W  X  Y  Z 

BioC 3.3: CHECK report for npGSEA on morelia

This page was generated on 2015-10-22 17:54:13 -0400 (Thu, 22 Oct 2015).

Package 713/1104HostnameOS / ArchINSTALLBUILDCHECKBUILD BIN
npGSEA 1.7.0
Jessica Larson
Snapshot Date: 2015-10-21 20:20:05 -0400 (Wed, 21 Oct 2015)
URL: https://hedgehog.fhcrc.org/bioconductor/trunk/madman/Rpacks/npGSEA
Last Changed Rev: 109592 / Revision: 109826
Last Changed Date: 2015-10-13 15:59:53 -0400 (Tue, 13 Oct 2015)
linux2.bioconductor.org Linux (Ubuntu 14.04.2 LTS) / x86_64  OK  OK  OK UNNEEDED, same version exists in internal repository
windows2.bioconductor.org Windows Server 2012 R2 Enterprise SP1 (64-bit) / x64  OK  OK  OK  OK UNNEEDED, same version exists in internal repository
morelia Mac OS X Mavericks (10.9.5) / x86_64  OK  OK [ OK ] OK UNNEEDED, same version exists in internal repository

Summary

Package: npGSEA
Version: 1.7.0
Command: /Library/Frameworks/R.framework/Versions/Current/Resources/bin/R CMD check --no-vignettes --timings npGSEA_1.7.0.tar.gz
StartedAt: 2015-10-22 09:05:51 -0400 (Thu, 22 Oct 2015)
EndedAt: 2015-10-22 09:07:09 -0400 (Thu, 22 Oct 2015)
EllapsedTime: 78.2 seconds
RetCode: 0
Status:  OK 
CheckDir: npGSEA.Rcheck
Warnings: 0

Command output

##############################################################################
##############################################################################
###
### Running command:
###
###   /Library/Frameworks/R.framework/Versions/Current/Resources/bin/R CMD check --no-vignettes --timings npGSEA_1.7.0.tar.gz
###
##############################################################################
##############################################################################


* using log directory ‘/Users/biocbuild/bbs-3.3-bioc/meat/npGSEA.Rcheck’
* using R Under development (unstable) (2015-10-08 r69496)
* using platform: x86_64-apple-darwin13.4.0 (64-bit)
* using session charset: UTF-8
* using option ‘--no-vignettes’
* checking for file ‘npGSEA/DESCRIPTION’ ... OK
* checking extension type ... Package
* this is package ‘npGSEA’ version ‘1.7.0’
* checking package namespace information ... OK
* checking package dependencies ... OK
* checking if this is a source package ... OK
* checking if there is a namespace ... OK
* checking for hidden files and directories ... OK
* checking for portable file names ... OK
* checking for sufficient/correct file permissions ... OK
* checking whether package ‘npGSEA’ can be installed ... [7s/7s] OK
* checking installed package size ... OK
* checking package directory ... OK
* checking ‘build’ directory ... OK
* checking DESCRIPTION meta-information ... OK
* checking top-level files ... OK
* checking for left-over files ... OK
* checking index information ... OK
* checking package subdirectories ... OK
* checking R files for non-ASCII characters ... OK
* checking R files for syntax errors ... OK
* checking whether the package can be loaded ... OK
* checking whether the package can be loaded with stated dependencies ... OK
* checking whether the package can be unloaded cleanly ... OK
* checking whether the namespace can be loaded with stated dependencies ... OK
* checking whether the namespace can be unloaded cleanly ... OK
* checking dependencies in R code ... OK
* checking S3 generic/method consistency ... OK
* checking replacement functions ... OK
* checking foreign function calls ... OK
* checking R code for possible problems ... OK
* checking Rd files ... OK
* checking Rd metadata ... OK
* checking Rd cross-references ... OK
* checking for missing documentation entries ... OK
* checking for code/documentation mismatches ... OK
* checking Rd \usage sections ... OK
* checking Rd contents ... OK
* checking for unstated dependencies in examples ... OK
* checking sizes of PDF files under ‘inst/doc’ ... OK
* checking installed files from ‘inst/doc’ ... OK
* checking files in ‘vignettes’ ... OK
* checking examples ... [4s/4s] OK
* checking for unstated dependencies in vignettes ... OK
* checking package vignettes in ‘inst/doc’ ... OK
* checking running R code from vignettes ... SKIPPED
* checking re-building of vignette outputs ... SKIPPED
* checking PDF version of manual ... OK
* DONE

Status: OK

npGSEA.Rcheck/00install.out:

* installing *source* package ‘npGSEA’ ...
** R
** inst
** preparing package for lazy loading
** help
*** installing help indices
** building package indices
** installing vignettes
** testing if installed package can be loaded
* DONE (npGSEA)

npGSEA.Rcheck/npGSEA-Ex.timings:

nameusersystemelapsed
DF-methods0.0190.0000.020
alphaValue-methods0.0090.0010.009
betaHats-methods0.0060.0000.007
betaStat-methods0.0060.0000.006
betaValue-methods0.0060.0010.006
chiSqStat-methods0.0100.0020.013
geneSetName-methods0.0060.0010.007
getIncidence0.0040.0010.005
npGSEA0.0060.0010.006
npGSEAPlot-methods0.0050.0010.006
npGSEAResultBeta-class0.0010.0010.001
npGSEAResultBetaCollection-class0.0010.0000.001
npGSEAResultChiSq-class0.0000.0000.001
npGSEAResultChiSqCollection-class0.0010.0000.001
npGSEAResultNorm-class0.0000.0000.001
npGSEAResultNormCollection-class0.0010.0000.000
pLeft-methods0.0060.0010.007
pRight-methods0.0080.0010.008
pTwoSided-methods0.0060.0000.005
pValues-methods0.0050.0000.006
show-methods0.0050.0010.005
sigmaSq-methods0.0060.0000.006
stat-methods0.0050.0000.006
xSet-methods0.0060.0010.006
zStat-methods0.0050.0000.006