methyAnalysis 1.13.0 Pan Du
Snapshot Date: 2015-10-26 20:20:04 -0400 (Mon, 26 Oct 2015) | URL: https://hedgehog.fhcrc.org/bioconductor/trunk/madman/Rpacks/methyAnalysis | Last Changed Rev: 109592 / Revision: 109948 | Last Changed Date: 2015-10-13 15:59:53 -0400 (Tue, 13 Oct 2015) |
| linux2.bioconductor.org | Linux (Ubuntu 14.04.2 LTS) / x86_64 | ERROR | ERROR | skipped | | |
windows2.bioconductor.org | Windows Server 2012 R2 Enterprise SP1 (64-bit) / x64 | [ ERROR ] | ERROR | skipped | skipped | |
##############################################################################
##############################################################################
###
### Running command:
###
### C:\cygwin64\bin\curl.exe -O http://linux2.bioconductor.org/BBS/3.3/bioc/src/contrib/methyAnalysis_1.13.0.tar.gz && c:\biocbld\bbs-3.3-bioc\R\bin\R.exe CMD INSTALL --merge-multiarch methyAnalysis_1.13.0.tar.gz && rm methyAnalysis_1.13.0.tar.gz
###
##############################################################################
##############################################################################
% Total % Received % Xferd Average Speed Time Time Time Current
Dload Upload Total Spent Left Speed
0 0 0 0 0 0 0 0 --:--:-- --:--:-- --:--:-- 0
100 935k 100 935k 0 0 77.2M 0 --:--:-- --:--:-- --:--:-- 114M
install for i386
* installing to library 'c:/biocbld/bbs-3.3-bioc/R/library'
* installing *source* package 'methyAnalysis' ...
** R
** data
** inst
** preparing package for lazy loading
Error : class "GIntervalTree" is not exported by 'namespace:GenomicRanges'
ERROR: lazy loading failed for package 'methyAnalysis'
* removing 'c:/biocbld/bbs-3.3-bioc/R/library/methyAnalysis'
* restoring previous 'c:/biocbld/bbs-3.3-bioc/R/library/methyAnalysis'
Warning: running command 'c:/biocbld/bbs-3.3-bioc/R/bin/i386/Rcmd.exe INSTALL methyAnalysis_1.13.0.tar.gz --no-multiarch' had status 1