Back to the "Multiple platform build/check report" A  B  C  D  E  F  G  H  I  J  K  L [M] N  O  P  Q  R  S  T  U  V  W  X  Y  Z 

BioC 3.3: CHECK report for metagenomeSeq on morelia

This page was generated on 2015-10-22 17:53:40 -0400 (Thu, 22 Oct 2015).

Package 623/1104HostnameOS / ArchINSTALLBUILDCHECKBUILD BIN
metagenomeSeq 1.13.0
Joseph N. Paulson
Snapshot Date: 2015-10-21 20:20:05 -0400 (Wed, 21 Oct 2015)
URL: https://hedgehog.fhcrc.org/bioconductor/trunk/madman/Rpacks/metagenomeSeq
Last Changed Rev: 109592 / Revision: 109826
Last Changed Date: 2015-10-13 15:59:53 -0400 (Tue, 13 Oct 2015)
linux2.bioconductor.org Linux (Ubuntu 14.04.2 LTS) / x86_64  OK  OK  OK UNNEEDED, same version exists in internal repository
windows2.bioconductor.org Windows Server 2012 R2 Enterprise SP1 (64-bit) / x64  OK  OK  OK  OK UNNEEDED, same version exists in internal repository
morelia Mac OS X Mavericks (10.9.5) / x86_64  OK  OK [ OK ] OK UNNEEDED, same version exists in internal repository

Summary

Package: metagenomeSeq
Version: 1.13.0
Command: /Library/Frameworks/R.framework/Versions/Current/Resources/bin/R CMD check --no-vignettes --timings metagenomeSeq_1.13.0.tar.gz
StartedAt: 2015-10-22 08:09:39 -0400 (Thu, 22 Oct 2015)
EndedAt: 2015-10-22 08:11:32 -0400 (Thu, 22 Oct 2015)
EllapsedTime: 112.7 seconds
RetCode: 0
Status:  OK 
CheckDir: metagenomeSeq.Rcheck
Warnings: 0

Command output

##############################################################################
##############################################################################
###
### Running command:
###
###   /Library/Frameworks/R.framework/Versions/Current/Resources/bin/R CMD check --no-vignettes --timings metagenomeSeq_1.13.0.tar.gz
###
##############################################################################
##############################################################################


* using log directory ‘/Users/biocbuild/bbs-3.3-bioc/meat/metagenomeSeq.Rcheck’
* using R Under development (unstable) (2015-10-08 r69496)
* using platform: x86_64-apple-darwin13.4.0 (64-bit)
* using session charset: UTF-8
* using option ‘--no-vignettes’
* checking for file ‘metagenomeSeq/DESCRIPTION’ ... OK
* this is package ‘metagenomeSeq’ version ‘1.13.0’
* checking package namespace information ... OK
* checking package dependencies ... OK
* checking if this is a source package ... OK
* checking if there is a namespace ... OK
* checking for hidden files and directories ... OK
* checking for portable file names ... OK
* checking for sufficient/correct file permissions ... OK
* checking whether package ‘metagenomeSeq’ can be installed ... [6s/7s] OK
* checking installed package size ... OK
* checking package directory ... OK
* checking ‘build’ directory ... OK
* checking DESCRIPTION meta-information ... OK
* checking top-level files ... OK
* checking for left-over files ... OK
* checking index information ... OK
* checking package subdirectories ... OK
* checking R files for non-ASCII characters ... OK
* checking R files for syntax errors ... OK
* checking whether the package can be loaded ... OK
* checking whether the package can be loaded with stated dependencies ... OK
* checking whether the package can be unloaded cleanly ... OK
* checking whether the namespace can be loaded with stated dependencies ... OK
* checking whether the namespace can be unloaded cleanly ... OK
* checking dependencies in R code ... NOTE
'library' or 'require' call to ‘biom’ in package code.
  Please use :: or requireNamespace() instead.
  See section 'Suggested packages' in the 'Writing R Extensions' manual.
* checking S3 generic/method consistency ... OK
* checking replacement functions ... OK
* checking foreign function calls ... OK
* checking R code for possible problems ... OK
* checking Rd files ... OK
* checking Rd metadata ... OK
* checking Rd cross-references ... OK
* checking for missing documentation entries ... OK
* checking for code/documentation mismatches ... OK
* checking Rd \usage sections ... OK
* checking Rd contents ... OK
* checking for unstated dependencies in examples ... OK
* checking contents of ‘data’ directory ... OK
* checking data for non-ASCII characters ... OK
* checking data for ASCII and uncompressed saves ... OK
* checking sizes of PDF files under ‘inst/doc’ ... OK
* checking installed files from ‘inst/doc’ ... OK
* checking files in ‘vignettes’ ... OK
* checking examples ... [25s/33s] OK
* checking for unstated dependencies in ‘tests’ ... OK
* checking tests ...
  Running ‘runTests.R’ [10s/10s]
 [10s/10s] OK
* checking for unstated dependencies in vignettes ... OK
* checking package vignettes in ‘inst/doc’ ... OK
* checking running R code from vignettes ... SKIPPED
* checking re-building of vignette outputs ... SKIPPED
* checking PDF version of manual ... OK
* DONE

Status: 1 NOTE
See
  ‘/Users/biocbuild/bbs-3.3-bioc/meat/metagenomeSeq.Rcheck/00check.log’
for details.


metagenomeSeq.Rcheck/00install.out:

* installing *source* package ‘metagenomeSeq’ ...
** R
** data
** inst
** preparing package for lazy loading
** help
*** installing help indices
** building package indices
** installing vignettes
** testing if installed package can be loaded
* DONE (metagenomeSeq)

metagenomeSeq.Rcheck/metagenomeSeq-Ex.timings:

nameusersystemelapsed
MRcoefs1.4160.0701.509
MRcounts0.2980.0130.312
MRexperiment-class000
MRfulltable0.9980.0411.040
MRtable1.1730.0241.198
aggregateBySample0.1520.0110.163
aggregateByTaxonomy0.1430.0180.161
biom2MRexperiment0.0000.0000.001
calcNormFactors0.5560.0950.650
correctIndices0.1090.0120.120
correlationTest0.2180.0220.241
cumNorm0.4920.0860.578
cumNormMat0.7280.0940.822
cumNormStat0.9220.0530.974
cumNormStatFast0.3850.0160.402
expSummary0.1020.0100.113
exportMat000
exportStats0.0000.0010.000
filterData0.2830.0250.309
fitDO0.5720.0563.429
fitFeatureModel1.2530.0691.323
fitPA0.5130.0203.141
fitSSTimeSeries1.1190.0881.231
fitTimeSeries1.1780.0821.261
fitZig2.0380.2502.289
libSize0.3250.0170.343
load_biom0.0010.0010.000
load_meta0.0360.0000.037
load_metaQ000
load_phenoData0.0010.0000.001
newMRexperiment0.0310.0000.031
normFactors0.3750.0070.383
plotBubble0.4480.0712.865
plotClassTimeSeries0.7920.0820.874
plotCorr0.4790.0410.520
plotFeature0.1350.0120.155
plotGenus0.1370.0230.288
plotMRheatmap2.0860.0912.183
plotOTU0.1290.0100.142
plotOrd0.2080.0160.230
plotRare0.1110.0090.120
plotTimeSeries0.8030.0330.836
posteriorProbs0.0000.0000.001
returnAppropriateObj0.3350.0180.353
ssFit0.0000.0000.001
ssIntervalCandidate000
ssPerm0.0010.0000.000
ssPermAnalysis0.0010.0000.000
trapz0.0010.0000.001
uniqueFeatures0.1590.0180.177
zigControl0.0010.0000.001