lumi 2.23.0 Pan Du
Snapshot Date: 2015-10-26 20:20:04 -0400 (Mon, 26 Oct 2015) | URL: https://hedgehog.fhcrc.org/bioconductor/trunk/madman/Rpacks/lumi | Last Changed Rev: 109592 / Revision: 109948 | Last Changed Date: 2015-10-13 15:59:53 -0400 (Tue, 13 Oct 2015) |
| linux2.bioconductor.org | Linux (Ubuntu 14.04.2 LTS) / x86_64 | OK | OK | WARNINGS | | ![UNNEEDED, same version exists in internal repository UNNEEDED, same version exists in internal repository](../120px-Blue_Light_Icon.svg.png) |
windows2.bioconductor.org | Windows Server 2012 R2 Enterprise SP1 (64-bit) / x64 | OK | [ OK ] | WARNINGS | OK | ![UNNEEDED, same version exists in internal repository UNNEEDED, same version exists in internal repository](../120px-Blue_Light_Icon.svg.png) |
##############################################################################
##############################################################################
###
### Running command:
###
### chmod a+r lumi -R && c:\biocbld\bbs-3.3-bioc\R\bin\R.exe CMD build --keep-empty-dirs --no-resave-data lumi
###
##############################################################################
##############################################################################
* checking for file 'lumi/DESCRIPTION' ... OK
* preparing 'lumi':
* checking DESCRIPTION meta-information ... OK
Warning: bad markup (extra space?) at lumiMethyR.Rd:18:16
Warning: bad markup (extra space?) at lumiMethyR.Rd:19:28
Warning: bad markup (extra space?) at lumiMethyR.Rd:20:13
* installing the package to build vignettes
* creating vignettes ... OK
* excluding invalid files
Subdirectory 'R' contains invalid file names:
'affyExpresso.R.deprecated' 'affyVstRma.R.deprecated'
* checking for LF line-endings in source and make files
* checking for empty or unneeded directories
* looking to see if a 'data/datalist' file should be added
* building 'lumi_2.23.0.tar.gz'