Back to the "Multiple platform build/check report" A  B  C  D  E  F  G  H [I] J  K  L  M  N  O  P  Q  R  S  T  U  V  W  X  Y  Z 

BioC 3.3: CHECK report for imageHTS on morelia

This page was generated on 2015-10-22 17:52:47 -0400 (Thu, 22 Oct 2015).

Package 523/1104HostnameOS / ArchINSTALLBUILDCHECKBUILD BIN
imageHTS 1.21.0
Joseph Barry
Snapshot Date: 2015-10-21 20:20:05 -0400 (Wed, 21 Oct 2015)
URL: https://hedgehog.fhcrc.org/bioconductor/trunk/madman/Rpacks/imageHTS
Last Changed Rev: 109592 / Revision: 109826
Last Changed Date: 2015-10-13 15:59:53 -0400 (Tue, 13 Oct 2015)
linux2.bioconductor.org Linux (Ubuntu 14.04.2 LTS) / x86_64  OK  OK  OK UNNEEDED, same version exists in internal repository
windows2.bioconductor.org Windows Server 2012 R2 Enterprise SP1 (64-bit) / x64  OK  OK  OK  OK UNNEEDED, same version exists in internal repository
morelia Mac OS X Mavericks (10.9.5) / x86_64  OK  OK [ OK ] OK UNNEEDED, same version exists in internal repository

Summary

Package: imageHTS
Version: 1.21.0
Command: /Library/Frameworks/R.framework/Versions/Current/Resources/bin/R CMD check --no-vignettes --timings imageHTS_1.21.0.tar.gz
StartedAt: 2015-10-22 07:19:55 -0400 (Thu, 22 Oct 2015)
EndedAt: 2015-10-22 07:22:41 -0400 (Thu, 22 Oct 2015)
EllapsedTime: 166.2 seconds
RetCode: 0
Status:  OK 
CheckDir: imageHTS.Rcheck
Warnings: 0

Command output

##############################################################################
##############################################################################
###
### Running command:
###
###   /Library/Frameworks/R.framework/Versions/Current/Resources/bin/R CMD check --no-vignettes --timings imageHTS_1.21.0.tar.gz
###
##############################################################################
##############################################################################


* using log directory ‘/Users/biocbuild/bbs-3.3-bioc/meat/imageHTS.Rcheck’
* using R Under development (unstable) (2015-10-08 r69496)
* using platform: x86_64-apple-darwin13.4.0 (64-bit)
* using session charset: UTF-8
* using option ‘--no-vignettes’
* checking for file ‘imageHTS/DESCRIPTION’ ... OK
* this is package ‘imageHTS’ version ‘1.21.0’
* checking package namespace information ... OK
* checking package dependencies ... OK
* checking if this is a source package ... OK
* checking if there is a namespace ... OK
* checking for hidden files and directories ... NOTE
Found the following hidden files and directories:
  .BBSoptions
These were most likely included in error. See section ‘Package
structure’ in the ‘Writing R Extensions’ manual.
* checking for portable file names ... OK
* checking for sufficient/correct file permissions ... OK
* checking whether package ‘imageHTS’ can be installed ... [12s/12s] OK
* checking installed package size ... OK
* checking package directory ... OK
* checking ‘build’ directory ... OK
* checking DESCRIPTION meta-information ... OK
* checking top-level files ... OK
* checking for left-over files ... OK
* checking index information ... OK
* checking package subdirectories ... OK
* checking R files for non-ASCII characters ... OK
* checking R files for syntax errors ... OK
* checking whether the package can be loaded ... OK
* checking whether the package can be loaded with stated dependencies ... OK
* checking whether the package can be unloaded cleanly ... OK
* checking whether the namespace can be loaded with stated dependencies ... OK
* checking whether the namespace can be unloaded cleanly ... OK
* checking dependencies in R code ... OK
* checking S3 generic/method consistency ... OK
* checking replacement functions ... OK
* checking foreign function calls ... OK
* checking R code for possible problems ... OK
* checking Rd files ... OK
* checking Rd metadata ... OK
* checking Rd cross-references ... OK
* checking for missing documentation entries ... OK
* checking for code/documentation mismatches ... OK
* checking Rd \usage sections ... OK
* checking Rd contents ... OK
* checking for unstated dependencies in examples ... OK
* checking sizes of PDF files under ‘inst/doc’ ... OK
* checking installed files from ‘inst/doc’ ... OK
* checking files in ‘vignettes’ ... OK
* checking examples ... [51s/52s] OK
Examples with CPU or elapsed time > 5s
                  user system elapsed
extractFeatures 13.018  1.183  14.202
countObjects     7.922  0.342   8.282
* checking for unstated dependencies in vignettes ... OK
* checking package vignettes in ‘inst/doc’ ... OK
* checking running R code from vignettes ... SKIPPED
* checking re-building of vignette outputs ... SKIPPED
* checking PDF version of manual ... OK
* DONE

Status: 1 NOTE
See
  ‘/Users/biocbuild/bbs-3.3-bioc/meat/imageHTS.Rcheck/00check.log’
for details.


imageHTS.Rcheck/00install.out:

* installing *source* package ‘imageHTS’ ...
** R
** inst
** preparing package for lazy loading
** help
*** installing help indices
** building package indices
** installing vignettes
** testing if installed package can be loaded
* DONE (imageHTS)

imageHTS.Rcheck/imageHTS-Ex.timings:

nameusersystemelapsed
collectCellFeatures0.0010.0000.001
countObjects7.9220.3428.282
extractFeatures13.018 1.18314.202
fileHTS2.1380.0043.018
getImageConf1.2640.0221.286
getUnames2.6950.0042.699
getWellFeatures3.3240.0043.328
highlightSegmentation000
installCellPicker1.6540.0071.661
makeCellHTS0.0010.0000.001
parseDCF0.0020.0000.002
parseImageConf1.0730.0021.074
popCellPicker1.1410.0011.142
prw2uname0.0030.0000.003
readLearnTS000
segmentATH0.0000.0000.001
segmentWells4.2600.4864.747
segmentYeastBF2.2620.4702.733
summarizeWells0.0010.0000.001
zprime2.6260.0062.632