Back to the "Multiple platform build/check report" A  B  C  D  E  F  G [H] I  J  K  L  M  N  O  P  Q  R  S  T  U  V  W  X  Y  Z 

BioC 3.3: BUILD report for hiAnnotator on morelia

This page was generated on 2015-10-22 17:54:15 -0400 (Thu, 22 Oct 2015).

Package 490/1104HostnameOS / ArchINSTALLBUILDCHECKBUILD BIN
hiAnnotator 1.5.0
Nirav V Malani
Snapshot Date: 2015-10-21 20:20:05 -0400 (Wed, 21 Oct 2015)
URL: https://hedgehog.fhcrc.org/bioconductor/trunk/madman/Rpacks/hiAnnotator
Last Changed Rev: 109592 / Revision: 109826
Last Changed Date: 2015-10-13 15:59:53 -0400 (Tue, 13 Oct 2015)
linux2.bioconductor.org Linux (Ubuntu 14.04.2 LTS) / x86_64  OK  OK  OK UNNEEDED, same version exists in internal repository
windows2.bioconductor.org Windows Server 2012 R2 Enterprise SP1 (64-bit) / x64  OK  OK  OK  OK UNNEEDED, same version exists in internal repository
morelia Mac OS X Mavericks (10.9.5) / x86_64  OK [ OK ] OK  OK UNNEEDED, same version exists in internal repository

Summary

Package: hiAnnotator
Version: 1.5.0
Command: /Library/Frameworks/R.framework/Versions/Current/Resources/bin/R CMD build --keep-empty-dirs --no-resave-data hiAnnotator
StartedAt: 2015-10-22 01:12:01 -0400 (Thu, 22 Oct 2015)
EndedAt: 2015-10-22 01:13:41 -0400 (Thu, 22 Oct 2015)
EllapsedTime: 100.0 seconds
RetCode: 0
Status:  OK 
PackageFile: hiAnnotator_1.5.0.tar.gz
PackageFileSize: 734.6 KiB

Command output

##############################################################################
##############################################################################
###
### Running command:
###
###   /Library/Frameworks/R.framework/Versions/Current/Resources/bin/R CMD build --keep-empty-dirs --no-resave-data hiAnnotator
###
##############################################################################
##############################################################################


* checking for file ‘hiAnnotator/DESCRIPTION’ ... OK
* preparing ‘hiAnnotator’:
* checking DESCRIPTION meta-information ... OK
* installing the package to build vignettes
* creating vignettes ... OK
* checking for LF line-endings in source and make files
* checking for empty or unneeded directories
* looking to see if a ‘data/datalist’ file should be added
* building ‘hiAnnotator_1.5.0.tar.gz’