gwascat 2.3.0 VJ Carey
Snapshot Date: 2015-10-21 20:20:05 -0400 (Wed, 21 Oct 2015) | URL: https://hedgehog.fhcrc.org/bioconductor/trunk/madman/Rpacks/gwascat | Last Changed Rev: 109592 / Revision: 109826 | Last Changed Date: 2015-10-13 15:59:53 -0400 (Tue, 13 Oct 2015) |
| linux2.bioconductor.org | Linux (Ubuntu 14.04.2 LTS) / x86_64 | OK | OK | ERROR | | |
windows2.bioconductor.org | Windows Server 2012 R2 Enterprise SP1 (64-bit) / x64 | OK | OK | ERROR | OK | |
morelia | Mac OS X Mavericks (10.9.5) / x86_64 | OK | OK | ERROR | [ OK ] | |
##############################################################################
##############################################################################
###
### Running command:
###
### rm -rf gwascat.buildbin-libdir && mkdir gwascat.buildbin-libdir && /Users/biocbuild/BBS/utils/build-universal.sh gwascat_2.3.0.tar.gz /Library/Frameworks/R.framework/Versions/Current/Resources/bin/R gwascat.buildbin-libdir
###
##############################################################################
##############################################################################
>>>>>>>
>>>>>>> INSTALLATION WITH 'R CMD INSTALL --preclean --no-multiarch --library=gwascat.buildbin-libdir gwascat_2.3.0.tar.gz'
>>>>>>>
* installing *source* package ‘gwascat’ ...
** R
** data
** inst
** preparing package for lazy loading
Now getting the GODb Object directly
Now getting the OrgDb Object directly
Now getting the TxDb Object directly
** help
*** installing help indices
** building package indices
** installing vignettes
** testing if installed package can be loaded
Now getting the GODb Object directly
Now getting the OrgDb Object directly
Now getting the TxDb Object directly
* DONE (gwascat)