Back to the "Multiple platform build/check report" A  B  C  D  E  F [G] H  I  J  K  L  M  N  O  P  Q  R  S  T  U  V  W  X  Y  Z 

BioC 3.3: CHECK report for graph on linux2.bioconductor.org

This page was generated on 2015-10-27 12:11:21 -0400 (Tue, 27 Oct 2015).

Package 461/1104HostnameOS / ArchINSTALLBUILDCHECKBUILD BIN
graph 1.49.1
Bioconductor Package Maintainer
Snapshot Date: 2015-10-26 20:20:04 -0400 (Mon, 26 Oct 2015)
URL: https://hedgehog.fhcrc.org/bioconductor/trunk/madman/Rpacks/graph
Last Changed Rev: 109682 / Revision: 109948
Last Changed Date: 2015-10-16 08:13:33 -0400 (Fri, 16 Oct 2015)
linux2.bioconductor.org Linux (Ubuntu 14.04.2 LTS) / x86_64  OK  OK [ OK ]UNNEEDED, same version exists in internal repository
windows2.bioconductor.org Windows Server 2012 R2 Enterprise SP1 (64-bit) / x64  OK  OK  OK  OK UNNEEDED, same version exists in internal repository

Summary

Package: graph
Version: 1.49.1
Command: /home/biocbuild/bbs-3.3-bioc/R/bin/R CMD check --no-vignettes --timings graph_1.49.1.tar.gz
StartedAt: 2015-10-27 04:34:31 -0400 (Tue, 27 Oct 2015)
EndedAt: 2015-10-27 04:35:28 -0400 (Tue, 27 Oct 2015)
EllapsedTime: 57.6 seconds
RetCode: 0
Status:  OK 
CheckDir: graph.Rcheck
Warnings: 0

Command output

##############################################################################
##############################################################################
###
### Running command:
###
###   /home/biocbuild/bbs-3.3-bioc/R/bin/R CMD check --no-vignettes --timings graph_1.49.1.tar.gz
###
##############################################################################
##############################################################################


* using log directory ‘/home/biocbuild/bbs-3.3-bioc/meat/graph.Rcheck’
* using R Under development (unstable) (2015-09-09 r69333)
* using platform: x86_64-pc-linux-gnu (64-bit)
* using session charset: UTF-8
* using option ‘--no-vignettes’
* checking for file ‘graph/DESCRIPTION’ ... OK
* this is package ‘graph’ version ‘1.49.1’
* checking package namespace information ... OK
* checking package dependencies ... OK
* checking if this is a source package ... OK
* checking if there is a namespace ... OK
* checking for hidden files and directories ... OK
* checking for portable file names ... OK
* checking for sufficient/correct file permissions ... OK
* checking whether package ‘graph’ can be installed ... [3s/3s] OK
* checking installed package size ... OK
* checking package directory ... OK
* checking ‘build’ directory ... OK
* checking DESCRIPTION meta-information ... OK
* checking top-level files ... OK
* checking for left-over files ... OK
* checking index information ... OK
* checking package subdirectories ... OK
* checking R files for non-ASCII characters ... OK
* checking R files for syntax errors ... OK
* checking whether the package can be loaded ... OK
* checking whether the package can be loaded with stated dependencies ... OK
* checking whether the package can be unloaded cleanly ... OK
* checking whether the namespace can be loaded with stated dependencies ... OK
* checking whether the namespace can be unloaded cleanly ... OK
* checking dependencies in R code ... NOTE
'library' or 'require' call to ‘package’ in package code.
  Please use :: or requireNamespace() instead.
  See section 'Suggested packages' in the 'Writing R Extensions' manual.
Unexported object imported by a ':::' call: ‘BiocGenerics:::testPackage’
  See the note in ?`:::` about the use of this operator.
* checking S3 generic/method consistency ... OK
* checking replacement functions ... OK
* checking foreign function calls ... OK
* checking R code for possible problems ... OK
* checking Rd files ... OK
* checking Rd metadata ... OK
* checking Rd cross-references ... OK
* checking for missing documentation entries ... OK
* checking for code/documentation mismatches ... OK
* checking Rd \usage sections ... OK
* checking Rd contents ... OK
* checking for unstated dependencies in examples ... OK
* checking contents of ‘data’ directory ... OK
* checking data for non-ASCII characters ... OK
* checking data for ASCII and uncompressed saves ... OK
* checking line endings in C/C++/Fortran sources/headers ... OK
* checking line endings in Makefiles ... OK
* checking compilation flags in Makevars ... OK
* checking for GNU extensions in Makefiles ... OK
* checking for portable use of $(BLAS_LIBS) and $(LAPACK_LIBS) ... OK
* checking compiled code ... OK
* checking installed files from ‘inst/doc’ ... OK
* checking files in ‘vignettes’ ... OK
* checking examples ... [2s/2s] OK
* checking for unstated dependencies in ‘tests’ ... OK
* checking tests ...
  Running ‘graph_unit_tests.R’ [15s/15s]
 [15s/15s] OK
* checking for unstated dependencies in vignettes ... OK
* checking package vignettes in ‘inst/doc’ ... OK
* checking running R code from vignettes ... SKIPPED
* checking re-building of vignette outputs ... SKIPPED
* checking PDF version of manual ... OK
* DONE

Status: 1 NOTE
See
  ‘/home/biocbuild/bbs-3.3-bioc/meat/graph.Rcheck/00check.log’
for details.


graph.Rcheck/00install.out:

* installing *source* package ‘graph’ ...
** libs
gcc -std=gnu99 -I/home/biocbuild/bbs-3.3-bioc/R/include -DNDEBUG  -I/usr/local/include    -fpic  -g -O2  -c graph.c -o graph.o
gcc -std=gnu99 -shared -L/home/biocbuild/bbs-3.3-bioc/R/lib -L/usr/local/lib -o graph.so graph.o -L/home/biocbuild/bbs-3.3-bioc/R/lib -lR
mv graph.so BioC_graph.so
installing to /home/biocbuild/bbs-3.3-bioc/meat/graph.Rcheck/graph/libs
** R
** data
** inst
** preparing package for lazy loading
** help
*** installing help indices
** building package indices
** installing vignettes
** testing if installed package can be loaded
* DONE (graph)

graph.Rcheck/graph-Ex.timings:

nameusersystemelapsed
DFS0.0330.0000.033
IMCA0.1830.0000.183
MAPKsig0.1540.0030.158
MultiGraph-class0.0830.0040.087
acc-methods0.0130.0000.013
addEdge0.0090.0000.009
addNode0.0090.0000.009
adj-methods0.0050.0000.005
adjacencyMatrix0.0040.0000.004
apoptosisGraph0.0150.0030.019
attrData-class0.0030.0000.003
aveNumEdges0.0130.0000.013
biocRepos0.0020.0000.002
boundary0.0070.0000.007
calcProb0.0010.0000.001
calcSumProb0.0070.0000.007
clearNode0.010.000.01
clusterGraph-class0.0040.0000.004
clusteringCoefficient-methods0.0090.0000.009
combineNodes0.0320.0000.032
distGraph-class0.0000.0000.002
duplicatedEdges0.0010.0010.000
edgeMatrix0.0140.0000.014
edgeSets0.0510.0000.051
edgeWeights0.0080.0000.008
fromGXL-methods0.3220.0000.322
graph-class0.0090.0000.009
graph2SparseM0.1090.0040.114
graphAM-class0.0140.0000.014
graphBAM-class0.0430.0000.043
graphExamples0.0060.0000.006
graphNEL-class0.0050.0000.005
inEdges0.0030.0000.003
leaves0.0140.0000.014
listEdges0.0080.0000.008
matrix2Graph0.0180.0000.018
mostEdges0.010.000.01
numNoEdges0.0040.0000.004
pancrCaIni0.0580.0040.063
randomEGraph0.0040.0000.004
randomGraph0.0040.0000.004
randomNodeGraph0.0020.0000.002
removeEdge0.0050.0000.005
removeNode0.0020.0000.002
renderInfo-class0.0060.0000.006
reverseEdgeDirections0.0030.0000.003
simpleEdge-class0.0010.0000.001
standardLabeling0.0540.0000.054
subGraph0.0010.0000.001
toDotR-methods0.0870.0000.087
ugraph0.0040.0000.004
validGraph0.0010.0000.001