Back to the "Multiple platform build/check report" A  B  C  D  E  F [G] H  I  J  K  L  M  N  O  P  Q  R  S  T  U  V  W  X  Y  Z 

BioC 3.3: BUILD report for genefilter on morelia

This page was generated on 2015-10-22 17:51:44 -0400 (Thu, 22 Oct 2015).

Package 399/1104HostnameOS / ArchINSTALLBUILDCHECKBUILD BIN
genefilter 1.53.0
Bioconductor Package Maintainer
Snapshot Date: 2015-10-21 20:20:05 -0400 (Wed, 21 Oct 2015)
URL: https://hedgehog.fhcrc.org/bioconductor/trunk/madman/Rpacks/genefilter
Last Changed Rev: 109592 / Revision: 109826
Last Changed Date: 2015-10-13 15:59:53 -0400 (Tue, 13 Oct 2015)
linux2.bioconductor.org Linux (Ubuntu 14.04.2 LTS) / x86_64  OK  OK  OK UNNEEDED, same version exists in internal repository
windows2.bioconductor.org Windows Server 2012 R2 Enterprise SP1 (64-bit) / x64  OK  OK  OK  OK UNNEEDED, same version exists in internal repository
morelia Mac OS X Mavericks (10.9.5) / x86_64  OK [ OK ] WARNINGS  OK UNNEEDED, same version exists in internal repository

Summary

Package: genefilter
Version: 1.53.0
Command: /Library/Frameworks/R.framework/Versions/Current/Resources/bin/R CMD build --keep-empty-dirs --no-resave-data genefilter
StartedAt: 2015-10-21 21:38:00 -0400 (Wed, 21 Oct 2015)
EndedAt: 2015-10-21 21:39:47 -0400 (Wed, 21 Oct 2015)
EllapsedTime: 107.0 seconds
RetCode: 0
Status:  OK 
PackageFile: genefilter_1.53.0.tar.gz
PackageFileSize: 1.331 MiB

Command output

##############################################################################
##############################################################################
###
### Running command:
###
###   /Library/Frameworks/R.framework/Versions/Current/Resources/bin/R CMD build --keep-empty-dirs --no-resave-data genefilter
###
##############################################################################
##############################################################################


* checking for file ‘genefilter/DESCRIPTION’ ... OK
* preparing ‘genefilter’:
* checking DESCRIPTION meta-information ... OK
* cleaning src
* installing the package to build vignettes
* creating vignettes ... OK
* cleaning src
* checking for LF line-endings in source and make files
* checking for empty or unneeded directories
* looking to see if a ‘data/datalist’ file should be added
* building ‘genefilter_1.53.0.tar.gz’