Back to the "Multiple platform build/check report" A  B  C  D  E  F [G] H  I  J  K  L  M  N  O  P  Q  R  S  T  U  V  W  X  Y  Z 

BioC 3.3: CHECK report for gCMAP on morelia

This page was generated on 2015-10-22 17:53:27 -0400 (Thu, 22 Oct 2015).

Package 389/1104HostnameOS / ArchINSTALLBUILDCHECKBUILD BIN
gCMAP 1.15.0
Thomas Sandmann
Snapshot Date: 2015-10-21 20:20:05 -0400 (Wed, 21 Oct 2015)
URL: https://hedgehog.fhcrc.org/bioconductor/trunk/madman/Rpacks/gCMAP
Last Changed Rev: 109592 / Revision: 109826
Last Changed Date: 2015-10-13 15:59:53 -0400 (Tue, 13 Oct 2015)
linux2.bioconductor.org Linux (Ubuntu 14.04.2 LTS) / x86_64  OK  OK  OK UNNEEDED, same version exists in internal repository
windows2.bioconductor.org Windows Server 2012 R2 Enterprise SP1 (64-bit) / x64  OK  OK  OK  OK UNNEEDED, same version exists in internal repository
morelia Mac OS X Mavericks (10.9.5) / x86_64  OK  OK [ OK ] OK UNNEEDED, same version exists in internal repository

Summary

Package: gCMAP
Version: 1.15.0
Command: /Library/Frameworks/R.framework/Versions/Current/Resources/bin/R CMD check --no-vignettes --timings gCMAP_1.15.0.tar.gz
StartedAt: 2015-10-22 06:13:57 -0400 (Thu, 22 Oct 2015)
EndedAt: 2015-10-22 06:17:22 -0400 (Thu, 22 Oct 2015)
EllapsedTime: 205.1 seconds
RetCode: 0
Status:  OK 
CheckDir: gCMAP.Rcheck
Warnings: 0

Command output

##############################################################################
##############################################################################
###
### Running command:
###
###   /Library/Frameworks/R.framework/Versions/Current/Resources/bin/R CMD check --no-vignettes --timings gCMAP_1.15.0.tar.gz
###
##############################################################################
##############################################################################


* using log directory ‘/Users/biocbuild/bbs-3.3-bioc/meat/gCMAP.Rcheck’
* using R Under development (unstable) (2015-10-08 r69496)
* using platform: x86_64-apple-darwin13.4.0 (64-bit)
* using session charset: UTF-8
* using option ‘--no-vignettes’
* checking for file ‘gCMAP/DESCRIPTION’ ... OK
* checking extension type ... Package
* this is package ‘gCMAP’ version ‘1.15.0’
* checking package namespace information ... OK
* checking package dependencies ... NOTE
Package which this enhances but not available for checking: ‘bigmemoryExtras’
* checking if this is a source package ... OK
* checking if there is a namespace ... OK
* checking for hidden files and directories ... OK
* checking for portable file names ... OK
* checking for sufficient/correct file permissions ... OK
* checking whether package ‘gCMAP’ can be installed ... [18s/19s] OK
* checking installed package size ... OK
* checking package directory ... OK
* checking ‘build’ directory ... OK
* checking DESCRIPTION meta-information ... OK
* checking top-level files ... OK
* checking for left-over files ... OK
* checking index information ... OK
* checking package subdirectories ... OK
* checking R files for non-ASCII characters ... OK
* checking R files for syntax errors ... OK
* checking whether the package can be loaded ... OK
* checking whether the package can be loaded with stated dependencies ... OK
* checking whether the package can be unloaded cleanly ... OK
* checking whether the namespace can be loaded with stated dependencies ... OK
* checking whether the namespace can be unloaded cleanly ... OK
* checking dependencies in R code ... NOTE
'library' or 'require' calls in package code:
  ‘GO.db’ ‘KEGG.db’ ‘bigmemoryExtras’
  Please use :: or requireNamespace() instead.
  See section 'Suggested packages' in the 'Writing R Extensions' manual.
* checking S3 generic/method consistency ... OK
* checking replacement functions ... OK
* checking foreign function calls ... OK
* checking R code for possible problems ... NOTE
camera_score,eSet-CMAPCollection: no visible global function definition
  for ‘camera’
induceCMAPCollection,eSet : <anonymous>: no visible global function
  definition for ‘mwhich’
mroast_score,eSet-CMAPCollection: no visible global function definition
  for ‘mroast’
romer_score,eSet-CMAPCollection: no visible global function definition
  for ‘romer’
Undefined global functions or variables:
  camera mroast mwhich romer
* checking Rd files ... OK
* checking Rd metadata ... OK
* checking Rd cross-references ... OK
* checking for missing documentation entries ... OK
* checking for code/documentation mismatches ... OK
* checking Rd \usage sections ... OK
* checking Rd contents ... OK
* checking for unstated dependencies in examples ... OK
* checking contents of ‘data’ directory ... OK
* checking data for non-ASCII characters ... OK
* checking data for ASCII and uncompressed saves ... OK
* checking sizes of PDF files under ‘inst/doc’ ... OK
* checking installed files from ‘inst/doc’ ... OK
* checking files in ‘vignettes’ ... OK
* checking examples ... [44s/49s] OK
Examples with CPU or elapsed time > 5s
                      user system elapsed
mgsa_score-methods  12.493  0.332  24.360
romer_score-methods  5.381  0.740   5.228
* checking for unstated dependencies in ‘tests’ ... OK
* checking tests ...
  Running ‘runTests.R’ [30s/26s]
 [30s/26s] OK
* checking for unstated dependencies in vignettes ... OK
* checking package vignettes in ‘inst/doc’ ... OK
* checking running R code from vignettes ... SKIPPED
* checking re-building of vignette outputs ... SKIPPED
* checking PDF version of manual ... OK
* DONE

Status: 3 NOTEs
See
  ‘/Users/biocbuild/bbs-3.3-bioc/meat/gCMAP.Rcheck/00check.log’
for details.


gCMAP.Rcheck/00install.out:

* installing *source* package ‘gCMAP’ ...
** R
** data
** inst
** byte-compile and prepare package for lazy loading
** help
*** installing help indices
** building package indices
** installing vignettes
** testing if installed package can be loaded
* DONE (gCMAP)

gCMAP.Rcheck/gCMAP-Ex.timings:

nameusersystemelapsed
CMAPCollection-class0.8500.3010.857
CMAPResults-class1.9180.0771.996
KEGG2cmap000
SignedGeneSet-class0.0660.0000.066
annotate_eset_list0.0980.0060.149
camera_score-methods0.5750.1770.758
center_eSet0.0240.0020.026
connectivity_score-methods1.0500.5340.774
eSetOnDisk0.0090.0010.010
eset_instances0.0890.0150.104
featureScores-methods0.4330.1960.556
fisher_score-methods1.0390.4990.683
gCMAPData-dataset0.1340.0860.497
geneIndex-methods0.6220.2630.518
generate_gCMAP_NChannelSet0.1720.0210.194
gsealm_jg_score-methods1.4970.6570.786
gsealm_score-methods2.1090.1032.638
induceCMAPCollection-methods1.0320.4680.535
mapNmerge000
memorize0.0050.0000.006
mergeCMAPs0.0690.0110.080
mgsa_score-methods12.493 0.33224.360
minSetSize-methods1.0250.5320.572
mroast_score-methods0.9960.2971.250
romer_score-methods5.3810.7405.228
signedRankSumTest0.0020.0000.002
splitPerturbations0.0520.0030.056
wilcox_score-methods0.9370.4860.658