Back to the "Multiple platform build/check report" A  B  C  D [E] F  G  H  I  J  K  L  M  N  O  P  Q  R  S  T  U  V  W  X  Y  Z 

BioC 3.3: CHECK report for eisa on morelia

This page was generated on 2015-10-22 17:52:40 -0400 (Thu, 22 Oct 2015).

Package 311/1104HostnameOS / ArchINSTALLBUILDCHECKBUILD BIN
eisa 1.23.0
Gabor Csardi
Snapshot Date: 2015-10-21 20:20:05 -0400 (Wed, 21 Oct 2015)
URL: https://hedgehog.fhcrc.org/bioconductor/trunk/madman/Rpacks/eisa
Last Changed Rev: 109592 / Revision: 109826
Last Changed Date: 2015-10-13 15:59:53 -0400 (Tue, 13 Oct 2015)
linux2.bioconductor.org Linux (Ubuntu 14.04.2 LTS) / x86_64  OK  OK  OK UNNEEDED, same version exists in internal repository
windows2.bioconductor.org Windows Server 2012 R2 Enterprise SP1 (64-bit) / x64  OK  OK  OK  OK UNNEEDED, same version exists in internal repository
morelia Mac OS X Mavericks (10.9.5) / x86_64  OK  OK [ OK ] OK UNNEEDED, same version exists in internal repository

Summary

Package: eisa
Version: 1.23.0
Command: /Library/Frameworks/R.framework/Versions/Current/Resources/bin/R CMD check --no-vignettes --timings eisa_1.23.0.tar.gz
StartedAt: 2015-10-22 05:41:12 -0400 (Thu, 22 Oct 2015)
EndedAt: 2015-10-22 05:44:36 -0400 (Thu, 22 Oct 2015)
EllapsedTime: 203.7 seconds
RetCode: 0
Status:  OK 
CheckDir: eisa.Rcheck
Warnings: 0

Command output

##############################################################################
##############################################################################
###
### Running command:
###
###   /Library/Frameworks/R.framework/Versions/Current/Resources/bin/R CMD check --no-vignettes --timings eisa_1.23.0.tar.gz
###
##############################################################################
##############################################################################


* using log directory ‘/Users/biocbuild/bbs-3.3-bioc/meat/eisa.Rcheck’
* using R Under development (unstable) (2015-10-08 r69496)
* using platform: x86_64-apple-darwin13.4.0 (64-bit)
* using session charset: UTF-8
* using option ‘--no-vignettes’
* checking for file ‘eisa/DESCRIPTION’ ... OK
* this is package ‘eisa’ version ‘1.23.0’
* checking package namespace information ... OK
* checking package dependencies ... OK
* checking if this is a source package ... OK
* checking if there is a namespace ... OK
* checking for hidden files and directories ... OK
* checking for portable file names ... OK
* checking for sufficient/correct file permissions ... OK
* checking whether package ‘eisa’ can be installed ... [10s/10s] OK
* checking installed package size ... OK
* checking package directory ... OK
* checking ‘build’ directory ... OK
* checking DESCRIPTION meta-information ... OK
* checking top-level files ... OK
* checking for left-over files ... OK
* checking index information ... OK
* checking package subdirectories ... OK
* checking R files for non-ASCII characters ... OK
* checking R files for syntax errors ... OK
* checking whether the package can be loaded ... OK
* checking whether the package can be loaded with stated dependencies ... OK
* checking whether the package can be unloaded cleanly ... OK
* checking whether the namespace can be loaded with stated dependencies ... OK
* checking whether the namespace can be unloaded cleanly ... OK
* checking dependencies in R code ... NOTE
'library' or 'require' calls in package code:
  ‘GO.db’ ‘KEGG.db’ ‘MASS’ ‘biclust’ ‘igraph’ ‘xtable’
  Please use :: or requireNamespace() instead.
  See section 'Suggested packages' in the 'Writing R Extensions' manual.
Unexported objects imported by ':::' calls:
  ‘Category:::getDataEnv’ ‘Category:::getKeggToProbeMap’
  ‘Category:::probeToEntrezMapHelper’
  See the note in ?`:::` about the use of this operator.
* checking S3 generic/method consistency ... OK
* checking replacement functions ... OK
* checking foreign function calls ... OK
* checking R code for possible problems ... NOTE
ISAHTMLModules: no visible global function definition for ‘GO_dbconn’
ISAHTMLModules : go.graph: no visible global function definition for
  ‘graph.data.frame’
ISAHTMLTable: no visible global function definition for ‘GO_dbconn’
ISAHTMLTable : f: no visible binding for global variable
  ‘KEGGPATHID2NAME’
ISASweepGraph: no visible global function definition for ‘V’
ISASweepGraph: no visible global function definition for ‘V<-’
ISASweepGraph: no visible global function definition for
  ‘remove.vertex.attribute’
ISASweepGraphPlot: no visible global function definition for ‘V’
gograph: no visible binding for global variable ‘GOTERM’
gograph: no visible global function definition for ‘GO_dbconn’
gograph: no visible global function definition for ‘graph.data.frame’
gograph: no visible global function definition for ‘V’
gograph: no visible global function definition for ‘vcount’
gograph: no visible global function definition for ‘neighborhood’
gograph: no visible global function definition for ‘induced_subgraph’
gograph: no visible global function definition for ‘V<-’
gograph: no visible global function definition for ‘topological.sort’
gograph: no visible global function definition for ‘unfold.tree’
gograph: no visible global function definition for ‘E’
gograph: no visible global function definition for ‘E<-’
gograph: no visible global function definition for
  ‘layout.reingold.tilford’
gograph: no visible global function definition for ‘as_ids’
gographPlot: no visible global function definition for ‘V’
html.df: no visible global function definition for ‘xtable’
isa.autogen.module : tabulate: no visible binding for global variable
  ‘KEGGPATHID2NAME’
isa.autogen.module : gp: no visible global function definition for
  ‘graph.empty’
isa.autogen.module : ann: no visible global function definition for
  ‘vcount’
isa.autogen.module : ann: no visible global function definition for ‘V’
overlap: no visible global function definition for ‘isoMDS’
overlap: no visible global function definition for ‘graph.adjacency’
overlap: no visible global function definition for ‘V’
overlap: no visible global function definition for ‘V<-’
overlap: no visible global function definition for ‘graph.empty’
overlap: no visible global function definition for ‘E’
overlap: no visible global function definition for ‘E<-’
overlap: no visible global function definition for
  ‘layout.fruchterman.reingold’
overlap: no visible global function definition for ‘layout.drl’
overlap: no visible global function definition for ‘ecount’
overlapPlot: no visible global function definition for ‘V’
overlapPlot: no visible global function definition for ‘layout.norm’
getFeatureMatrix,ISAModules: no visible global function definition for
  ‘Matrix’
getSampleMatrix,ISAModules: no visible global function definition for
  ‘Matrix’
htmlReport,GOListHyperGResult: no visible binding for global variable
  ‘GOTERM’
htmlReport,KEGGListHyperGResult: no visible binding for global variable
  ‘KEGGPATHID2NAME’
Undefined global functions or variables:
  E E<- GOTERM GO_dbconn KEGGPATHID2NAME Matrix V V<- as_ids ecount
  graph.adjacency graph.data.frame graph.empty induced_subgraph isoMDS
  layout.drl layout.fruchterman.reingold layout.norm
  layout.reingold.tilford neighborhood remove.vertex.attribute
  topological.sort unfold.tree vcount xtable
* checking Rd files ... OK
* checking Rd metadata ... OK
* checking Rd cross-references ... OK
* checking for missing documentation entries ... OK
* checking for code/documentation mismatches ... OK
* checking Rd \usage sections ... OK
* checking Rd contents ... OK
* checking for unstated dependencies in examples ... OK
* checking contents of ‘data’ directory ... OK
* checking data for non-ASCII characters ... OK
* checking data for ASCII and uncompressed saves ... OK
* checking sizes of PDF files under ‘inst/doc’ ... OK
* checking installed files from ‘inst/doc’ ... OK
* checking files in ‘vignettes’ ... OK
* checking examples ... [73s/93s] OK
Examples with CPU or elapsed time > 5s
                         user system elapsed
ISA                    11.541  0.565  12.364
ISA.sweep               7.143  0.854   7.998
ListHyperGResult-class  5.218  0.315   5.541
ISA.GO                  4.975  0.269  12.539
gograph                 4.861  0.345  13.498
ListHyperGParams-class  4.071  0.252   6.921
* checking for unstated dependencies in vignettes ... OK
* checking package vignettes in ‘inst/doc’ ... OK
* checking running R code from vignettes ... SKIPPED
* checking re-building of vignette outputs ... SKIPPED
* checking PDF version of manual ... OK
* DONE

Status: 2 NOTEs
See
  ‘/Users/biocbuild/bbs-3.3-bioc/meat/eisa.Rcheck/00check.log’
for details.


eisa.Rcheck/00install.out:

* installing *source* package ‘eisa’ ...
** R
** data
** inst
** preparing package for lazy loading
in method for ‘coerce’ with signature ‘"Biclust","ISAModules"’: no definition for class “Biclust”
in method for ‘coerce’ with signature ‘"ISAModules","Biclust"’: no definition for class “Biclust”
** help
*** installing help indices
** building package indices
** installing vignettes
** testing if installed package can be loaded
* DONE (eisa)

eisa.Rcheck/eisa-Ex.timings:

nameusersystemelapsed
ALLModules0.1930.0020.195
ISA.CHR0.6990.0341.463
ISA.GO 4.975 0.26912.539
ISA.KEGG1.5330.0371.570
ISA11.541 0.56512.364
ISA.html0.0010.0000.018
ISA.iterate3.6420.3503.993
ISA.miRNA0.6050.0351.543
ISA.normalize2.9630.1663.128
ISA.sweep7.1430.8547.998
ISA.unique3.6750.3344.009
ISA2heatmap1.0030.0331.036
ISAExpressionSet2.5380.1722.714
ISAModules-class0.0130.0010.015
ListHyperGParams-class4.0710.2526.921
ListHyperGResult-class5.2180.3155.541
cond.plot1.4750.0851.561
eisa.biclust2.1580.4092.790
enrichment0.2510.0060.257
exp.plot1.2440.0621.306
gograph 4.861 0.34513.498
mnplot1.2770.0661.380
overlap0.0590.0150.110
profilePlot1.0550.0341.089
robustness1.6800.0771.757