Back to the "Multiple platform build/check report" A  B  C  D [E] F  G  H  I  J  K  L  M  N  O  P  Q  R  S  T  U  V  W  X  Y  Z 

BioC 3.3: CHECK report for edgeR on morelia

This page was generated on 2015-10-22 17:52:29 -0400 (Thu, 22 Oct 2015).

Package 309/1104HostnameOS / ArchINSTALLBUILDCHECKBUILD BIN
edgeR 3.13.0
Yunshun Chen , Aaron Lun , Mark Robinson , Davis McCarthy , Gordon Smyth
Snapshot Date: 2015-10-21 20:20:05 -0400 (Wed, 21 Oct 2015)
URL: https://hedgehog.fhcrc.org/bioconductor/trunk/madman/Rpacks/edgeR
Last Changed Rev: 109592 / Revision: 109826
Last Changed Date: 2015-10-13 15:59:53 -0400 (Tue, 13 Oct 2015)
linux2.bioconductor.org Linux (Ubuntu 14.04.2 LTS) / x86_64  OK  OK  OK UNNEEDED, same version exists in internal repository
windows2.bioconductor.org Windows Server 2012 R2 Enterprise SP1 (64-bit) / x64  OK  OK  OK  OK UNNEEDED, same version exists in internal repository
morelia Mac OS X Mavericks (10.9.5) / x86_64  OK  OK [ OK ] OK UNNEEDED, same version exists in internal repository

Summary

Package: edgeR
Version: 3.13.0
Command: /Library/Frameworks/R.framework/Versions/Current/Resources/bin/R CMD check --no-vignettes --timings edgeR_3.13.0.tar.gz
StartedAt: 2015-10-22 05:40:01 -0400 (Thu, 22 Oct 2015)
EndedAt: 2015-10-22 05:41:12 -0400 (Thu, 22 Oct 2015)
EllapsedTime: 71.7 seconds
RetCode: 0
Status:  OK 
CheckDir: edgeR.Rcheck
Warnings: 0

Command output

##############################################################################
##############################################################################
###
### Running command:
###
###   /Library/Frameworks/R.framework/Versions/Current/Resources/bin/R CMD check --no-vignettes --timings edgeR_3.13.0.tar.gz
###
##############################################################################
##############################################################################


* using log directory ‘/Users/biocbuild/bbs-3.3-bioc/meat/edgeR.Rcheck’
* using R Under development (unstable) (2015-10-08 r69496)
* using platform: x86_64-apple-darwin13.4.0 (64-bit)
* using session charset: UTF-8
* using option ‘--no-vignettes’
* checking for file ‘edgeR/DESCRIPTION’ ... OK
* this is package ‘edgeR’ version ‘3.13.0’
* checking package namespace information ... OK
* checking package dependencies ... OK
* checking if this is a source package ... OK
* checking if there is a namespace ... OK
* checking for hidden files and directories ... OK
* checking for portable file names ... OK
* checking for sufficient/correct file permissions ... OK
* checking whether package ‘edgeR’ can be installed ... [11s/11s] OK
* checking installed package size ... OK
* checking package directory ... OK
* checking ‘build’ directory ... OK
* checking DESCRIPTION meta-information ... OK
* checking top-level files ... OK
* checking for left-over files ... OK
* checking index information ... OK
* checking package subdirectories ... OK
* checking R files for non-ASCII characters ... OK
* checking R files for syntax errors ... OK
* checking whether the package can be loaded ... OK
* checking whether the package can be loaded with stated dependencies ... OK
* checking whether the package can be unloaded cleanly ... OK
* checking whether the namespace can be loaded with stated dependencies ... OK
* checking whether the namespace can be unloaded cleanly ... OK
* checking dependencies in R code ... OK
* checking S3 generic/method consistency ... OK
* checking replacement functions ... OK
* checking foreign function calls ... OK
* checking R code for possible problems ... OK
* checking Rd files ... OK
* checking Rd metadata ... OK
* checking Rd cross-references ... OK
* checking for missing documentation entries ... OK
* checking for code/documentation mismatches ... OK
* checking Rd \usage sections ... OK
* checking Rd contents ... OK
* checking for unstated dependencies in examples ... OK
* checking line endings in C/C++/Fortran sources/headers ... OK
* checking line endings in Makefiles ... OK
* checking compilation flags in Makevars ... OK
* checking for GNU extensions in Makefiles ... OK
* checking for portable use of $(BLAS_LIBS) and $(LAPACK_LIBS) ... OK
* checking compiled code ... OK
* checking sizes of PDF files under ‘inst/doc’ ... OK
* checking installed files from ‘inst/doc’ ... OK
* checking files in ‘vignettes’ ... OK
* checking examples ... [11s/11s] OK
Examples with CPU or elapsed time > 5s
               user system elapsed
romer.DGEList 5.772  0.118   5.949
* checking for unstated dependencies in ‘tests’ ... OK
* checking tests ...
  Running ‘edgeR-Tests.R’ [4s/4s]
  Comparing ‘edgeR-Tests.Rout’ to ‘edgeR-Tests.Rout.save’ ... OK
 [4s/4s] OK
* checking for unstated dependencies in vignettes ... OK
* checking package vignettes in ‘inst/doc’ ... OK
* checking running R code from vignettes ... SKIPPED
* checking re-building of vignette outputs ... SKIPPED
* checking PDF version of manual ... OK
* DONE

Status: OK

edgeR.Rcheck/00install.out:

* installing *source* package ‘edgeR’ ...
** libs
clang++ -I/Library/Frameworks/R.framework/Resources/include -DNDEBUG  -I/usr/local/include -I/usr/local/include/freetype2 -I/opt/X11/include    -fPIC  -Wall -mtune=core2 -g -O2  -c R_compute_nbdev.cpp -o R_compute_nbdev.o
clang++ -I/Library/Frameworks/R.framework/Resources/include -DNDEBUG  -I/usr/local/include -I/usr/local/include/freetype2 -I/opt/X11/include    -fPIC  -Wall -mtune=core2 -g -O2  -c R_cr_adjust.cpp -o R_cr_adjust.o
clang++ -I/Library/Frameworks/R.framework/Resources/include -DNDEBUG  -I/usr/local/include -I/usr/local/include/freetype2 -I/opt/X11/include    -fPIC  -Wall -mtune=core2 -g -O2  -c R_exact_test_by_deviance.cpp -o R_exact_test_by_deviance.o
clang++ -I/Library/Frameworks/R.framework/Resources/include -DNDEBUG  -I/usr/local/include -I/usr/local/include/freetype2 -I/opt/X11/include    -fPIC  -Wall -mtune=core2 -g -O2  -c R_levenberg.cpp -o R_levenberg.o
clang++ -I/Library/Frameworks/R.framework/Resources/include -DNDEBUG  -I/usr/local/include -I/usr/local/include/freetype2 -I/opt/X11/include    -fPIC  -Wall -mtune=core2 -g -O2  -c R_loess_by_col.cpp -o R_loess_by_col.o
clang++ -I/Library/Frameworks/R.framework/Resources/include -DNDEBUG  -I/usr/local/include -I/usr/local/include/freetype2 -I/opt/X11/include    -fPIC  -Wall -mtune=core2 -g -O2  -c R_maximize_interpolant.cpp -o R_maximize_interpolant.o
clang++ -I/Library/Frameworks/R.framework/Resources/include -DNDEBUG  -I/usr/local/include -I/usr/local/include/freetype2 -I/opt/X11/include    -fPIC  -Wall -mtune=core2 -g -O2  -c R_one_group.cpp -o R_one_group.o
clang -I/Library/Frameworks/R.framework/Resources/include -DNDEBUG  -I/usr/local/include -I/usr/local/include/freetype2 -I/opt/X11/include    -fPIC  -Wall -mtune=core2 -g -O2  -c R_process_hairpin_reads.c -o R_process_hairpin_reads.o
clang++ -I/Library/Frameworks/R.framework/Resources/include -DNDEBUG  -I/usr/local/include -I/usr/local/include/freetype2 -I/opt/X11/include    -fPIC  -Wall -mtune=core2 -g -O2  -c R_simple_good_turing.cpp -o R_simple_good_turing.o
clang++ -I/Library/Frameworks/R.framework/Resources/include -DNDEBUG  -I/usr/local/include -I/usr/local/include/freetype2 -I/opt/X11/include    -fPIC  -Wall -mtune=core2 -g -O2  -c adj_coxreid.cpp -o adj_coxreid.o
clang -I/Library/Frameworks/R.framework/Resources/include -DNDEBUG  -I/usr/local/include -I/usr/local/include/freetype2 -I/opt/X11/include    -fPIC  -Wall -mtune=core2 -g -O2  -c fmm_spline.c -o fmm_spline.o
clang++ -I/Library/Frameworks/R.framework/Resources/include -DNDEBUG  -I/usr/local/include -I/usr/local/include/freetype2 -I/opt/X11/include    -fPIC  -Wall -mtune=core2 -g -O2  -c glm_levenberg.cpp -o glm_levenberg.o
clang++ -I/Library/Frameworks/R.framework/Resources/include -DNDEBUG  -I/usr/local/include -I/usr/local/include/freetype2 -I/opt/X11/include    -fPIC  -Wall -mtune=core2 -g -O2  -c glm_one_group.cpp -o glm_one_group.o
clang++ -I/Library/Frameworks/R.framework/Resources/include -DNDEBUG  -I/usr/local/include -I/usr/local/include/freetype2 -I/opt/X11/include    -fPIC  -Wall -mtune=core2 -g -O2  -c init.cpp -o init.o
clang++ -I/Library/Frameworks/R.framework/Resources/include -DNDEBUG  -I/usr/local/include -I/usr/local/include/freetype2 -I/opt/X11/include    -fPIC  -Wall -mtune=core2 -g -O2  -c interpolator.cpp -o interpolator.o
clang++ -I/Library/Frameworks/R.framework/Resources/include -DNDEBUG  -I/usr/local/include -I/usr/local/include/freetype2 -I/opt/X11/include    -fPIC  -Wall -mtune=core2 -g -O2  -c matvec_check.cpp -o matvec_check.o
clang++ -I/Library/Frameworks/R.framework/Resources/include -DNDEBUG  -I/usr/local/include -I/usr/local/include/freetype2 -I/opt/X11/include    -fPIC  -Wall -mtune=core2 -g -O2  -c nbdev.cpp -o nbdev.o
clang++ -dynamiclib -Wl,-headerpad_max_install_names -undefined dynamic_lookup -single_module -multiply_defined suppress -L/Library/Frameworks/R.framework/Resources/lib -L/usr/local/lib -o edgeR.so R_compute_nbdev.o R_cr_adjust.o R_exact_test_by_deviance.o R_levenberg.o R_loess_by_col.o R_maximize_interpolant.o R_one_group.o R_process_hairpin_reads.o R_simple_good_turing.o adj_coxreid.o fmm_spline.o glm_levenberg.o glm_one_group.o init.o interpolator.o matvec_check.o nbdev.o -L/Library/Frameworks/R.framework/Resources/lib -lRlapack -L/Library/Frameworks/R.framework/Resources/lib -lRblas -L/usr/local/lib/gcc/x86_64-apple-darwin13.0.0/4.8.2 -lgfortran -lquadmath -lm -F/Library/Frameworks/R.framework/.. -framework R -Wl,-framework -Wl,CoreFoundation
installing to /Users/biocbuild/bbs-3.3-bioc/meat/edgeR.Rcheck/edgeR/libs
** R
** inst
** preparing package for lazy loading
** help
*** installing help indices
** building package indices
** installing vignettes
** testing if installed package can be loaded
* DONE (edgeR)

edgeR.Rcheck/edgeR-Ex.timings:

nameusersystemelapsed
DGEList0.0170.0010.019
WLEB0.0810.0040.085
adjustedProfileLik0.0090.0010.010
aveLogCPM0.0030.0000.004
binomTest0.0020.0000.003
calcNormFactors0.0030.0000.004
camera.DGEList0.1160.0020.119
commonCondLogLikDerDelta0.0020.0000.002
condLogLikDerSize0.0010.0000.000
cpm0.0020.0000.003
cutWithMinN0.0010.0000.002
dglmStdResid0.010.000.01
diffSpliceDGE0.0650.0020.066
dim0.0030.0000.003
dispBinTrend0.5600.0070.568
dispCoxReid0.0230.0000.023
dispCoxReidInterpolateTagwise0.0250.0000.026
dispCoxReidSplineTrend0.6750.0030.680
dropEmptyLevels0.0010.0010.002
edgeRUsersGuide0.0010.0000.001
equalizeLibSizes0.0160.0010.016
estimateCommonDisp0.0220.0000.022
estimateDisp0.2130.0010.215
estimateExonGenewisedisp0.0110.0000.011
estimateGLMCommonDisp0.0430.0010.044
estimateGLMRobustDisp0.4710.0010.472
estimateGLMTagwiseDisp0.1120.0020.114
estimateGLMTrendedDisp0.1210.0050.126
estimateTagwiseDisp000
estimateTrendedDisp0.2330.0050.238
exactTest0.0080.0010.009
expandAsMatrix0.0010.0000.001
getCounts0.0070.0000.006
getPriorN0.0010.0010.002
glmQLFTest0.3030.0050.325
glmTreat0.0160.0010.016
glmfit0.0290.0010.031
goana0.0010.0000.001
gof0.0080.0010.008
goodTuring0.0060.0000.007
loessByCol0.0020.0000.001
maPlot0.0120.0000.013
maximizeInterpolant0.0010.0000.001
maximizeQuadratic0.0010.0000.001
meanvar0.0350.0020.037
mglm0.0050.0000.005
movingAverageByCol0.0000.0010.001
nbinomDeviance0.0010.0000.001
plotBCV0.2930.0050.298
plotExonUsage0.0060.0000.006
plotMDS.DGEList0.0150.0010.016
plotQLDisp0.2800.0050.287
plotSmear0.2430.0030.247
predFC0.0100.0010.012
q2qnbinom0.0010.0000.001
readDGE000
roast.DGEList0.1140.0030.117
romer.DGEList5.7720.1185.949
spliceVariants0.0120.0000.012
splitIntoGroups0.0020.0000.002
subsetting0.0120.0010.013
sumTechReps000
systematicSubset0.0010.0000.001
thinCounts0.0010.0000.000
topTags0.0150.0010.016
validDGEList0.0010.0000.001
weightedCondLogLikDerDelta0.0020.0000.002
zscoreNBinom0.0000.0000.001