Back to the "Multiple platform build/check report" A  B [C] D  E  F  G  H  I  J  K  L  M  N  O  P  Q  R  S  T  U  V  W  X  Y  Z 

BioC 3.3: BUILD BIN report for cnvGSA on morelia

This page was generated on 2015-10-22 17:53:19 -0400 (Thu, 22 Oct 2015).

Package 200/1104HostnameOS / ArchINSTALLBUILDCHECKBUILD BIN
cnvGSA 1.15.0
Joseph Lugo
Snapshot Date: 2015-10-21 20:20:05 -0400 (Wed, 21 Oct 2015)
URL: https://hedgehog.fhcrc.org/bioconductor/trunk/madman/Rpacks/cnvGSA
Last Changed Rev: 109592 / Revision: 109826
Last Changed Date: 2015-10-13 15:59:53 -0400 (Tue, 13 Oct 2015)
linux2.bioconductor.org Linux (Ubuntu 14.04.2 LTS) / x86_64  OK  OK  OK UNNEEDED, same version exists in internal repository
windows2.bioconductor.org Windows Server 2012 R2 Enterprise SP1 (64-bit) / x64  OK  OK  OK  OK UNNEEDED, same version exists in internal repository
morelia Mac OS X Mavericks (10.9.5) / x86_64  OK  OK  OK [ OK ]UNNEEDED, same version exists in internal repository

Summary

Package: cnvGSA
Version: 1.15.0
Command: rm -rf cnvGSA.buildbin-libdir && mkdir cnvGSA.buildbin-libdir && /Users/biocbuild/BBS/utils/build-universal.sh cnvGSA_1.15.0.tar.gz /Library/Frameworks/R.framework/Versions/Current/Resources/bin/R cnvGSA.buildbin-libdir
StartedAt: 2015-10-22 13:15:38 -0400 (Thu, 22 Oct 2015)
EndedAt: 2015-10-22 13:16:00 -0400 (Thu, 22 Oct 2015)
EllapsedTime: 22.1 seconds
RetCode: 0
Status:  OK 
PackageFile: cnvGSA_1.15.0.tgz
PackageFileSize: 316 KiB

Command output

##############################################################################
##############################################################################
###
### Running command:
###
###   rm -rf cnvGSA.buildbin-libdir && mkdir cnvGSA.buildbin-libdir && /Users/biocbuild/BBS/utils/build-universal.sh cnvGSA_1.15.0.tar.gz /Library/Frameworks/R.framework/Versions/Current/Resources/bin/R cnvGSA.buildbin-libdir
###
##############################################################################
##############################################################################


>>>>>>> 
>>>>>>> INSTALLATION WITH 'R CMD INSTALL --preclean --no-multiarch --library=cnvGSA.buildbin-libdir cnvGSA_1.15.0.tar.gz'
>>>>>>> 

* installing *source* package ‘cnvGSA’ ...
** R
** inst
** preparing package for lazy loading
** help
*** installing help indices
** building package indices
** installing vignettes
** testing if installed package can be loaded
* DONE (cnvGSA)