clusterProfiler 2.5.1 Guangchuang Yu
Snapshot Date: 2015-10-26 20:20:04 -0400 (Mon, 26 Oct 2015) | URL: https://hedgehog.fhcrc.org/bioconductor/trunk/madman/Rpacks/clusterProfiler | Last Changed Rev: 109863 / Revision: 109948 | Last Changed Date: 2015-10-23 05:24:17 -0400 (Fri, 23 Oct 2015) |
| linux2.bioconductor.org | Linux (Ubuntu 14.04.2 LTS) / x86_64 | OK | OK | OK | | ![UNNEEDED, same version exists in internal repository UNNEEDED, same version exists in internal repository](../120px-Blue_Light_Icon.svg.png) |
windows2.bioconductor.org | Windows Server 2012 R2 Enterprise SP1 (64-bit) / x64 | OK | OK | OK | [ OK ] | ![UNNEEDED, same version exists in internal repository UNNEEDED, same version exists in internal repository](../120px-Blue_Light_Icon.svg.png) |
##############################################################################
##############################################################################
###
### Running command:
###
### cd clusterProfiler.buildbin-libdir/clusterProfiler && zip -r ../../clusterProfiler_2.5.1.zip . & cd ../..
###
##############################################################################
##############################################################################
adding: CITATION (188 bytes security) (deflated 58%)
adding: data/ (208 bytes security) (stored 0%)
adding: data/gcSample.rda (188 bytes security) (stored 0%)
adding: DESCRIPTION (188 bytes security) (deflated 50%)
adding: doc/ (208 bytes security) (stored 0%)
adding: doc/clusterProfiler.html (188 bytes security) (deflated 35%)
adding: doc/clusterProfiler.Rmd (188 bytes security) (deflated 65%)
adding: doc/index.html (188 bytes security) (deflated 58%)
adding: extdata/ (208 bytes security) (stored 0%)
adding: extdata/clusterProfiler.Rnw (188 bytes security) (deflated 65%)
adding: extdata/clusterProfiler_for_unsupported_organisms.pdf (188 bytes security) (deflated 1%)
adding: extdata/D39/ (208 bytes security) (stored 0%)
adding: extdata/D39/EG2ALLGO.rda (188 bytes security) (stored 0%)
adding: extdata/D39/EG2GO.rda (188 bytes security) (stored 0%)
adding: extdata/D39/geneTable.rda (188 bytes security) (stored 0%)
adding: extdata/D39/GO2ALLEG.rda (188 bytes security) (stored 0%)
adding: extdata/D39/GO2EG.rda (188 bytes security) (stored 0%)
adding: extdata/D39/proteinTable.rda (188 bytes security) (deflated 12%)
adding: extdata/for_unsupported.html (188 bytes security) (deflated 64%)
adding: extdata/M5005/ (208 bytes security) (stored 0%)
adding: extdata/M5005/EG2ALLGO.rda (188 bytes security) (stored 0%)
adding: extdata/M5005/EG2GO.rda (188 bytes security) (stored 0%)
adding: extdata/M5005/geneTable.rda (188 bytes security) (stored 0%)
adding: extdata/M5005/GO2ALLEG.rda (188 bytes security) (stored 0%)
adding: extdata/M5005/GO2EG.rda (188 bytes security) (stored 0%)
adding: extdata/NC_007297.gff (188 bytes security) (deflated 82%)
adding: extdata/rmd2pdf.R (188 bytes security) (deflated 43%)
adding: help/ (208 bytes security) (stored 0%)
adding: help/aliases.rds (188 bytes security) (stored 0%)
adding: help/AnIndex (188 bytes security) (deflated 71%)
adding: help/clusterProfiler.rdb (188 bytes security) (deflated 3%)
adding: help/clusterProfiler.rdx (188 bytes security) (stored 0%)
adding: help/paths.rds (188 bytes security) (stored 0%)
adding: html/ (208 bytes security) (stored 0%)
adding: html/00Index.html (188 bytes security) (deflated 80%)
adding: html/R.css (188 bytes security) (deflated 75%)
adding: INDEX (188 bytes security) (deflated 73%)
adding: MD5 (188 bytes security) (deflated 48%)
adding: Meta/ (208 bytes security) (stored 0%)
adding: Meta/data.rds (188 bytes security) (stored 0%)
adding: Meta/hsearch.rds (188 bytes security) (stored 0%)
adding: Meta/links.rds (188 bytes security) (stored 0%)
adding: Meta/nsInfo.rds (188 bytes security) (stored 0%)
adding: Meta/package.rds (188 bytes security) (stored 0%)
adding: Meta/Rd.rds (188 bytes security) (stored 0%)
adding: Meta/vignette.rds (188 bytes security) (stored 0%)
adding: NAMESPACE (188 bytes security) (deflated 73%)
adding: NEWS (188 bytes security) (deflated 71%)
adding: R/ (208 bytes security) (stored 0%)
adding: R/clusterProfiler (188 bytes security) (deflated 41%)
adding: R/clusterProfiler.rdb (188 bytes security) (deflated 27%)
adding: R/clusterProfiler.rdx (188 bytes security) (stored 0%)