Back to the "Multiple platform build/check report" A  B [C] D  E  F  G  H  I  J  K  L  M  N  O  P  Q  R  S  T  U  V  W  X  Y  Z 

BioC 3.3: BUILD BIN report for cleaver on windows2.bioconductor.org

This page was generated on 2015-10-27 12:15:18 -0400 (Tue, 27 Oct 2015).

Package 179/1104HostnameOS / ArchINSTALLBUILDCHECKBUILD BIN
cleaver 1.9.0
Sebastian Gibb
Snapshot Date: 2015-10-26 20:20:04 -0400 (Mon, 26 Oct 2015)
URL: https://hedgehog.fhcrc.org/bioconductor/trunk/madman/Rpacks/cleaver
Last Changed Rev: 109592 / Revision: 109948
Last Changed Date: 2015-10-13 15:59:53 -0400 (Tue, 13 Oct 2015)
linux2.bioconductor.org Linux (Ubuntu 14.04.2 LTS) / x86_64  OK  OK  OK UNNEEDED, same version exists in internal repository
windows2.bioconductor.org Windows Server 2012 R2 Enterprise SP1 (64-bit) / x64  OK  OK  OK [ OK ]UNNEEDED, same version exists in internal repository

Summary

Package: cleaver
Version: 1.9.0
Command: cd cleaver.buildbin-libdir/cleaver && zip -r ../../cleaver_1.9.0.zip . & cd ../..
StartedAt: 2015-10-27 07:24:34 -0400 (Tue, 27 Oct 2015)
EndedAt: 2015-10-27 07:24:49 -0400 (Tue, 27 Oct 2015)
EllapsedTime: 14.8 seconds
RetCode: 0
Status:  OK  
PackageFile: cleaver_1.9.0.zip
PackageFileSize: 372.1 KiB

Command output

##############################################################################
##############################################################################
###
### Running command:
###
###   cd cleaver.buildbin-libdir/cleaver && zip -r ../../cleaver_1.9.0.zip . & cd ../..
###
##############################################################################
##############################################################################


  adding: DESCRIPTION (188 bytes security) (deflated 40%)
  adding: doc/ (208 bytes security) (stored 0%)
  adding: doc/cleaver.pdf (188 bytes security) (deflated 12%)
  adding: doc/cleaver.Rnw (188 bytes security) (deflated 57%)
  adding: doc/index.html (188 bytes security) (deflated 56%)
  adding: help/ (208 bytes security) (stored 0%)
  adding: help/aliases.rds (188 bytes security) (stored 0%)
  adding: help/AnIndex (188 bytes security) (deflated 80%)
  adding: help/cleaver.rdb (188 bytes security) (deflated 3%)
  adding: help/cleaver.rdx (188 bytes security) (stored 0%)
  adding: help/paths.rds (188 bytes security) (stored 0%)
  adding: html/ (208 bytes security) (stored 0%)
  adding: html/00Index.html (188 bytes security) (deflated 69%)
  adding: html/R.css (188 bytes security) (deflated 75%)
  adding: INDEX (188 bytes security) (deflated 52%)
  adding: MD5 (188 bytes security) (deflated 42%)
  adding: Meta/ (208 bytes security) (stored 0%)
  adding: Meta/hsearch.rds (188 bytes security) (stored 0%)
  adding: Meta/links.rds (188 bytes security) (stored 0%)
  adding: Meta/nsInfo.rds (188 bytes security) (stored 0%)
  adding: Meta/package.rds (188 bytes security) (stored 0%)
  adding: Meta/Rd.rds (188 bytes security) (stored 0%)
  adding: Meta/vignette.rds (188 bytes security) (stored 0%)
  adding: NAMESPACE (188 bytes security) (deflated 55%)
  adding: NEWS (188 bytes security) (deflated 59%)
  adding: R/ (208 bytes security) (stored 0%)
  adding: R/cleaver (188 bytes security) (deflated 41%)
  adding: R/cleaver.rdb (188 bytes security) (deflated 21%)
  adding: R/cleaver.rdx (188 bytes security) (stored 0%)
  adding: tests/ (208 bytes security) (stored 0%)