Back to the "Multiple platform build/check report" A  B [C] D  E  F  G  H  I  J  K  L  M  N  O  P  Q  R  S  T  U  V  W  X  Y  Z 

BioC 3.3: BUILD report for charm on windows2.bioconductor.org

This page was generated on 2015-10-27 12:14:36 -0400 (Tue, 27 Oct 2015).

Package 159/1104HostnameOS / ArchINSTALLBUILDCHECKBUILD BIN
charm 2.17.0
Peter Murakami
Snapshot Date: 2015-10-26 20:20:04 -0400 (Mon, 26 Oct 2015)
URL: https://hedgehog.fhcrc.org/bioconductor/trunk/madman/Rpacks/charm
Last Changed Rev: 109592 / Revision: 109948
Last Changed Date: 2015-10-13 15:59:53 -0400 (Tue, 13 Oct 2015)
linux2.bioconductor.org Linux (Ubuntu 14.04.2 LTS) / x86_64  OK  OK  WARNINGS UNNEEDED, same version exists in internal repository
windows2.bioconductor.org Windows Server 2012 R2 Enterprise SP1 (64-bit) / x64  OK [ OK ] WARNINGS  OK UNNEEDED, same version exists in internal repository

Summary

Package: charm
Version: 2.17.0
Command: chmod a+r charm -R && c:\biocbld\bbs-3.3-bioc\R\bin\R.exe CMD build --keep-empty-dirs --no-resave-data charm
StartedAt: 2015-10-26 21:46:06 -0400 (Mon, 26 Oct 2015)
EndedAt: 2015-10-26 21:58:38 -0400 (Mon, 26 Oct 2015)
EllapsedTime: 752.0 seconds
RetCode: 0
Status:  OK  
PackageFile: charm_2.17.0.tar.gz
PackageFileSize: 495.2 KiB

Command output

##############################################################################
##############################################################################
###
### Running command:
###
###   chmod a+r charm -R && c:\biocbld\bbs-3.3-bioc\R\bin\R.exe CMD build --keep-empty-dirs --no-resave-data charm
###
##############################################################################
##############################################################################


* checking for file 'charm/DESCRIPTION' ... OK
* preparing 'charm':
* checking DESCRIPTION meta-information ... OK
* installing the package to build vignettes
* creating vignettes ... OK
* checking for LF line-endings in source and make files
* checking for empty or unneeded directories
* building 'charm_2.17.0.tar.gz'