cghMCR 1.29.0 J. Zhang
Snapshot Date: 2015-10-26 20:20:04 -0400 (Mon, 26 Oct 2015) | URL: https://hedgehog.fhcrc.org/bioconductor/trunk/madman/Rpacks/cghMCR | Last Changed Rev: 109592 / Revision: 109948 | Last Changed Date: 2015-10-13 15:59:53 -0400 (Tue, 13 Oct 2015) |
| linux2.bioconductor.org | Linux (Ubuntu 14.04.2 LTS) / x86_64 | OK | OK | OK | | |
windows2.bioconductor.org | Windows Server 2012 R2 Enterprise SP1 (64-bit) / x64 | OK | OK | OK | [ OK ] | |
##############################################################################
##############################################################################
###
### Running command:
###
### cd cghMCR.buildbin-libdir/cghMCR && zip -r ../../cghMCR_1.29.0.zip . & cd ../..
###
##############################################################################
##############################################################################
adding: data/ (208 bytes security) (stored 0%)
adding: data/segData.rda (188 bytes security) (deflated 0%)
adding: DESCRIPTION (188 bytes security) (deflated 31%)
adding: doc/ (208 bytes security) (stored 0%)
adding: doc/findMCR.pdf (188 bytes security) (deflated 9%)
adding: doc/findMCR.R (188 bytes security) (deflated 73%)
adding: doc/findMCR.Rnw (188 bytes security) (deflated 61%)
adding: doc/index.html (188 bytes security) (deflated 58%)
adding: help/ (208 bytes security) (stored 0%)
adding: help/aliases.rds (188 bytes security) (stored 0%)
adding: help/AnIndex (188 bytes security) (deflated 72%)
adding: help/cghMCR.rdb (188 bytes security) (deflated 0%)
adding: help/cghMCR.rdx (188 bytes security) (stored 0%)
adding: help/paths.rds (188 bytes security) (stored 0%)
adding: html/ (208 bytes security) (stored 0%)
adding: html/00Index.html (188 bytes security) (deflated 80%)
adding: html/R.css (188 bytes security) (deflated 75%)
adding: INDEX (188 bytes security) (deflated 59%)
adding: MD5 (188 bytes security) (deflated 44%)
adding: Meta/ (208 bytes security) (stored 0%)
adding: Meta/data.rds (188 bytes security) (stored 0%)
adding: Meta/hsearch.rds (188 bytes security) (stored 0%)
adding: Meta/links.rds (188 bytes security) (stored 0%)
adding: Meta/nsInfo.rds (188 bytes security) (stored 0%)
adding: Meta/package.rds (188 bytes security) (stored 0%)
adding: Meta/Rd.rds (188 bytes security) (stored 0%)
adding: Meta/vignette.rds (188 bytes security) (stored 0%)
adding: NAMESPACE (188 bytes security) (deflated 30%)
adding: R/ (208 bytes security) (stored 0%)
adding: R/cghMCR (188 bytes security) (deflated 41%)
adding: R/cghMCR.rdb (188 bytes security) (deflated 33%)
adding: R/cghMCR.rdx (188 bytes security) (stored 0%)
adding: sampleData/ (208 bytes security) (stored 0%)
adding: sampleData/TCGA-06-0881-01A-02D-0387-02-short.txt (188 bytes security) (deflated 63%)
adding: sampleData/TCGA-12-0818-01A-01D-0387-02-short.txt (188 bytes security) (deflated 63%)
adding: sampleData/TCGA-12-0827-01A-01D-0387-02-short.txt (188 bytes security) (deflated 63%)