bumphunter 1.9.3 Rafael A. Irizarry
Snapshot Date: 2015-10-21 20:20:05 -0400 (Wed, 21 Oct 2015) | URL: https://hedgehog.fhcrc.org/bioconductor/trunk/madman/Rpacks/bumphunter | Last Changed Rev: 109817 / Revision: 109826 | Last Changed Date: 2015-10-21 10:30:23 -0400 (Wed, 21 Oct 2015) |
| linux2.bioconductor.org | Linux (Ubuntu 14.04.2 LTS) / x86_64 | OK | OK | OK | | ![NO, built version is LOWER than in internal repository!!! NO, built version is LOWER than in internal repository!!!](../120px-Red_Light_Icon.svg.png) |
windows2.bioconductor.org | Windows Server 2012 R2 Enterprise SP1 (64-bit) / x64 | OK | OK | OK | OK | ![NO, built version is LOWER than in internal repository!!! NO, built version is LOWER than in internal repository!!!](../120px-Red_Light_Icon.svg.png) |
morelia | Mac OS X Mavericks (10.9.5) / x86_64 | [ OK ] | OK | OK | OK | ![NO, built version is LOWER than in internal repository!!! NO, built version is LOWER than in internal repository!!!](../120px-Red_Light_Icon.svg.png) |
##############################################################################
##############################################################################
###
### Running command:
###
### /Library/Frameworks/R.framework/Versions/Current/Resources/bin/R CMD INSTALL bumphunter
###
##############################################################################
##############################################################################
* installing to library ‘/Library/Frameworks/R.framework/Versions/3.3/Resources/library’
* installing *source* package ‘bumphunter’ ...
** R
** data
*** moving datasets to lazyload DB
** inst
** preparing package for lazy loading
** help
*** installing help indices
** building package indices
** installing vignettes
** testing if installed package can be loaded
* DONE (bumphunter)