##############################################################################
##############################################################################
###
### Running command:
###
### cd birte.buildbin-libdir/birte && zip -r ../../birte_1.7.0.zip . & cd ../..
###
##############################################################################
##############################################################################
adding: CITATION (188 bytes security) (deflated 54%)
adding: data/ (208 bytes security) (stored 0%)
adding: data/datalist (188 bytes security) (deflated 21%)
adding: data/EColiOxygen.rda (188 bytes security) (deflated 0%)
adding: data/humanNetworkSimul.rda (188 bytes security) (stored 0%)
adding: DESCRIPTION (188 bytes security) (deflated 46%)
adding: doc/ (208 bytes security) (stored 0%)
adding: doc/birte.pdf (188 bytes security) (deflated 3%)
adding: doc/birte.R (188 bytes security) (deflated 74%)
adding: doc/birte.Rnw (188 bytes security) (deflated 64%)
adding: doc/index.html (188 bytes security) (deflated 57%)
adding: help/ (208 bytes security) (stored 0%)
adding: help/aliases.rds (188 bytes security) (stored 0%)
adding: help/AnIndex (188 bytes security) (deflated 55%)
adding: help/birte.rdb (188 bytes security) (deflated 1%)
adding: help/birte.rdx (188 bytes security) (stored 0%)
adding: help/paths.rds (188 bytes security) (stored 0%)
adding: html/ (208 bytes security) (stored 0%)
adding: html/00Index.html (188 bytes security) (deflated 67%)
adding: html/R.css (188 bytes security) (deflated 75%)
adding: INDEX (188 bytes security) (deflated 61%)
adding: libs/ (208 bytes security) (stored 0%)
adding: libs/i386/ (208 bytes security) (stored 0%)
adding: libs/i386/birte.dll (188 bytes security) (deflated 63%)
adding: libs/x64/ (208 bytes security) (stored 0%)
adding: libs/x64/birte.dll (188 bytes security) (deflated 68%)
adding: MD5 (188 bytes security) (deflated 42%)
adding: Meta/ (208 bytes security) (stored 0%)
adding: Meta/data.rds (188 bytes security) (stored 0%)
adding: Meta/hsearch.rds (188 bytes security) (stored 0%)
adding: Meta/links.rds (188 bytes security) (stored 0%)
adding: Meta/nsInfo.rds (188 bytes security) (stored 0%)
adding: Meta/package.rds (188 bytes security) (stored 0%)
adding: Meta/Rd.rds (188 bytes security) (stored 0%)
adding: Meta/vignette.rds (188 bytes security) (stored 0%)
adding: NAMESPACE (188 bytes security) (deflated 42%)
adding: R/ (208 bytes security) (stored 0%)
adding: R/birte (188 bytes security) (deflated 41%)
adding: R/birte.rdb (188 bytes security) (deflated 3%)
adding: R/birte.rdx (188 bytes security) (stored 0%)