Back to the "Multiple platform build/check report" A [B] C  D  E  F  G  H  I  J  K  L  M  N  O  P  Q  R  S  T  U  V  W  X  Y  Z 

BioC 3.3: CHECK report for biovizBase on linux2.bioconductor.org

This page was generated on 2015-10-27 12:12:01 -0400 (Tue, 27 Oct 2015).

Package 111/1104HostnameOS / ArchINSTALLBUILDCHECKBUILD BIN
biovizBase 1.19.0
Tengfei Yin
Snapshot Date: 2015-10-26 20:20:04 -0400 (Mon, 26 Oct 2015)
URL: https://hedgehog.fhcrc.org/bioconductor/trunk/madman/Rpacks/biovizBase
Last Changed Rev: 109592 / Revision: 109948
Last Changed Date: 2015-10-13 15:59:53 -0400 (Tue, 13 Oct 2015)
linux2.bioconductor.org Linux (Ubuntu 14.04.2 LTS) / x86_64  OK  OK [ OK ]UNNEEDED, same version exists in internal repository
windows2.bioconductor.org Windows Server 2012 R2 Enterprise SP1 (64-bit) / x64  OK  OK  OK  OK UNNEEDED, same version exists in internal repository

Summary

Package: biovizBase
Version: 1.19.0
Command: /home/biocbuild/bbs-3.3-bioc/R/bin/R CMD check --no-vignettes --timings biovizBase_1.19.0.tar.gz
StartedAt: 2015-10-27 02:07:12 -0400 (Tue, 27 Oct 2015)
EndedAt: 2015-10-27 02:10:24 -0400 (Tue, 27 Oct 2015)
EllapsedTime: 192.8 seconds
RetCode: 0
Status:  OK 
CheckDir: biovizBase.Rcheck
Warnings: 0

Command output

##############################################################################
##############################################################################
###
### Running command:
###
###   /home/biocbuild/bbs-3.3-bioc/R/bin/R CMD check --no-vignettes --timings biovizBase_1.19.0.tar.gz
###
##############################################################################
##############################################################################


* using log directory ‘/home/biocbuild/bbs-3.3-bioc/meat/biovizBase.Rcheck’
* using R Under development (unstable) (2015-09-09 r69333)
* using platform: x86_64-pc-linux-gnu (64-bit)
* using session charset: UTF-8
* using option ‘--no-vignettes’
* checking for file ‘biovizBase/DESCRIPTION’ ... OK
* this is package ‘biovizBase’ version ‘1.19.0’
* checking package namespace information ... OK
* checking package dependencies ... OK
* checking if this is a source package ... OK
* checking if there is a namespace ... OK
* checking for hidden files and directories ... OK
* checking for portable file names ... OK
* checking for sufficient/correct file permissions ... OK
* checking whether package ‘biovizBase’ can be installed ... [16s/17s] OK
* checking installed package size ... OK
* checking package directory ... OK
* checking ‘build’ directory ... OK
* checking DESCRIPTION meta-information ... NOTE
Malformed Title field: should not end in a period.
* checking top-level files ... OK
* checking for left-over files ... OK
* checking index information ... OK
* checking package subdirectories ... OK
* checking R files for non-ASCII characters ... OK
* checking R files for syntax errors ... OK
* checking whether the package can be loaded ... OK
* checking whether the package can be loaded with stated dependencies ... OK
* checking whether the package can be unloaded cleanly ... OK
* checking whether the namespace can be loaded with stated dependencies ... OK
* checking whether the namespace can be unloaded cleanly ... OK
* checking dependencies in R code ... NOTE
'library' or 'require' calls in package code:
  ‘BSgenome’ ‘rtracklayer’
  Please use :: or requireNamespace() instead.
  See section 'Suggested packages' in the 'Writing R Extensions' manual.
* checking S3 generic/method consistency ... OK
* checking replacement functions ... OK
* checking foreign function calls ... OK
* checking R code for possible problems ... NOTE
genSymbols: no visible binding for global variable ‘start_location’
genSymbols: no visible binding for global variable ‘end_location’
genSymbols: no visible binding for global variable ‘Chromosome’
genSymbols: no visible binding for global variable ‘symbol’
transformToLinkInCircle: no visible binding for global variable
  ‘.circle.x’
transformToLinkInCircle: no visible binding for global variable
  ‘.circle.y’
transformToLinkInCircle : <anonymous>: no visible binding for global
  variable ‘from.x’
transformToLinkInCircle : <anonymous>: no visible binding for global
  variable ‘from.y’
transformToLinkInCircle : <anonymous>: no visible binding for global
  variable ‘to.x’
transformToLinkInCircle : <anonymous>: no visible binding for global
  variable ‘to.y’
mold,ExpressionSet: no visible global function definition for ‘exprs’
mold,ExpressionSet: no visible global function definition for ‘pData’
mold,RleList: no visible binding for global variable ‘xRleList’
mold,eSet: no visible global function definition for ‘phenoData’
mold,eSet: no visible global function definition for ‘melt’
mold,eSet: no visible global function definition for ‘varLabels’
Undefined global functions or variables:
  .circle.x .circle.y Chromosome end_location exprs from.x from.y melt
  pData phenoData start_location symbol to.x to.y varLabels xRleList
* checking Rd files ... OK
* checking Rd metadata ... OK
* checking Rd cross-references ... OK
* checking for missing documentation entries ... OK
* checking for code/documentation mismatches ... OK
* checking Rd \usage sections ... OK
* checking Rd contents ... OK
* checking for unstated dependencies in examples ... OK
* checking contents of ‘data’ directory ... OK
* checking data for non-ASCII characters ... OK
* checking data for ASCII and uncompressed saves ... OK
* checking line endings in C/C++/Fortran sources/headers ... OK
* checking compiled code ... OK
* checking installed files from ‘inst/doc’ ... OK
* checking files in ‘vignettes’ ... OK
* checking examples ... [28s/28s] OK
Examples with CPU or elapsed time > 5s
                user system elapsed
crunch-method 13.933  0.131  14.083
* checking for unstated dependencies in vignettes ... OK
* checking package vignettes in ‘inst/doc’ ... OK
* checking running R code from vignettes ... SKIPPED
* checking re-building of vignette outputs ... SKIPPED
* checking PDF version of manual ... OK
* DONE

Status: 3 NOTEs
See
  ‘/home/biocbuild/bbs-3.3-bioc/meat/biovizBase.Rcheck/00check.log’
for details.


biovizBase.Rcheck/00install.out:

* installing *source* package ‘biovizBase’ ...
** libs
gcc -std=gnu99 -I/home/biocbuild/bbs-3.3-bioc/R/include -DNDEBUG  -I/usr/local/include    -fpic  -g -O2  -c R_init_biovizBase.c -o R_init_biovizBase.o
gcc -std=gnu99 -I/home/biocbuild/bbs-3.3-bioc/R/include -DNDEBUG  -I/usr/local/include    -fpic  -g -O2  -c bin_offsets.c -o bin_offsets.o
gcc -std=gnu99 -shared -L/home/biocbuild/bbs-3.3-bioc/R/lib -L/usr/local/lib -o biovizBase.so R_init_biovizBase.o bin_offsets.o -L/home/biocbuild/bbs-3.3-bioc/R/lib -lR
installing to /home/biocbuild/bbs-3.3-bioc/meat/biovizBase.Rcheck/biovizBase/libs
** R
** data
** inst
** preparing package for lazy loading
** help
*** installing help indices
** building package indices
** installing vignettes
** testing if installed package can be loaded
* DONE (biovizBase)

biovizBase.Rcheck/biovizBase-Ex.timings:

nameusersystemelapsed
CRC0.0080.0000.008
GCcontent0.4730.0520.526
addStepping-method0.5990.0000.600
aes-utils000
colorBlindSafePal0.0010.0000.001
containLetters0.0020.0000.002
crc1.GeRL0.0150.0000.015
crunch-method13.933 0.13114.083
darned_hg19_subset5000.0400.0040.044
flatGrl0.2190.0000.220
genesymbol0.1570.0040.161
getBioColor0.0020.0000.001
getFormalNames0.0010.0000.000
getGaps1.2010.0001.202
getIdeoGR0.2220.0000.223
getIdeogram0.0010.0000.001
hg19Ideogram0.0330.0040.037
hg19IdeogramCyto0.0310.0000.031
ideo0.0990.0080.108
ideoCyto0.1190.0000.119
isIdeogram0.0040.0000.005
isMatchedWithModel0.2640.0000.265
isSimpleIdeogram0.0240.0000.025
maxGap-method0.2010.0040.205
pileupAsGRanges0.0000.0000.001
pileupGRangesAsVariantTable0.0000.0000.001
plotColorLegend0.0020.0000.003
scale0.1520.0000.152
showColor0.0000.0000.001
shrinkageFun-method0.1480.0040.152
splitByFacets-method0.3840.0040.388
strip_formula_dots0.0010.0000.001
subsetArgsByFormals0.0010.0000.000
transform1.2660.0481.315
transformGRangesForEvenSpace0.1230.0000.124