Back to the "Multiple platform build/check report" A [B] C  D  E  F  G  H  I  J  K  L  M  N  O  P  Q  R  S  T  U  V  W  X  Y  Z 

BioC 3.3: CHECK report for beadarray on morelia

This page was generated on 2015-10-22 17:52:05 -0400 (Thu, 22 Oct 2015).

Package 79/1104HostnameOS / ArchINSTALLBUILDCHECKBUILD BIN
beadarray 2.21.0
Mark Dunning
Snapshot Date: 2015-10-21 20:20:05 -0400 (Wed, 21 Oct 2015)
URL: https://hedgehog.fhcrc.org/bioconductor/trunk/madman/Rpacks/beadarray
Last Changed Rev: 109592 / Revision: 109826
Last Changed Date: 2015-10-13 15:59:53 -0400 (Tue, 13 Oct 2015)
linux2.bioconductor.org Linux (Ubuntu 14.04.2 LTS) / x86_64  OK  OK  OK UNNEEDED, same version exists in internal repository
windows2.bioconductor.org Windows Server 2012 R2 Enterprise SP1 (64-bit) / x64  OK  OK  OK  OK UNNEEDED, same version exists in internal repository
morelia Mac OS X Mavericks (10.9.5) / x86_64  OK  OK [ OK ] OK UNNEEDED, same version exists in internal repository

Summary

Package: beadarray
Version: 2.21.0
Command: /Library/Frameworks/R.framework/Versions/Current/Resources/bin/R CMD check --no-vignettes --timings beadarray_2.21.0.tar.gz
StartedAt: 2015-10-22 03:40:26 -0400 (Thu, 22 Oct 2015)
EndedAt: 2015-10-22 03:46:42 -0400 (Thu, 22 Oct 2015)
EllapsedTime: 376.1 seconds
RetCode: 0
Status:  OK 
CheckDir: beadarray.Rcheck
Warnings: 0

Command output

##############################################################################
##############################################################################
###
### Running command:
###
###   /Library/Frameworks/R.framework/Versions/Current/Resources/bin/R CMD check --no-vignettes --timings beadarray_2.21.0.tar.gz
###
##############################################################################
##############################################################################


* using log directory ‘/Users/biocbuild/bbs-3.3-bioc/meat/beadarray.Rcheck’
* using R Under development (unstable) (2015-10-08 r69496)
* using platform: x86_64-apple-darwin13.4.0 (64-bit)
* using session charset: UTF-8
* using option ‘--no-vignettes’
* checking for file ‘beadarray/DESCRIPTION’ ... OK
* this is package ‘beadarray’ version ‘2.21.0’
* checking package namespace information ... OK
* checking package dependencies ... OK
* checking if this is a source package ... OK
* checking if there is a namespace ... OK
* checking for hidden files and directories ... OK
* checking for portable file names ... OK
* checking for sufficient/correct file permissions ... OK
* checking whether package ‘beadarray’ can be installed ... [12s/12s] OK
* checking installed package size ... OK
* checking package directory ... OK
* checking ‘build’ directory ... OK
* checking DESCRIPTION meta-information ... OK
* checking top-level files ... OK
* checking for left-over files ... OK
* checking index information ... OK
* checking package subdirectories ... OK
* checking R files for non-ASCII characters ... OK
* checking R files for syntax errors ... OK
* checking whether the package can be loaded ... OK
* checking whether the package can be loaded with stated dependencies ... OK
* checking whether the package can be unloaded cleanly ... OK
* checking whether the namespace can be loaded with stated dependencies ... OK
* checking whether the namespace can be unloaded cleanly ... OK
* checking dependencies in R code ... NOTE
'library' or 'require' calls in package code:
  ‘Nozzle.R1’ ‘affy’ ‘ggbio’ ‘hwriter’ ‘lumi’ ‘vsn’
  Please use :: or requireNamespace() instead.
  See section 'Suggested packages' in the 'Writing R Extensions' manual.
Packages in Depends field not imported from:
  ‘ggplot2’ ‘methods’
  These packages need to be imported from (in the NAMESPACE file)
  for when this namespace is loaded but not attached.
Unexported objects imported by ':::' calls:
  ‘BeadDataPackR:::combineFiles’ ‘BeadDataPackR:::readHeader’
  ‘Biobase:::assayDataStorageMode’
  See the note in ?`:::` about the use of this operator.
There are ::: calls to the package's namespace in its code. A package
  almost never needs to use ::: for its own objects:
  ‘illuminaForeground_6x6’ ‘locsIndicesToGrid’ ‘obtainLocs’
  ‘simpleXMLparse’
* checking S3 generic/method consistency ... OK
* checking replacement functions ... OK
* checking foreign function calls ... NOTE
Foreign function call to a different package:
  .Call("roundLocsFileValues", ..., PACKAGE = "BeadDataPackR")
See chapter ‘System and foreign language interfaces’ in the ‘Writing R
Extensions’ manual.
* checking R code for possible problems ... NOTE
combinedControlPlot: no visible binding for global variable ‘Control’
combinedControlPlot: no visible binding for global variable ‘Negative’
combinedControlPlot: no visible global function definition for ‘ggplot’
combinedControlPlot: no visible global function definition for ‘aes’
combinedControlPlot: no visible binding for global variable ‘ID’
combinedControlPlot: no visible binding for global variable
  ‘Log2Intensity’
combinedControlPlot: no visible binding for global variable
  ‘ControlType’
combinedControlPlot: no visible global function definition for
  ‘geom_boxplot’
combinedControlPlot: no visible global function definition for
  ‘geom_hline’
combinedControlPlot: no visible global function definition for
  ‘facet_wrap’
combinedControlPlot: no visible global function definition for
  ‘geom_point’
combinedControlPlot: no visible binding for global variable ‘Masked’
createGEOMeta: no visible binding for global variable ‘metaTemplate’
expressionQCPipeline: no visible global function definition for
  ‘ggsave’
expressionQCPipeline: no visible global function definition for
  ‘openPage’
expressionQCPipeline: no visible global function definition for
  ‘hwrite’
expressionQCPipeline: no visible global function definition for
  ‘hwriteImage’
expressionQCPipeline: no visible global function definition for
  ‘closePage’
getPlatformSigs: no visible global function definition for
  ‘lumiHumanIDMapping_dbconn’
getPlatformSigs: no visible global function definition for
  ‘dbListTables’
getPlatformSigs: no visible global function definition for
  ‘dbListFields’
getPlatformSigs: no visible global function definition for ‘dbGetQuery’
getPlatformSigs: no visible global function definition for
  ‘lumiMouseIDMapping_dbconn’
getPlatformSigs: no visible global function definition for
  ‘lumiRatIDMapping_dbconn’
imageplot: no visible global function definition for ‘ggplot’
imageplot: no visible global function definition for ‘aes’
imageplot: no visible binding for global variable ‘Var1’
imageplot: no visible binding for global variable ‘Var2’
imageplot: no visible binding for global variable ‘value’
imageplot: no visible global function definition for ‘geom_tile’
imageplot: no visible global function definition for
  ‘scale_fill_gradient’
imageplot: no visible global function definition for ‘theme’
imageplot: no visible global function definition for ‘element_blank’
makeReport: no visible global function definition for ‘newCustomReport’
makeReport: no visible global function definition for ‘newSection’
makeReport: no visible global function definition for ‘newTable’
makeReport: no visible global function definition for ‘newParagraph’
makeReport: no visible global function definition for ‘addTo’
makeReport: no visible global function definition for ‘autoplot’
makeReport: no visible global function definition for ‘plotIdeogram’
makeReport: no visible global function definition for ‘tracks’
makeReport: no visible global function definition for ‘ggsave’
makeReport: no visible global function definition for ‘newFigure’
makeReport: no visible binding for global variable ‘IMAGE.TYPE.RASTER’
makeReport: no visible binding for global variable ‘PROTECTION.PUBLIC’
makeReport: no visible global function definition for ‘ggplot’
makeReport: no visible global function definition for ‘aes’
makeReport: no visible binding for global variable ‘value’
makeReport: no visible global function definition for ‘geom_boxplot’
makeReport: no visible global function definition for ‘facet_wrap’
makeReport: no visible global function definition for ‘writeReport’
maplots: no visible global function definition for ‘ggplot’
maplots: no visible global function definition for ‘aes’
maplots: no visible binding for global variable ‘value.1’
maplots: no visible binding for global variable ‘value’
maplots: no visible global function definition for ‘stat_binhex’
maplots: no visible global function definition for ‘theme_bw’
maplots: no visible global function definition for ‘xlab’
maplots: no visible global function definition for ‘ylab’
maplots: no visible global function definition for ‘facet_wrap’
maplots: no visible global function definition for ‘theme’
maplots: no visible global function definition for ‘ggtitle’
normaliseIllumina: no visible global function definition for ‘lumiT’
normaliseIllumina: no visible global function definition for
  ‘normalize.qspline’
normaliseIllumina: no visible global function definition for ‘vsn2’
normaliseIllumina: no visible global function definition for ‘rsn’
outlierplot2: no visible global function definition for ‘geom_vline’
outlierplot2: no visible global function definition for ‘geom_hline’
plotBeadLocations2: no visible global function definition for ‘qplot’
plotBeadLocations2: no visible global function definition for ‘opts’
plotBeadLocations2: no visible global function definition for
  ‘theme_blank’
plotProbe: no visible global function definition for ‘autoplot’
plotProbe: no visible binding for global variable ‘genesymbol’
plotProbe: no visible global function definition for ‘tracks’
plotProbe: no visible global function definition for ‘aes’
plotProbe: no visible binding for global variable ‘PROBEQUALITY’
rankInvariantNormalise: no visible global function definition for
  ‘normalize.invariantset’
suggestAnnotation: no visible binding for global variable
  ‘platformSigs’
suggestAnnotation_Vector: no visible binding for global variable
  ‘platformSigs’
[,ExpressionSetIllumina-ANY: no visible global function definition for
  ‘assayDataEnvLock’
boxplot,ExpressionSetIllumina: no visible global function definition
  for ‘ggplot’
boxplot,ExpressionSetIllumina: no visible global function definition
  for ‘aes’
boxplot,ExpressionSetIllumina: no visible binding for global variable
  ‘Var2’
boxplot,ExpressionSetIllumina: no visible binding for global variable
  ‘value’
boxplot,ExpressionSetIllumina: no visible global function definition
  for ‘geom_boxplot’
boxplot,ExpressionSetIllumina: no visible global function definition
  for ‘scale_fill_discrete’
boxplot,ExpressionSetIllumina: no visible global function definition
  for ‘facet_wrap’
boxplot,ExpressionSetIllumina: no visible global function definition
  for ‘theme’
boxplot,ExpressionSetIllumina: no visible global function definition
  for ‘element_blank’
boxplot,ExpressionSetIllumina: no visible global function definition
  for ‘element_text’
boxplot,ExpressionSetIllumina: no visible global function definition
  for ‘ylab’
plot,limmaResults-ANY: no visible global function definition for
  ‘ggplot’
plot,limmaResults-ANY: no visible global function definition for ‘aes’
plot,limmaResults-ANY: no visible global function definition for
  ‘geom_point’
plot,limmaResults-ANY: no visible global function definition for
  ‘facet_wrap’
plotMA,ExpressionSetIllumina: no visible global function definition for
  ‘ggplot’
plotMA,ExpressionSetIllumina: no visible global function definition for
  ‘aes’
plotMA,ExpressionSetIllumina: no visible binding for global variable
  ‘value.1’
plotMA,ExpressionSetIllumina: no visible binding for global variable
  ‘value’
plotMA,ExpressionSetIllumina: no visible global function definition for
  ‘stat_binhex’
plotMA,ExpressionSetIllumina: no visible global function definition for
  ‘theme_bw’
plotMA,ExpressionSetIllumina: no visible global function definition for
  ‘xlab’
plotMA,ExpressionSetIllumina: no visible global function definition for
  ‘ylab’
plotMA,ExpressionSetIllumina: no visible global function definition for
  ‘facet_wrap’
plotMA,ExpressionSetIllumina: no visible global function definition for
  ‘theme’
plotMA,ExpressionSetIllumina: no visible global function definition for
  ‘ggtitle’
Undefined global functions or variables:
  Control ControlType ID IMAGE.TYPE.RASTER Log2Intensity Masked
  Negative PROBEQUALITY PROTECTION.PUBLIC Var1 Var2 addTo aes
  assayDataEnvLock autoplot closePage dbGetQuery dbListFields
  dbListTables element_blank element_text facet_wrap genesymbol
  geom_boxplot geom_hline geom_point geom_tile geom_vline ggplot ggsave
  ggtitle hwrite hwriteImage lumiHumanIDMapping_dbconn
  lumiMouseIDMapping_dbconn lumiRatIDMapping_dbconn lumiT metaTemplate
  newCustomReport newFigure newParagraph newSection newTable
  normalize.invariantset normalize.qspline openPage opts platformSigs
  plotIdeogram qplot rsn scale_fill_discrete scale_fill_gradient
  stat_binhex theme theme_blank theme_bw tracks value value.1 vsn2
  writeReport xlab ylab
* checking Rd files ... OK
* checking Rd metadata ... OK
* checking Rd cross-references ... OK
* checking for missing documentation entries ... OK
* checking for code/documentation mismatches ... OK
* checking Rd \usage sections ... OK
* checking Rd contents ... OK
* checking for unstated dependencies in examples ... OK
* checking contents of ‘data’ directory ... OK
* checking data for non-ASCII characters ... OK
* checking data for ASCII and uncompressed saves ... OK
* checking line endings in C/C++/Fortran sources/headers ... OK
* checking compiled code ... OK
* checking sizes of PDF files under ‘inst/doc’ ... OK
* checking installed files from ‘inst/doc’ ... OK
* checking files in ‘vignettes’ ... OK
* checking examples ... [271s/272s] OK
Examples with CPU or elapsed time > 5s
                           user system elapsed
squeezedVarOutlierMethod 40.548  0.468  41.019
summarize                24.632  2.266  26.900
limmaDE                  22.926  0.319  23.256
outlierplot              14.130  0.733  14.893
calculateOutlierStats    12.761  1.447  14.211
calculateDetection       11.441  0.664  12.106
maplots                   9.081  1.870  10.986
normaliseIllumina        10.340  0.535  10.942
insertSectionData         8.539  1.143   9.689
identifyControlBeads      8.733  0.293   9.033
controlProbeDetection     8.162  0.702   8.867
makeQCTable               6.900  0.780   7.680
poscontPlot               6.885  0.565   7.484
addFeatureData            7.020  0.207   7.411
showArrayMask             5.925  0.646   6.656
imageplot                 5.755  0.639   6.680
annotationInterface       5.686  0.403   6.107
quickSummary              5.445  0.478   5.923
* checking for unstated dependencies in vignettes ... OK
* checking package vignettes in ‘inst/doc’ ... OK
* checking running R code from vignettes ... SKIPPED
* checking re-building of vignette outputs ... SKIPPED
* checking PDF version of manual ... OK
* DONE

Status: 3 NOTEs
See
  ‘/Users/biocbuild/bbs-3.3-bioc/meat/beadarray.Rcheck/00check.log’
for details.


beadarray.Rcheck/00install.out:

* installing *source* package ‘beadarray’ ...
** libs
clang -I/Library/Frameworks/R.framework/Resources/include -DNDEBUG  -I/usr/local/include -I/usr/local/include/freetype2 -I/opt/X11/include    -fPIC  -Wall -mtune=core2 -g -O2  -c BASH.c -o BASH.o
clang -I/Library/Frameworks/R.framework/Resources/include -DNDEBUG  -I/usr/local/include -I/usr/local/include/freetype2 -I/opt/X11/include    -fPIC  -Wall -mtune=core2 -g -O2  -c HULK.c -o HULK.o
clang -I/Library/Frameworks/R.framework/Resources/include -DNDEBUG  -I/usr/local/include -I/usr/local/include/freetype2 -I/opt/X11/include    -fPIC  -Wall -mtune=core2 -g -O2  -c determiningGridPositions.c -o determiningGridPositions.o
clang -I/Library/Frameworks/R.framework/Resources/include -DNDEBUG  -I/usr/local/include -I/usr/local/include/freetype2 -I/opt/X11/include    -fPIC  -Wall -mtune=core2 -g -O2  -c findAllOutliers.c -o findAllOutliers.o
clang -I/Library/Frameworks/R.framework/Resources/include -DNDEBUG  -I/usr/local/include -I/usr/local/include/freetype2 -I/opt/X11/include    -fPIC  -Wall -mtune=core2 -g -O2  -c imageProcessing.c -o imageProcessing.o
clang -dynamiclib -Wl,-headerpad_max_install_names -undefined dynamic_lookup -single_module -multiply_defined suppress -L/Library/Frameworks/R.framework/Resources/lib -L/usr/local/lib -o beadarray.so BASH.o HULK.o determiningGridPositions.o findAllOutliers.o imageProcessing.o -F/Library/Frameworks/R.framework/.. -framework R -Wl,-framework -Wl,CoreFoundation
installing to /Users/biocbuild/bbs-3.3-bioc/meat/beadarray.Rcheck/beadarray/libs
** R
** data
*** moving datasets to lazyload DB
** inst
** preparing package for lazy loading
** help
*** installing help indices
** building package indices
** installing vignettes
** testing if installed package can be loaded
* DONE (beadarray)

beadarray.Rcheck/beadarray-Ex.timings:

nameusersystemelapsed
BASH0.0020.0010.003
BASHCompact0.0010.0000.001
BASHDiffuse0.0010.0000.001
BASHExtended0.0010.0000.001
GEO0.0010.0000.001
GEOtemplate0.0030.0010.004
HULK0.0010.0000.001
addFeatureData7.0200.2077.411
annotationInterface5.6860.4036.107
backgroundCorrectSingleSection0.0010.0000.000
beadarrayUsersGuide0.0020.0000.003
boxplot2.8730.1433.031
calculateDetection11.441 0.66412.106
calculateOutlierStats12.761 1.44714.211
class-beadLevelData2.1440.2562.401
class-illuminaChannel0.0030.0000.002
combine4.2340.4864.721
controlProbeDetection8.1620.7028.867
createTargetsFile0.0000.0000.001
expressionQCPipeline0.0330.0010.034
generateNeighbours000
getBeadData2.2820.2162.498
identifyControlBeads8.7330.2939.033
illuminaOutlierMethod3.2180.5143.733
imageplot5.7550.6396.680
insertBeadData2.3530.3262.681
insertSectionData8.5391.1439.689
limmaDE22.926 0.31923.256
makeControlProfile0.4540.0200.474
makeQCTable6.900.787.68
maplots 9.081 1.87010.986
medianNormalise1.6860.1131.799
metrics2.2720.1732.444
noOutlierMethod2.0270.1152.142
normaliseIllumina10.340 0.53510.942
numBeads1.9170.1152.033
outlierplot14.130 0.73314.893
plotBeadIntensities2.4750.3372.815
plotBeadLocations2.0190.2342.293
plotChipLayout0.0000.0000.001
plotMAXY0.0010.0000.000
poscontPlot6.8850.5657.484
quickSummary5.4450.4785.923
readBeadSummaryData0.0010.0000.001
sectionNames1.8590.1381.997
showArrayMask5.9250.6466.656
squeezedVarOutlierMethod40.548 0.46841.019
summarize24.632 2.26626.900
transformationFunctions2.5770.3972.975
weightsOutlierMethod0.0010.0000.000