Back to the "Multiple platform build/check report"[A] B  C  D  E  F  G  H  I  J  K  L  M  N  O  P  Q  R  S  T  U  V  W  X  Y  Z 

BioC 3.3: CHECK report for aroma.light on morelia

This page was generated on 2015-10-22 17:52:09 -0400 (Thu, 22 Oct 2015).

Package 53/1104HostnameOS / ArchINSTALLBUILDCHECKBUILD BIN
aroma.light 3.1.0
Henrik Bengtsson
Snapshot Date: 2015-10-21 20:20:05 -0400 (Wed, 21 Oct 2015)
URL: https://hedgehog.fhcrc.org/bioconductor/trunk/madman/Rpacks/aroma.light
Last Changed Rev: 109592 / Revision: 109826
Last Changed Date: 2015-10-13 15:59:53 -0400 (Tue, 13 Oct 2015)
linux2.bioconductor.org Linux (Ubuntu 14.04.2 LTS) / x86_64  OK  OK  OK UNNEEDED, same version exists in internal repository
windows2.bioconductor.org Windows Server 2012 R2 Enterprise SP1 (64-bit) / x64  OK  OK  OK  OK UNNEEDED, same version exists in internal repository
morelia Mac OS X Mavericks (10.9.5) / x86_64  OK  OK [ OK ] OK UNNEEDED, same version exists in internal repository

Summary

Package: aroma.light
Version: 3.1.0
Command: /Library/Frameworks/R.framework/Versions/Current/Resources/bin/R CMD check --no-vignettes --timings aroma.light_3.1.0.tar.gz
StartedAt: 2015-10-22 03:27:35 -0400 (Thu, 22 Oct 2015)
EndedAt: 2015-10-22 03:28:48 -0400 (Thu, 22 Oct 2015)
EllapsedTime: 72.4 seconds
RetCode: 0
Status:  OK 
CheckDir: aroma.light.Rcheck
Warnings: 0

Command output

##############################################################################
##############################################################################
###
### Running command:
###
###   /Library/Frameworks/R.framework/Versions/Current/Resources/bin/R CMD check --no-vignettes --timings aroma.light_3.1.0.tar.gz
###
##############################################################################
##############################################################################


* using log directory ‘/Users/biocbuild/bbs-3.3-bioc/meat/aroma.light.Rcheck’
* using R Under development (unstable) (2015-10-08 r69496)
* using platform: x86_64-apple-darwin13.4.0 (64-bit)
* using session charset: UTF-8
* using option ‘--no-vignettes’
* checking for file ‘aroma.light/DESCRIPTION’ ... OK
* this is package ‘aroma.light’ version ‘3.1.0’
* package encoding: latin1
* checking package namespace information ... OK
* checking package dependencies ... OK
* checking if this is a source package ... OK
* checking if there is a namespace ... OK
* checking for hidden files and directories ... NOTE
Found the following hidden files and directories:
  inst/rsp/.rspPlugins
These were most likely included in error. See section ‘Package
structure’ in the ‘Writing R Extensions’ manual.
* checking for portable file names ... OK
* checking for sufficient/correct file permissions ... OK
* checking whether package ‘aroma.light’ can be installed ... [2s/2s] OK
* checking installed package size ... OK
* checking package directory ... OK
* checking DESCRIPTION meta-information ... OK
* checking top-level files ... OK
* checking for left-over files ... OK
* checking index information ... OK
* checking package subdirectories ... OK
* checking R files for non-ASCII characters ... OK
* checking R files for syntax errors ... OK
* checking whether the package can be loaded ... OK
* checking whether the package can be loaded with stated dependencies ... OK
* checking whether the package can be unloaded cleanly ... OK
* checking whether the namespace can be loaded with stated dependencies ... OK
* checking whether the namespace can be unloaded cleanly ... OK
* checking dependencies in R code ... OK
* checking S3 generic/method consistency ... OK
* checking replacement functions ... OK
* checking foreign function calls ... OK
* checking R code for possible problems ... OK
* checking Rd files ... OK
* checking Rd metadata ... OK
* checking Rd cross-references ... OK
* checking for missing documentation entries ... OK
* checking for code/documentation mismatches ... OK
* checking Rd \usage sections ... OK
* checking Rd contents ... OK
* checking for unstated dependencies in examples ... OK
* checking examples ... [19s/19s] OK
Examples with CPU or elapsed time > 5s
                   user system elapsed
normalizeAffine   7.847  0.031   7.879
normalizeCurveFit 7.619  0.047   7.680
* checking for unstated dependencies in ‘tests’ ... OK
* checking tests ...
  Running ‘backtransformAffine.matrix.R’ [0s/0s]
  Running ‘backtransformPrincipalCurve.matrix.R’ [1s/1s]
  Running ‘callNaiveGenotypes.R’ [1s/1s]
  Running ‘distanceBetweenLines.R’ [0s/0s]
  Running ‘findPeaksAndValleys.R’ [0s/0s]
  Running ‘fitPrincipalCurve.matrix.R’ [1s/1s]
  Running ‘fitXYCurve.matrix.R’ [0s/0s]
  Running ‘iwpca.matrix.R’ [0s/0s]
  Running ‘likelihood.smooth.spline.R’ [0s/0s]
  Running ‘medianPolish.matrix.R’ [0s/0s]
  Running ‘normalizeAffine.matrix.R’ [3s/3s]
  Running ‘normalizeAverage.list.R’ [0s/0s]
  Running ‘normalizeAverage.matrix.R’ [0s/0s]
  Running ‘normalizeCurveFit.matrix.R’ [8s/8s]
  Running ‘normalizeDifferencesToAverage.R’ [0s/0s]
  Running ‘normalizeFragmentLength-ex1.R’ [1s/1s]
  Running ‘normalizeFragmentLength-ex2.R’ [1s/1s]
  Running ‘normalizeQuantileRank.list.R’ [0s/0s]
  Running ‘normalizeQuantileRank.matrix.R’ [0s/0s]
  Running ‘normalizeQuantileSpline.matrix.R’ [1s/1s]
  Running ‘normalizeTumorBoost,flavors.R’ [0s/0s]
  Running ‘normalizeTumorBoost.R’ [0s/0s]
  Running ‘robustSmoothSpline.R’ [0s/0s]
  Running ‘rowAverages.matrix.R’ [0s/0s]
  Running ‘sampleCorrelations.matrix.R’ [1s/1s]
  Running ‘sampleTuples.R’ [0s/0s]
  Running ‘wpca.matrix.R’ [0s/0s]
  Running ‘wpca2.matrix.R’ [0s/0s]
 [22s/23s] OK
* checking PDF version of manual ... OK
* DONE

Status: 1 NOTE
See
  ‘/Users/biocbuild/bbs-3.3-bioc/meat/aroma.light.Rcheck/00check.log’
for details.


aroma.light.Rcheck/00install.out:

* installing *source* package ‘aroma.light’ ...
** R
** inst
** preparing package for lazy loading
** help
*** installing help indices
** building package indices
** testing if installed package can be loaded
* DONE (aroma.light)

aroma.light.Rcheck/aroma.light-Ex.timings:

nameusersystemelapsed
backtransformAffine0.0060.0010.007
backtransformPrincipalCurve0.3840.0110.415
calibrateMultiscan000
callNaiveGenotypes0.2420.0060.249
distanceBetweenLines0.0260.0010.026
findPeaksAndValleys0.0300.0010.032
fitPrincipalCurve0.2110.0070.236
fitXYCurve0.0390.0010.042
iwpca0.020.000.02
likelihood.smooth.spline0.1120.0040.118
medianPolish0.0090.0010.037
normalizeAffine7.8470.0317.879
normalizeCurveFit7.6190.0477.680
normalizeDifferencesToAverage0.1560.0060.179
normalizeFragmentLength0.3900.0110.432
normalizeQuantileRank0.1500.0030.163
normalizeQuantileRank.matrix0.0430.0010.045
normalizeQuantileSpline0.5280.0080.536
normalizeTumorBoost0.1210.0040.130
robustSmoothSpline0.0420.0030.068
sampleCorrelations0.3680.0010.369
sampleTuples0.0010.0000.001
wpca0.0230.0010.025