altcdfenvs 2.33.0 Laurent Gautier
Snapshot Date: 2015-10-26 20:20:04 -0400 (Mon, 26 Oct 2015) | URL: https://hedgehog.fhcrc.org/bioconductor/trunk/madman/Rpacks/altcdfenvs | Last Changed Rev: 109592 / Revision: 109948 | Last Changed Date: 2015-10-13 15:59:53 -0400 (Tue, 13 Oct 2015) |
| linux2.bioconductor.org | Linux (Ubuntu 14.04.2 LTS) / x86_64 | OK | OK | OK | | |
windows2.bioconductor.org | Windows Server 2012 R2 Enterprise SP1 (64-bit) / x64 | OK | OK | OK | [ OK ] | |
##############################################################################
##############################################################################
###
### Running command:
###
### cd altcdfenvs.buildbin-libdir/altcdfenvs && zip -r ../../altcdfenvs_2.33.0.zip . & cd ../..
###
##############################################################################
##############################################################################
adding: CITATION (188 bytes security) (deflated 51%)
adding: data/ (208 bytes security) (stored 0%)
adding: data/cdfenvEx.rda (188 bytes security) (stored 0%)
adding: DESCRIPTION (188 bytes security) (deflated 42%)
adding: doc/ (208 bytes security) (stored 0%)
adding: doc/altcdfenvs.pdf (188 bytes security) (deflated 8%)
adding: doc/altcdfenvs.R (188 bytes security) (deflated 75%)
adding: doc/altcdfenvs.Rnw (188 bytes security) (deflated 58%)
adding: doc/index.html (188 bytes security) (deflated 73%)
adding: doc/modify.pdf (188 bytes security) (deflated 7%)
adding: doc/modify.R (188 bytes security) (deflated 74%)
adding: doc/modify.Rnw (188 bytes security) (deflated 54%)
adding: doc/ngenomeschips.pdf (188 bytes security) (deflated 7%)
adding: doc/ngenomeschips.R (188 bytes security) (deflated 75%)
adding: doc/ngenomeschips.Rnw (188 bytes security) (deflated 54%)
adding: exampleData/ (208 bytes security) (stored 0%)
adding: exampleData/Plasmodium-Probeset-IDs.txt (188 bytes security) (deflated 85%)
adding: exampleData/sample.fasta (188 bytes security) (deflated 65%)
adding: exampleData/slamf_targets.RData (188 bytes security) (stored 0%)
adding: help/ (208 bytes security) (stored 0%)
adding: help/aliases.rds (188 bytes security) (stored 0%)
adding: help/altcdfenvs.rdb (188 bytes security) (deflated 1%)
adding: help/altcdfenvs.rdx (188 bytes security) (stored 0%)
adding: help/AnIndex (188 bytes security) (deflated 75%)
adding: help/paths.rds (188 bytes security) (stored 0%)
adding: html/ (208 bytes security) (stored 0%)
adding: html/00Index.html (188 bytes security) (deflated 82%)
adding: html/R.css (188 bytes security) (deflated 75%)
adding: INDEX (188 bytes security) (deflated 60%)
adding: internalData/ (208 bytes security) (stored 0%)
adding: internalData/chipspecs.tab (188 bytes security) (deflated 29%)
adding: MD5 (188 bytes security) (deflated 44%)
adding: Meta/ (208 bytes security) (stored 0%)
adding: Meta/data.rds (188 bytes security) (stored 0%)
adding: Meta/hsearch.rds (188 bytes security) (stored 0%)
adding: Meta/links.rds (188 bytes security) (stored 0%)
adding: Meta/nsInfo.rds (188 bytes security) (stored 0%)
adding: Meta/package.rds (188 bytes security) (stored 0%)
adding: Meta/Rd.rds (188 bytes security) (stored 0%)
adding: Meta/vignette.rds (188 bytes security) (stored 0%)
adding: NAMESPACE (188 bytes security) (deflated 23%)
adding: R/ (208 bytes security) (stored 0%)
adding: R/altcdfenvs (188 bytes security) (deflated 41%)
adding: R/altcdfenvs.rdb (188 bytes security) (deflated 38%)
adding: R/altcdfenvs.rdx (188 bytes security) (stored 0%)
adding: UnitTests/ (208 bytes security) (stored 0%)
adding: UnitTests/AffyProbesMatch_test.R (188 bytes security) (deflated 64%)