affylmGUI 1.45.0 Yifang Hu , Keith Satterley
Snapshot Date: 2015-10-26 20:20:04 -0400 (Mon, 26 Oct 2015) | URL: https://hedgehog.fhcrc.org/bioconductor/trunk/madman/Rpacks/affylmGUI | Last Changed Rev: 109592 / Revision: 109948 | Last Changed Date: 2015-10-13 15:59:53 -0400 (Tue, 13 Oct 2015) |
| linux2.bioconductor.org | Linux (Ubuntu 14.04.2 LTS) / x86_64 | OK | OK | OK | | ![UNNEEDED, same version exists in internal repository UNNEEDED, same version exists in internal repository](../120px-Blue_Light_Icon.svg.png) |
windows2.bioconductor.org | Windows Server 2012 R2 Enterprise SP1 (64-bit) / x64 | OK | OK | OK | [ OK ] | ![UNNEEDED, same version exists in internal repository UNNEEDED, same version exists in internal repository](../120px-Blue_Light_Icon.svg.png) |
##############################################################################
##############################################################################
###
### Running command:
###
### cd affylmGUI.buildbin-libdir/affylmGUI && zip -r ../../affylmGUI_1.45.0.zip . & cd ../..
###
##############################################################################
##############################################################################
adding: CITATION (188 bytes security) (deflated 71%)
adding: DESCRIPTION (188 bytes security) (deflated 41%)
adding: doc/ (208 bytes security) (stored 0%)
adding: doc/affylmGUI.pdf (188 bytes security) (deflated 6%)
adding: doc/affylmGUI.R (188 bytes security) (deflated 70%)
adding: doc/affylmGUI.Rnw (188 bytes security) (deflated 51%)
adding: doc/extract.pdf (188 bytes security) (deflated 7%)
adding: doc/extract.Rnw (188 bytes security) (deflated 66%)
adding: doc/index.html (188 bytes security) (deflated 66%)
adding: etc/ (208 bytes security) (stored 0%)
adding: etc/affylmGUI-menus.txt (188 bytes security) (deflated 84%)
adding: etc/recent-files.txt (188 bytes security) (stored 0%)
adding: help/ (208 bytes security) (stored 0%)
adding: help/affylmGUI.rdb (188 bytes security) (deflated 0%)
adding: help/affylmGUI.rdx (188 bytes security) (stored 0%)
adding: help/aliases.rds (188 bytes security) (stored 0%)
adding: help/AnIndex (188 bytes security) (deflated 71%)
adding: help/paths.rds (188 bytes security) (stored 0%)
adding: html/ (208 bytes security) (stored 0%)
adding: html/00Index.html (188 bytes security) (deflated 90%)
adding: html/R.css (188 bytes security) (deflated 75%)
adding: INDEX (188 bytes security) (deflated 38%)
adding: MD5 (188 bytes security) (deflated 43%)
adding: Meta/ (208 bytes security) (stored 0%)
adding: Meta/hsearch.rds (188 bytes security) (stored 0%)
adding: Meta/links.rds (188 bytes security) (stored 0%)
adding: Meta/nsInfo.rds (188 bytes security) (stored 0%)
adding: Meta/package.rds (188 bytes security) (stored 0%)
adding: Meta/Rd.rds (188 bytes security) (stored 0%)
adding: Meta/vignette.rds (188 bytes security) (stored 0%)
adding: NAMESPACE (188 bytes security) (deflated 19%)
adding: R/ (208 bytes security) (stored 0%)
adding: R/affylmGUI (188 bytes security) (deflated 41%)
adding: R/affylmGUI.rdb (188 bytes security) (deflated 0%)
adding: R/affylmGUI.rdx (188 bytes security) (stored 0%)