affxparser 1.43.0 Kasper Daniel Hansen
Snapshot Date: 2015-10-26 20:20:04 -0400 (Mon, 26 Oct 2015) | URL: https://hedgehog.fhcrc.org/bioconductor/trunk/madman/Rpacks/affxparser | Last Changed Rev: 109895 / Revision: 109948 | Last Changed Date: 2015-10-24 18:24:57 -0400 (Sat, 24 Oct 2015) |
| linux2.bioconductor.org | Linux (Ubuntu 14.04.2 LTS) / x86_64 | OK | [ OK ] | WARNINGS | | ![UNNEEDED, same version exists in internal repository UNNEEDED, same version exists in internal repository](../120px-Blue_Light_Icon.svg.png) |
windows2.bioconductor.org | Windows Server 2012 R2 Enterprise SP1 (64-bit) / x64 | OK | OK | OK | OK | ![UNNEEDED, same version exists in internal repository UNNEEDED, same version exists in internal repository](../120px-Blue_Light_Icon.svg.png) |
##############################################################################
##############################################################################
###
### Running command:
###
### /home/biocbuild/bbs-3.3-bioc/R/bin/R CMD build --keep-empty-dirs --no-resave-data affxparser
###
##############################################################################
##############################################################################
* checking for file ‘affxparser/DESCRIPTION’ ... OK
* preparing ‘affxparser’:
* checking DESCRIPTION meta-information ... OK
* cleaning src
* running ‘cleanup’
* checking for LF line-endings in source and make files
* checking for empty or unneeded directories
* building ‘affxparser_1.43.0.tar.gz’
Warning in utils::tar(filepath, pkgname, compression = "gzip", compression_level = 9L, :
storing paths of more than 100 bytes is not portable:
‘affxparser/src/fusion_sdk/calvin_files/writers/src/CalvinCHPQuantificationDetectionFileBufferWriter.cpp’
Warning in utils::tar(filepath, pkgname, compression = "gzip", compression_level = 9L, :
storing paths of more than 100 bytes is not portable:
‘affxparser/src/fusion_sdk/calvin_files/writers/src/CalvinCHPQuantificationDetectionFileBufferWriter.h’