XVector 0.11.0 H. Pages
Snapshot Date: 2015-10-26 20:20:04 -0400 (Mon, 26 Oct 2015) | URL: https://hedgehog.fhcrc.org/bioconductor/trunk/madman/Rpacks/XVector | Last Changed Rev: 109592 / Revision: 109948 | Last Changed Date: 2015-10-13 15:59:53 -0400 (Tue, 13 Oct 2015) |
| linux2.bioconductor.org | Linux (Ubuntu 14.04.2 LTS) / x86_64 | [ OK ] | OK | WARNINGS | | ![UNNEEDED, same version exists in internal repository UNNEEDED, same version exists in internal repository](../120px-Blue_Light_Icon.svg.png) |
windows2.bioconductor.org | Windows Server 2012 R2 Enterprise SP1 (64-bit) / x64 | OK | OK | WARNINGS | OK | ![UNNEEDED, same version exists in internal repository UNNEEDED, same version exists in internal repository](../120px-Blue_Light_Icon.svg.png) |
##############################################################################
##############################################################################
###
### Running command:
###
### /home/biocbuild/bbs-3.3-bioc/R/bin/R CMD INSTALL XVector
###
##############################################################################
##############################################################################
* installing to library ‘/home/biocbuild/bbs-3.3-bioc/R/library’
* installing *source* package ‘XVector’ ...
** libs
gcc -std=gnu99 -I/home/biocbuild/bbs-3.3-bioc/R/include -DNDEBUG -I/usr/local/include -I"/home/biocbuild/bbs-3.3-bioc/R/library/S4Vectors/include" -I"/home/biocbuild/bbs-3.3-bioc/R/library/IRanges/include" -fpic -g -O2 -c IRanges_stubs.c -o IRanges_stubs.o
gcc -std=gnu99 -I/home/biocbuild/bbs-3.3-bioc/R/include -DNDEBUG -I/usr/local/include -I"/home/biocbuild/bbs-3.3-bioc/R/library/S4Vectors/include" -I"/home/biocbuild/bbs-3.3-bioc/R/library/IRanges/include" -fpic -g -O2 -c Ocopy_byteblocks.c -o Ocopy_byteblocks.o
gcc -std=gnu99 -I/home/biocbuild/bbs-3.3-bioc/R/include -DNDEBUG -I/usr/local/include -I"/home/biocbuild/bbs-3.3-bioc/R/library/S4Vectors/include" -I"/home/biocbuild/bbs-3.3-bioc/R/library/IRanges/include" -fpic -g -O2 -c R_init_XVector.c -o R_init_XVector.o
gcc -std=gnu99 -I/home/biocbuild/bbs-3.3-bioc/R/include -DNDEBUG -I/usr/local/include -I"/home/biocbuild/bbs-3.3-bioc/R/library/S4Vectors/include" -I"/home/biocbuild/bbs-3.3-bioc/R/library/IRanges/include" -fpic -g -O2 -c S4Vectors_stubs.c -o S4Vectors_stubs.o
gcc -std=gnu99 -I/home/biocbuild/bbs-3.3-bioc/R/include -DNDEBUG -I/usr/local/include -I"/home/biocbuild/bbs-3.3-bioc/R/library/S4Vectors/include" -I"/home/biocbuild/bbs-3.3-bioc/R/library/IRanges/include" -fpic -g -O2 -c SharedDouble_class.c -o SharedDouble_class.o
gcc -std=gnu99 -I/home/biocbuild/bbs-3.3-bioc/R/include -DNDEBUG -I/usr/local/include -I"/home/biocbuild/bbs-3.3-bioc/R/library/S4Vectors/include" -I"/home/biocbuild/bbs-3.3-bioc/R/library/IRanges/include" -fpic -g -O2 -c SharedInteger_class.c -o SharedInteger_class.o
gcc -std=gnu99 -I/home/biocbuild/bbs-3.3-bioc/R/include -DNDEBUG -I/usr/local/include -I"/home/biocbuild/bbs-3.3-bioc/R/library/S4Vectors/include" -I"/home/biocbuild/bbs-3.3-bioc/R/library/IRanges/include" -fpic -g -O2 -c SharedRaw_class.c -o SharedRaw_class.o
gcc -std=gnu99 -I/home/biocbuild/bbs-3.3-bioc/R/include -DNDEBUG -I/usr/local/include -I"/home/biocbuild/bbs-3.3-bioc/R/library/S4Vectors/include" -I"/home/biocbuild/bbs-3.3-bioc/R/library/IRanges/include" -fpic -g -O2 -c SharedVector_class.c -o SharedVector_class.o
gcc -std=gnu99 -I/home/biocbuild/bbs-3.3-bioc/R/include -DNDEBUG -I/usr/local/include -I"/home/biocbuild/bbs-3.3-bioc/R/library/S4Vectors/include" -I"/home/biocbuild/bbs-3.3-bioc/R/library/IRanges/include" -fpic -g -O2 -c XRawList_comparison.c -o XRawList_comparison.o
gcc -std=gnu99 -I/home/biocbuild/bbs-3.3-bioc/R/include -DNDEBUG -I/usr/local/include -I"/home/biocbuild/bbs-3.3-bioc/R/library/S4Vectors/include" -I"/home/biocbuild/bbs-3.3-bioc/R/library/IRanges/include" -fpic -g -O2 -c XVectorList_class.c -o XVectorList_class.o
gcc -std=gnu99 -I/home/biocbuild/bbs-3.3-bioc/R/include -DNDEBUG -I/usr/local/include -I"/home/biocbuild/bbs-3.3-bioc/R/library/S4Vectors/include" -I"/home/biocbuild/bbs-3.3-bioc/R/library/IRanges/include" -fpic -g -O2 -c XVector_class.c -o XVector_class.o
gcc -std=gnu99 -I/home/biocbuild/bbs-3.3-bioc/R/include -DNDEBUG -I/usr/local/include -I"/home/biocbuild/bbs-3.3-bioc/R/library/S4Vectors/include" -I"/home/biocbuild/bbs-3.3-bioc/R/library/IRanges/include" -fpic -g -O2 -c io_utils.c -o io_utils.o
gcc -std=gnu99 -I/home/biocbuild/bbs-3.3-bioc/R/include -DNDEBUG -I/usr/local/include -I"/home/biocbuild/bbs-3.3-bioc/R/library/S4Vectors/include" -I"/home/biocbuild/bbs-3.3-bioc/R/library/IRanges/include" -fpic -g -O2 -c slice_methods.c -o slice_methods.o
gcc -std=gnu99 -I/home/biocbuild/bbs-3.3-bioc/R/include -DNDEBUG -I/usr/local/include -I"/home/biocbuild/bbs-3.3-bioc/R/library/S4Vectors/include" -I"/home/biocbuild/bbs-3.3-bioc/R/library/IRanges/include" -fpic -g -O2 -c vector_copy.c -o vector_copy.o
gcc -std=gnu99 -I/home/biocbuild/bbs-3.3-bioc/R/include -DNDEBUG -I/usr/local/include -I"/home/biocbuild/bbs-3.3-bioc/R/library/S4Vectors/include" -I"/home/biocbuild/bbs-3.3-bioc/R/library/IRanges/include" -fpic -g -O2 -c view_summarization_methods.c -o view_summarization_methods.o
gcc -std=gnu99 -shared -L/home/biocbuild/bbs-3.3-bioc/R/lib -L/usr/local/lib -o XVector.so IRanges_stubs.o Ocopy_byteblocks.o R_init_XVector.o S4Vectors_stubs.o SharedDouble_class.o SharedInteger_class.o SharedRaw_class.o SharedVector_class.o XRawList_comparison.o XVectorList_class.o XVector_class.o io_utils.o slice_methods.o vector_copy.o view_summarization_methods.o -lz -L/home/biocbuild/bbs-3.3-bioc/R/lib -lR
installing to /home/biocbuild/bbs-3.3-bioc/R/library/XVector/libs
** R
** inst
** preparing package for lazy loading
Creating a generic function for ‘toString’ from package ‘base’ in package ‘XVector’
** help
*** installing help indices
** building package indices
** testing if installed package can be loaded
* DONE (XVector)