Back to the "Multiple platform build/check report" A  B  C  D  E  F  G  H  I  J  K  L  M  N  O  P  Q  R  S [T] U  V  W  X  Y  Z 

BioC 3.3: CHECK report for TargetSearch on linux2.bioconductor.org

This page was generated on 2015-10-27 12:11:45 -0400 (Tue, 27 Oct 2015).

Package 1043/1104HostnameOS / ArchINSTALLBUILDCHECKBUILD BIN
TargetSearch 1.27.0
Alvaro Cuadros-Inostroza
Snapshot Date: 2015-10-26 20:20:04 -0400 (Mon, 26 Oct 2015)
URL: https://hedgehog.fhcrc.org/bioconductor/trunk/madman/Rpacks/TargetSearch
Last Changed Rev: 109592 / Revision: 109948
Last Changed Date: 2015-10-13 15:59:53 -0400 (Tue, 13 Oct 2015)
linux2.bioconductor.org Linux (Ubuntu 14.04.2 LTS) / x86_64  OK  OK [ OK ]UNNEEDED, same version exists in internal repository
windows2.bioconductor.org Windows Server 2012 R2 Enterprise SP1 (64-bit) / x64  OK  OK  OK  OK UNNEEDED, same version exists in internal repository

Summary

Package: TargetSearch
Version: 1.27.0
Command: /home/biocbuild/bbs-3.3-bioc/R/bin/R CMD check --no-vignettes --timings TargetSearch_1.27.0.tar.gz
StartedAt: 2015-10-27 08:32:24 -0400 (Tue, 27 Oct 2015)
EndedAt: 2015-10-27 08:33:06 -0400 (Tue, 27 Oct 2015)
EllapsedTime: 42.5 seconds
RetCode: 0
Status:  OK 
CheckDir: TargetSearch.Rcheck
Warnings: 0

Command output

##############################################################################
##############################################################################
###
### Running command:
###
###   /home/biocbuild/bbs-3.3-bioc/R/bin/R CMD check --no-vignettes --timings TargetSearch_1.27.0.tar.gz
###
##############################################################################
##############################################################################


* using log directory ‘/home/biocbuild/bbs-3.3-bioc/meat/TargetSearch.Rcheck’
* using R Under development (unstable) (2015-09-09 r69333)
* using platform: x86_64-pc-linux-gnu (64-bit)
* using session charset: UTF-8
* using option ‘--no-vignettes’
* checking for file ‘TargetSearch/DESCRIPTION’ ... OK
* checking extension type ... Package
* this is package ‘TargetSearch’ version ‘1.27.0’
* checking package namespace information ... OK
* checking package dependencies ... OK
* checking if this is a source package ... OK
* checking if there is a namespace ... OK
* checking for hidden files and directories ... OK
* checking for portable file names ... OK
* checking for sufficient/correct file permissions ... OK
* checking whether package ‘TargetSearch’ can be installed ... [3s/3s] OK
* checking installed package size ... OK
* checking package directory ... OK
* checking ‘build’ directory ... OK
* checking DESCRIPTION meta-information ... OK
* checking top-level files ... OK
* checking for left-over files ... OK
* checking index information ... OK
* checking package subdirectories ... OK
* checking R files for non-ASCII characters ... OK
* checking R files for syntax errors ... OK
* checking whether the package can be loaded ... OK
* checking whether the package can be loaded with stated dependencies ... OK
* checking whether the package can be unloaded cleanly ... OK
* checking whether the namespace can be loaded with stated dependencies ... OK
* checking whether the namespace can be unloaded cleanly ... OK
* checking dependencies in R code ... OK
* checking S3 generic/method consistency ... OK
* checking replacement functions ... OK
* checking foreign function calls ... OK
* checking R code for possible problems ... OK
* checking Rd files ... OK
* checking Rd metadata ... OK
* checking Rd cross-references ... OK
* checking for missing documentation entries ... OK
* checking for code/documentation mismatches ... OK
* checking Rd \usage sections ... OK
* checking Rd contents ... OK
* checking for unstated dependencies in examples ... OK
* checking line endings in C/C++/Fortran sources/headers ... OK
* checking compiled code ... OK
* checking installed files from ‘inst/doc’ ... OK
* checking files in ‘vignettes’ ... OK
* checking examples ... [15s/16s] OK
Examples with CPU or elapsed time > 5s
           user system elapsed
RIcorrect 8.024  0.312    8.43
* checking for unstated dependencies in vignettes ... OK
* checking package vignettes in ‘inst/doc’ ... OK
* checking running R code from vignettes ... SKIPPED
* checking re-building of vignette outputs ... SKIPPED
* checking PDF version of manual ... OK
* DONE

Status: OK

TargetSearch.Rcheck/00install.out:

* installing *source* package ‘TargetSearch’ ...
** libs
gcc -std=gnu99 -I/home/biocbuild/bbs-3.3-bioc/R/include -DNDEBUG  -I/usr/local/include    -fpic  -g -O2  -c Rinit.c -o Rinit.o
gcc -std=gnu99 -I/home/biocbuild/bbs-3.3-bioc/R/include -DNDEBUG  -I/usr/local/include    -fpic  -g -O2  -c file.c -o file.o
gcc -std=gnu99 -I/home/biocbuild/bbs-3.3-bioc/R/include -DNDEBUG  -I/usr/local/include    -fpic  -g -O2  -c find_peaks.c -o find_peaks.o
gcc -std=gnu99 -I/home/biocbuild/bbs-3.3-bioc/R/include -DNDEBUG  -I/usr/local/include    -fpic  -g -O2  -c getLine.c -o getLine.o
gcc -std=gnu99 -I/home/biocbuild/bbs-3.3-bioc/R/include -DNDEBUG  -I/usr/local/include    -fpic  -g -O2  -c hpf.c -o hpf.o
gcc -std=gnu99 -I/home/biocbuild/bbs-3.3-bioc/R/include -DNDEBUG  -I/usr/local/include    -fpic  -g -O2  -c ncdf.c -o ncdf.o
gcc -std=gnu99 -I/home/biocbuild/bbs-3.3-bioc/R/include -DNDEBUG  -I/usr/local/include    -fpic  -g -O2  -c netcdf_peak_finding.c -o netcdf_peak_finding.o
gcc -std=gnu99 -I/home/biocbuild/bbs-3.3-bioc/R/include -DNDEBUG  -I/usr/local/include    -fpic  -g -O2  -c peakExtraction.c -o peakExtraction.o
gcc -std=gnu99 -I/home/biocbuild/bbs-3.3-bioc/R/include -DNDEBUG  -I/usr/local/include    -fpic  -g -O2  -c ppc.c -o ppc.o
gcc -std=gnu99 -shared -L/home/biocbuild/bbs-3.3-bioc/R/lib -L/usr/local/lib -o TargetSearch.so Rinit.o file.o find_peaks.o getLine.o hpf.o ncdf.o netcdf_peak_finding.o peakExtraction.o ppc.o -L/home/biocbuild/bbs-3.3-bioc/R/lib -lR
installing to /home/biocbuild/bbs-3.3-bioc/meat/TargetSearch.Rcheck/TargetSearch/libs
** R
** inst
** preparing package for lazy loading
** help
*** installing help indices
** building package indices
** installing vignettes
** testing if installed package can be loaded
* DONE (TargetSearch)

TargetSearch.Rcheck/TargetSearch-Ex.timings:

nameusersystemelapsed
FAMEoutliers0.0490.0010.051
FindPeaks0.2400.0000.251
ImportFameSettings0.0070.0000.007
ImportLibrary0.0140.0000.014
ImportSamples0.0030.0000.003
NetCDFPeakFinding0.2260.0340.269
Profile0.7500.0210.764
ProfileCleanUp0.7110.0050.710
RIcorrect8.0240.3128.430
fixRI1.1090.0291.135
medianRILib0.4200.0130.430
peakFind0.2250.0080.233
plotFAME0.0110.0000.011
plotPeak0.1670.0130.179
plotPeakSimple0.2800.0120.291
plotRIdev0.3800.0010.377
plotSpectra0.2210.0040.224
quantMatrix0.6840.0220.699
ri2rt0.0050.0000.005
riMatrix0.5650.0280.593
rt2ri0.0000.0040.005
sampleRI0.4470.0000.444
tsLib-class0.0050.0000.005
tsMSdata-class0.0020.0000.001
tsProfile-class0.0010.0000.001
tsRim-class0.0020.0000.001
tsSample-class0.0110.0000.011
writeLibText0.0250.0040.029