TFBSTools 1.9.0 Ge Tan
Snapshot Date: 2015-10-21 20:20:05 -0400 (Wed, 21 Oct 2015) | URL: https://hedgehog.fhcrc.org/bioconductor/trunk/madman/Rpacks/TFBSTools | Last Changed Rev: 109592 / Revision: 109826 | Last Changed Date: 2015-10-13 15:59:53 -0400 (Tue, 13 Oct 2015) |
| linux2.bioconductor.org | Linux (Ubuntu 14.04.2 LTS) / x86_64 | OK | OK | OK | | |
windows2.bioconductor.org | Windows Server 2012 R2 Enterprise SP1 (64-bit) / x64 | OK | OK | OK | OK | |
morelia | Mac OS X Mavericks (10.9.5) / x86_64 | [ OK ] | OK | OK | OK | |
##############################################################################
##############################################################################
###
### Running command:
###
### /Library/Frameworks/R.framework/Versions/Current/Resources/bin/R CMD INSTALL TFBSTools
###
##############################################################################
##############################################################################
* installing to library ‘/Library/Frameworks/R.framework/Versions/3.3/Resources/library’
* installing *source* package ‘TFBSTools’ ...
** libs
clang -I/Library/Frameworks/R.framework/Resources/include -DNDEBUG -I/usr/local/include -I/usr/local/include/freetype2 -I/opt/X11/include -fPIC -Wall -mtune=core2 -g -O2 -c matrixAlignerDynamic.c -o matrixAlignerDynamic.o
clang -I/Library/Frameworks/R.framework/Resources/include -DNDEBUG -I/usr/local/include -I/usr/local/include/freetype2 -I/opt/X11/include -fPIC -Wall -mtune=core2 -g -O2 -c R_init_TFBSTools.c -o R_init_TFBSTools.o
clang -dynamiclib -Wl,-headerpad_max_install_names -undefined dynamic_lookup -single_module -multiply_defined suppress -L/Library/Frameworks/R.framework/Resources/lib -L/usr/local/lib -o TFBSTools.so matrixAlignerDynamic.o R_init_TFBSTools.o -F/Library/Frameworks/R.framework/.. -framework R -Wl,-framework -Wl,CoreFoundation
installing to /Library/Frameworks/R.framework/Versions/3.3/Resources/library/TFBSTools/libs
** R
** data
** inst
** preparing package for lazy loading
Creating a new generic function for ‘seqLogo’ in package ‘TFBSTools’
Creating a generic function for ‘colSums’ from package ‘base’ in package ‘TFBSTools’
Creating a generic function for ‘rowSums’ from package ‘base’ in package ‘TFBSTools’
Creating a generic function for ‘update’ from package ‘stats’ in package ‘TFBSTools’
Creating a generic function for ‘as.matrix’ from package ‘base’ in package ‘TFBSTools’
** help
*** installing help indices
** building package indices
** installing vignettes
** testing if installed package can be loaded
* DONE (TFBSTools)