Back to the "Multiple platform build/check report" A  B  C  D  E  F  G  H  I  J  K  L  M  N  O  P  Q  R [S] T  U  V  W  X  Y  Z 

BioC 3.3: CHECK report for SummarizedExperiment on morelia

This page was generated on 2015-10-22 17:54:59 -0400 (Thu, 22 Oct 2015).

Package 1030/1104HostnameOS / ArchINSTALLBUILDCHECKBUILD BIN
SummarizedExperiment 1.1.0
Bioconductor Package Maintainer
Snapshot Date: 2015-10-21 20:20:05 -0400 (Wed, 21 Oct 2015)
URL: https://hedgehog.fhcrc.org/bioconductor/trunk/madman/Rpacks/SummarizedExperiment
Last Changed Rev: 109679 / Revision: 109826
Last Changed Date: 2015-10-16 00:32:34 -0400 (Fri, 16 Oct 2015)
linux2.bioconductor.org Linux (Ubuntu 14.04.2 LTS) / x86_64  OK  OK  OK UNNEEDED, same version exists in internal repository
windows2.bioconductor.org Windows Server 2012 R2 Enterprise SP1 (64-bit) / x64  OK  OK  OK  OK UNNEEDED, same version exists in internal repository
morelia Mac OS X Mavericks (10.9.5) / x86_64  OK  OK [ OK ] OK UNNEEDED, same version exists in internal repository

Summary

Package: SummarizedExperiment
Version: 1.1.0
Command: /Library/Frameworks/R.framework/Versions/Current/Resources/bin/R CMD check --no-vignettes --timings SummarizedExperiment_1.1.0.tar.gz
StartedAt: 2015-10-22 11:48:55 -0400 (Thu, 22 Oct 2015)
EndedAt: 2015-10-22 11:50:44 -0400 (Thu, 22 Oct 2015)
EllapsedTime: 108.3 seconds
RetCode: 0
Status:  OK 
CheckDir: SummarizedExperiment.Rcheck
Warnings: 0

Command output

##############################################################################
##############################################################################
###
### Running command:
###
###   /Library/Frameworks/R.framework/Versions/Current/Resources/bin/R CMD check --no-vignettes --timings SummarizedExperiment_1.1.0.tar.gz
###
##############################################################################
##############################################################################


* using log directory ‘/Users/biocbuild/bbs-3.3-bioc/meat/SummarizedExperiment.Rcheck’
* using R Under development (unstable) (2015-10-08 r69496)
* using platform: x86_64-apple-darwin13.4.0 (64-bit)
* using session charset: UTF-8
* using option ‘--no-vignettes’
* checking for file ‘SummarizedExperiment/DESCRIPTION’ ... OK
* this is package ‘SummarizedExperiment’ version ‘1.1.0’
* package encoding: UTF-8
* checking package namespace information ... OK
* checking package dependencies ... OK
* checking if this is a source package ... OK
* checking if there is a namespace ... OK
* checking for hidden files and directories ... OK
* checking for portable file names ... OK
* checking for sufficient/correct file permissions ... OK
* checking whether package ‘SummarizedExperiment’ can be installed ... [8s/8s] OK
* checking installed package size ... OK
* checking package directory ... OK
* checking ‘build’ directory ... OK
* checking DESCRIPTION meta-information ... OK
* checking top-level files ... OK
* checking for left-over files ... OK
* checking index information ... OK
* checking package subdirectories ... OK
* checking R files for non-ASCII characters ... OK
* checking R files for syntax errors ... OK
* checking whether the package can be loaded ... OK
* checking whether the package can be loaded with stated dependencies ... OK
* checking whether the package can be unloaded cleanly ... OK
* checking whether the namespace can be loaded with stated dependencies ... OK
* checking whether the namespace can be unloaded cleanly ... OK
* checking dependencies in R code ... OK
* checking S3 generic/method consistency ... OK
* checking replacement functions ... OK
* checking foreign function calls ... OK
* checking R code for possible problems ... OK
* checking Rd files ... OK
* checking Rd metadata ... OK
* checking Rd cross-references ... OK
* checking for missing documentation entries ... OK
* checking for code/documentation mismatches ... OK
* checking Rd \usage sections ... OK
* checking Rd contents ... OK
* checking for unstated dependencies in examples ... OK
* checking installed files from ‘inst/doc’ ... OK
* checking files in ‘vignettes’ ... OK
* checking examples ... [10s/10s] OK
Examples with CPU or elapsed time > 5s
                                           user system elapsed
makeSummarizedExperimentFromExpressionSet 4.955  0.146   5.429
* checking for unstated dependencies in ‘tests’ ... OK
* checking tests ...
  Running ‘SummarizedExperiment_unit_tests.R’ [12s/12s]
 [12s/12s] OK
* checking for unstated dependencies in vignettes ... OK
* checking package vignettes in ‘inst/doc’ ... OK
* checking running R code from vignettes ... SKIPPED
* checking re-building of vignette outputs ... SKIPPED
* checking PDF version of manual ... OK
* DONE

Status: OK

SummarizedExperiment.Rcheck/00install.out:

* installing *source* package ‘SummarizedExperiment’ ...
** R
** inst
** preparing package for lazy loading
** help
*** installing help indices
** building package indices
** installing vignettes
** testing if installed package can be loaded
* DONE (SummarizedExperiment)

SummarizedExperiment.Rcheck/SummarizedExperiment-Ex.timings:

nameusersystemelapsed
Assays-class0.0370.0030.040
RangedSummarizedExperiment-class0.2360.0040.241
SummarizedExperiment0-class0.0390.0020.040
coverage-methods0.0550.0000.055
findOverlaps-methods0.0810.0010.082
inter-range-methods0.0970.0000.098
intra-range-methods0.0800.0010.081
makeSummarizedExperimentFromExpressionSet4.9550.1465.429
nearest-methods0.6140.0070.622
readKallisto0.7360.0190.785