Back to the "Multiple platform build/check report" A  B  C  D  E  F  G  H  I  J  K  L  M  N  O  P  Q  R [S] T  U  V  W  X  Y  Z 

BioC 3.3: CHECK report for SeqArray on linux2.bioconductor.org

This page was generated on 2015-10-27 12:12:20 -0400 (Tue, 27 Oct 2015).

Package 955/1104HostnameOS / ArchINSTALLBUILDCHECKBUILD BIN
SeqArray 1.11.0
Xiuwen Zheng
Snapshot Date: 2015-10-26 20:20:04 -0400 (Mon, 26 Oct 2015)
URL: https://hedgehog.fhcrc.org/bioconductor/trunk/madman/Rpacks/SeqArray
Last Changed Rev: 109592 / Revision: 109948
Last Changed Date: 2015-10-13 15:59:53 -0400 (Tue, 13 Oct 2015)
linux2.bioconductor.org Linux (Ubuntu 14.04.2 LTS) / x86_64  OK  OK [ OK ]UNNEEDED, same version exists in internal repository
windows2.bioconductor.org Windows Server 2012 R2 Enterprise SP1 (64-bit) / x64  OK  OK  OK  OK UNNEEDED, same version exists in internal repository

Summary

Package: SeqArray
Version: 1.11.0
Command: /home/biocbuild/bbs-3.3-bioc/R/bin/R CMD check --no-vignettes --timings SeqArray_1.11.0.tar.gz
StartedAt: 2015-10-27 07:56:44 -0400 (Tue, 27 Oct 2015)
EndedAt: 2015-10-27 08:00:10 -0400 (Tue, 27 Oct 2015)
EllapsedTime: 206.3 seconds
RetCode: 0
Status:  OK 
CheckDir: SeqArray.Rcheck
Warnings: 0

Command output

##############################################################################
##############################################################################
###
### Running command:
###
###   /home/biocbuild/bbs-3.3-bioc/R/bin/R CMD check --no-vignettes --timings SeqArray_1.11.0.tar.gz
###
##############################################################################
##############################################################################


* using log directory ‘/home/biocbuild/bbs-3.3-bioc/meat/SeqArray.Rcheck’
* using R Under development (unstable) (2015-09-09 r69333)
* using platform: x86_64-pc-linux-gnu (64-bit)
* using session charset: UTF-8
* using option ‘--no-vignettes’
* checking for file ‘SeqArray/DESCRIPTION’ ... OK
* checking extension type ... Package
* this is package ‘SeqArray’ version ‘1.11.0’
* checking package namespace information ... OK
* checking package dependencies ... OK
* checking if this is a source package ... OK
* checking if there is a namespace ... OK
* checking for hidden files and directories ... OK
* checking for portable file names ... OK
* checking for sufficient/correct file permissions ... OK
* checking whether package ‘SeqArray’ can be installed ... [25s/25s] OK
* checking installed package size ... NOTE
  installed size is  7.6Mb
  sub-directories of 1Mb or more:
    doc       2.9Mb
    extdata   1.9Mb
    libs      2.5Mb
* checking package directory ... OK
* checking ‘build’ directory ... OK
* checking DESCRIPTION meta-information ... OK
* checking top-level files ... OK
* checking for left-over files ... OK
* checking index information ... OK
* checking package subdirectories ... OK
* checking R files for non-ASCII characters ... OK
* checking R files for syntax errors ... OK
* checking whether the package can be loaded ... OK
* checking whether the package can be loaded with stated dependencies ... OK
* checking whether the package can be unloaded cleanly ... OK
* checking whether the namespace can be loaded with stated dependencies ... OK
* checking whether the namespace can be unloaded cleanly ... OK
* checking dependencies in R code ... OK
* checking S3 generic/method consistency ... OK
* checking replacement functions ... OK
* checking foreign function calls ... OK
* checking R code for possible problems ... OK
* checking Rd files ... OK
* checking Rd metadata ... OK
* checking Rd cross-references ... OK
* checking for missing documentation entries ... OK
* checking for code/documentation mismatches ... OK
* checking Rd \usage sections ... OK
* checking Rd contents ... OK
* checking for unstated dependencies in examples ... OK
* checking line endings in C/C++/Fortran sources/headers ... OK
* checking line endings in Makefiles ... OK
* checking compilation flags in Makevars ... OK
* checking for GNU extensions in Makefiles ... OK
* checking for portable use of $(BLAS_LIBS) and $(LAPACK_LIBS) ... OK
* checking compiled code ... OK
* checking installed files from ‘inst/doc’ ... OK
* checking files in ‘vignettes’ ... OK
* checking examples ... [22s/28s] OK
Examples with CPU or elapsed time > 5s
                  user system elapsed
SeqArray-package 1.645   0.07   7.504
* checking for unstated dependencies in ‘tests’ ... OK
* checking tests ...
  Running ‘test.R’ [18s/24s]
 [18s/24s] OK
* checking for unstated dependencies in vignettes ... OK
* checking package vignettes in ‘inst/doc’ ... OK
* checking running R code from vignettes ... SKIPPED
* checking re-building of vignette outputs ... SKIPPED
* checking PDF version of manual ... OK
* DONE

Status: 1 NOTE
See
  ‘/home/biocbuild/bbs-3.3-bioc/meat/SeqArray.Rcheck/00check.log’
for details.


SeqArray.Rcheck/00install.out:

* installing *source* package ‘SeqArray’ ...
** libs
g++ -I/home/biocbuild/bbs-3.3-bioc/R/include -DNDEBUG -I. -DUSING_R -I/usr/local/include -I"/home/biocbuild/bbs-3.3-bioc/R/library/gdsfmt/include"   -fpic  -g -O2  -c ConvGDS2VCF.cpp -o ConvGDS2VCF.o
g++ -I/home/biocbuild/bbs-3.3-bioc/R/include -DNDEBUG -I. -DUSING_R -I/usr/local/include -I"/home/biocbuild/bbs-3.3-bioc/R/library/gdsfmt/include"   -fpic  -g -O2  -c ConvToGDS.cpp -o ConvToGDS.o
g++ -I/home/biocbuild/bbs-3.3-bioc/R/include -DNDEBUG -I. -DUSING_R -I/usr/local/include -I"/home/biocbuild/bbs-3.3-bioc/R/library/gdsfmt/include"   -fpic  -g -O2  -c ConvVCF2GDS.cpp -o ConvVCF2GDS.o
g++ -I/home/biocbuild/bbs-3.3-bioc/R/include -DNDEBUG -I. -DUSING_R -I/usr/local/include -I"/home/biocbuild/bbs-3.3-bioc/R/library/gdsfmt/include"   -fpic  -g -O2  -c GetData.cpp -o GetData.o
g++ -I/home/biocbuild/bbs-3.3-bioc/R/include -DNDEBUG -I. -DUSING_R -I/usr/local/include -I"/home/biocbuild/bbs-3.3-bioc/R/library/gdsfmt/include"   -fpic  -g -O2  -c LinkSNPRelate.cpp -o LinkSNPRelate.o
g++ -I/home/biocbuild/bbs-3.3-bioc/R/include -DNDEBUG -I. -DUSING_R -I/usr/local/include -I"/home/biocbuild/bbs-3.3-bioc/R/library/gdsfmt/include"   -fpic  -g -O2  -c Methods.cpp -o Methods.o
gcc -std=gnu99 -I/home/biocbuild/bbs-3.3-bioc/R/include -DNDEBUG -I. -DUSING_R -I/usr/local/include -I"/home/biocbuild/bbs-3.3-bioc/R/library/gdsfmt/include"   -fpic  -g -O2  -c R_SeqArray.c -o R_SeqArray.o
g++ -I/home/biocbuild/bbs-3.3-bioc/R/include -DNDEBUG -I. -DUSING_R -I/usr/local/include -I"/home/biocbuild/bbs-3.3-bioc/R/library/gdsfmt/include"   -fpic  -g -O2  -c ReadBySample.cpp -o ReadBySample.o
g++ -I/home/biocbuild/bbs-3.3-bioc/R/include -DNDEBUG -I. -DUSING_R -I/usr/local/include -I"/home/biocbuild/bbs-3.3-bioc/R/library/gdsfmt/include"   -fpic  -g -O2  -c ReadByVariant.cpp -o ReadByVariant.o
g++ -I/home/biocbuild/bbs-3.3-bioc/R/include -DNDEBUG -I. -DUSING_R -I/usr/local/include -I"/home/biocbuild/bbs-3.3-bioc/R/library/gdsfmt/include"   -fpic  -g -O2  -c SeqArray.cpp -o SeqArray.o
g++ -shared -L/home/biocbuild/bbs-3.3-bioc/R/lib -L/usr/local/lib -o SeqArray.so ConvGDS2VCF.o ConvToGDS.o ConvVCF2GDS.o GetData.o LinkSNPRelate.o Methods.o R_SeqArray.o ReadBySample.o ReadByVariant.o SeqArray.o -L/home/biocbuild/bbs-3.3-bioc/R/lib -lR
installing to /home/biocbuild/bbs-3.3-bioc/meat/SeqArray.Rcheck/SeqArray/libs
** R
** inst
** preparing package for lazy loading
** help
*** installing help indices
** building package indices
** installing vignettes
** testing if installed package can be loaded
* DONE (SeqArray)

SeqArray.Rcheck/SeqArray-Ex.timings:

nameusersystemelapsed
SeqArray-package1.6450.0707.504
SeqVarGDSClass-class0.2430.0080.253
seqAlleleCount0.0060.0000.006
seqAlleleFreq0.0160.0000.016
seqApply0.0690.0040.071
seqBED2GDS0.1820.0000.185
seqDelete1.0670.0081.075
seqExampleFileName0.0040.0000.004
seqExport0.1570.0040.162
seqGDS2SNP0.0970.0000.097
seqGDS2VCF0.6610.0000.662
seqGetData0.0590.0040.063
seqGetFilter0.0560.0000.055
seqMissing0.0590.0040.063
seqNumAllele0.0080.0000.009
seqOpen0.0530.0000.053
seqOptimize1.8060.0001.807
seqParallel0.1360.1020.170
seqParallelSetup0.0560.0420.090
seqSNP2GDS0.5210.0280.549
seqSetFilter0.0660.0000.066
seqSetFilterChrom0.0330.0000.033
seqStorage.Option2.0380.0402.077
seqSummary0.0320.0000.032
seqTranspose1.1390.0121.151
seqVCF.Header0.0500.0000.051
seqVCF.SampID0.0030.0000.004
seqVCF2GDS2.2990.0202.319