Back to the "Multiple platform build/check report" A  B  C  D  E  F  G  H  I  J  K  L  M  N  O  P  Q  R [S] T  U  V  W  X  Y  Z 

BioC 3.3: CHECK report for SNPRelate on morelia

This page was generated on 2015-10-22 17:54:26 -0400 (Thu, 22 Oct 2015).

Package 994/1104HostnameOS / ArchINSTALLBUILDCHECKBUILD BIN
SNPRelate 1.5.0
Xiuwen Zheng
Snapshot Date: 2015-10-21 20:20:05 -0400 (Wed, 21 Oct 2015)
URL: https://hedgehog.fhcrc.org/bioconductor/trunk/madman/Rpacks/SNPRelate
Last Changed Rev: 109592 / Revision: 109826
Last Changed Date: 2015-10-13 15:59:53 -0400 (Tue, 13 Oct 2015)
linux2.bioconductor.org Linux (Ubuntu 14.04.2 LTS) / x86_64  OK  OK  OK UNNEEDED, same version exists in internal repository
windows2.bioconductor.org Windows Server 2012 R2 Enterprise SP1 (64-bit) / x64  OK  OK  OK  OK UNNEEDED, same version exists in internal repository
morelia Mac OS X Mavericks (10.9.5) / x86_64  OK  OK [ OK ] OK UNNEEDED, same version exists in internal repository

Summary

Package: SNPRelate
Version: 1.5.0
Command: /Library/Frameworks/R.framework/Versions/Current/Resources/bin/R CMD check --no-vignettes --timings SNPRelate_1.5.0.tar.gz
StartedAt: 2015-10-22 11:30:37 -0400 (Thu, 22 Oct 2015)
EndedAt: 2015-10-22 11:32:26 -0400 (Thu, 22 Oct 2015)
EllapsedTime: 109.2 seconds
RetCode: 0
Status:  OK 
CheckDir: SNPRelate.Rcheck
Warnings: 0

Command output

##############################################################################
##############################################################################
###
### Running command:
###
###   /Library/Frameworks/R.framework/Versions/Current/Resources/bin/R CMD check --no-vignettes --timings SNPRelate_1.5.0.tar.gz
###
##############################################################################
##############################################################################


* using log directory ‘/Users/biocbuild/bbs-3.3-bioc/meat/SNPRelate.Rcheck’
* using R Under development (unstable) (2015-10-08 r69496)
* using platform: x86_64-apple-darwin13.4.0 (64-bit)
* using session charset: UTF-8
* using option ‘--no-vignettes’
* checking for file ‘SNPRelate/DESCRIPTION’ ... OK
* checking extension type ... Package
* this is package ‘SNPRelate’ version ‘1.5.0’
* checking package namespace information ... OK
* checking package dependencies ... OK
* checking if this is a source package ... OK
* checking if there is a namespace ... OK
* checking for hidden files and directories ... OK
* checking for portable file names ... OK
* checking for sufficient/correct file permissions ... OK
* checking whether package ‘SNPRelate’ can be installed ... [13s/14s] OK
* checking installed package size ... NOTE
  installed size is  5.5Mb
  sub-directories of 1Mb or more:
    doc   3.7Mb
* checking package directory ... OK
* checking ‘build’ directory ... OK
* checking DESCRIPTION meta-information ... OK
* checking top-level files ... OK
* checking for left-over files ... OK
* checking index information ... OK
* checking package subdirectories ... OK
* checking R files for non-ASCII characters ... OK
* checking R files for syntax errors ... OK
* checking whether the package can be loaded ... OK
* checking whether the package can be loaded with stated dependencies ... OK
* checking whether the package can be unloaded cleanly ... OK
* checking whether the namespace can be loaded with stated dependencies ... OK
* checking whether the namespace can be unloaded cleanly ... OK
* checking dependencies in R code ... OK
* checking S3 generic/method consistency ... OK
* checking replacement functions ... OK
* checking foreign function calls ... OK
* checking R code for possible problems ... OK
* checking Rd files ... OK
* checking Rd metadata ... OK
* checking Rd cross-references ... OK
* checking for missing documentation entries ... OK
* checking for code/documentation mismatches ... OK
* checking Rd \usage sections ... OK
* checking Rd contents ... OK
* checking for unstated dependencies in examples ... OK
* checking contents of ‘data’ directory ... OK
* checking data for non-ASCII characters ... OK
* checking data for ASCII and uncompressed saves ... OK
* checking line endings in C/C++/Fortran sources/headers ... OK
* checking line endings in Makefiles ... OK
* checking compilation flags in Makevars ... OK
* checking for GNU extensions in Makefiles ... OK
* checking for portable use of $(BLAS_LIBS) and $(LAPACK_LIBS) ... OK
* checking compiled code ... OK
* checking installed files from ‘inst/doc’ ... OK
* checking files in ‘vignettes’ ... OK
* checking examples ... [27s/28s] OK
* checking for unstated dependencies in ‘tests’ ... OK
* checking tests ...
  Running ‘runTests.R’ [33s/33s]
 [33s/34s] OK
* checking for unstated dependencies in vignettes ... OK
* checking package vignettes in ‘inst/doc’ ... OK
* checking running R code from vignettes ... SKIPPED
* checking re-building of vignette outputs ... SKIPPED
* checking PDF version of manual ... OK
* DONE

Status: 1 NOTE
See
  ‘/Users/biocbuild/bbs-3.3-bioc/meat/SNPRelate.Rcheck/00check.log’
for details.


SNPRelate.Rcheck/00install.out:

* installing *source* package ‘SNPRelate’ ...
** libs
clang++ -I/Library/Frameworks/R.framework/Resources/include -DNDEBUG -DUSING_R -I. -I/usr/local/include -I/usr/local/include/freetype2 -I/opt/X11/include -I"/Library/Frameworks/R.framework/Versions/3.3/Resources/library/gdsfmt/include"   -fPIC  -Wall -mtune=core2 -g -O2  -c ConvToGDS.cpp -o ConvToGDS.o
clang -I/Library/Frameworks/R.framework/Resources/include -DNDEBUG -DUSING_R -I. -I/usr/local/include -I/usr/local/include/freetype2 -I/opt/X11/include -I"/Library/Frameworks/R.framework/Versions/3.3/Resources/library/gdsfmt/include"   -fPIC  -Wall -mtune=core2 -g -O2  -c R_SNPRelate.c -o R_SNPRelate.o
clang++ -I/Library/Frameworks/R.framework/Resources/include -DNDEBUG -DUSING_R -I. -I/usr/local/include -I/usr/local/include/freetype2 -I/opt/X11/include -I"/Library/Frameworks/R.framework/Versions/3.3/Resources/library/gdsfmt/include"   -fPIC  -Wall -mtune=core2 -g -O2  -c SNPRelate.cpp -o SNPRelate.o
clang++ -I/Library/Frameworks/R.framework/Resources/include -DNDEBUG -DUSING_R -I. -I/usr/local/include -I/usr/local/include/freetype2 -I/opt/X11/include -I"/Library/Frameworks/R.framework/Versions/3.3/Resources/library/gdsfmt/include"   -fPIC  -Wall -mtune=core2 -g -O2  -c dGenGWAS.cpp -o dGenGWAS.o
clang++ -I/Library/Frameworks/R.framework/Resources/include -DNDEBUG -DUSING_R -I. -I/usr/local/include -I/usr/local/include/freetype2 -I/opt/X11/include -I"/Library/Frameworks/R.framework/Versions/3.3/Resources/library/gdsfmt/include"   -fPIC  -Wall -mtune=core2 -g -O2  -c dVect.cpp -o dVect.o
clang++ -I/Library/Frameworks/R.framework/Resources/include -DNDEBUG -DUSING_R -I. -I/usr/local/include -I/usr/local/include/freetype2 -I/opt/X11/include -I"/Library/Frameworks/R.framework/Versions/3.3/Resources/library/gdsfmt/include"   -fPIC  -Wall -mtune=core2 -g -O2  -c genFst.cpp -o genFst.o
clang++ -I/Library/Frameworks/R.framework/Resources/include -DNDEBUG -DUSING_R -I. -I/usr/local/include -I/usr/local/include/freetype2 -I/opt/X11/include -I"/Library/Frameworks/R.framework/Versions/3.3/Resources/library/gdsfmt/include"   -fPIC  -Wall -mtune=core2 -g -O2  -c genHWE.cpp -o genHWE.o
clang++ -I/Library/Frameworks/R.framework/Resources/include -DNDEBUG -DUSING_R -I. -I/usr/local/include -I/usr/local/include/freetype2 -I/opt/X11/include -I"/Library/Frameworks/R.framework/Versions/3.3/Resources/library/gdsfmt/include"   -fPIC  -Wall -mtune=core2 -g -O2  -c genIBD.cpp -o genIBD.o
clang++ -I/Library/Frameworks/R.framework/Resources/include -DNDEBUG -DUSING_R -I. -I/usr/local/include -I/usr/local/include/freetype2 -I/opt/X11/include -I"/Library/Frameworks/R.framework/Versions/3.3/Resources/library/gdsfmt/include"   -fPIC  -Wall -mtune=core2 -g -O2  -c genIBS.cpp -o genIBS.o
clang++ -I/Library/Frameworks/R.framework/Resources/include -DNDEBUG -DUSING_R -I. -I/usr/local/include -I/usr/local/include/freetype2 -I/opt/X11/include -I"/Library/Frameworks/R.framework/Versions/3.3/Resources/library/gdsfmt/include"   -fPIC  -Wall -mtune=core2 -g -O2  -c genKING.cpp -o genKING.o
clang++ -I/Library/Frameworks/R.framework/Resources/include -DNDEBUG -DUSING_R -I. -I/usr/local/include -I/usr/local/include/freetype2 -I/opt/X11/include -I"/Library/Frameworks/R.framework/Versions/3.3/Resources/library/gdsfmt/include"   -fPIC  -Wall -mtune=core2 -g -O2  -c genLD.cpp -o genLD.o
clang++ -I/Library/Frameworks/R.framework/Resources/include -DNDEBUG -DUSING_R -I. -I/usr/local/include -I/usr/local/include/freetype2 -I/opt/X11/include -I"/Library/Frameworks/R.framework/Versions/3.3/Resources/library/gdsfmt/include"   -fPIC  -Wall -mtune=core2 -g -O2  -c genPCA.cpp -o genPCA.o
clang++ -I/Library/Frameworks/R.framework/Resources/include -DNDEBUG -DUSING_R -I. -I/usr/local/include -I/usr/local/include/freetype2 -I/opt/X11/include -I"/Library/Frameworks/R.framework/Versions/3.3/Resources/library/gdsfmt/include"   -fPIC  -Wall -mtune=core2 -g -O2  -c genRec.cpp -o genRec.o
clang++ -I/Library/Frameworks/R.framework/Resources/include -DNDEBUG -DUSING_R -I. -I/usr/local/include -I/usr/local/include/freetype2 -I/opt/X11/include -I"/Library/Frameworks/R.framework/Versions/3.3/Resources/library/gdsfmt/include"   -fPIC  -Wall -mtune=core2 -g -O2  -c genSlideWin.cpp -o genSlideWin.o
clang++ -dynamiclib -Wl,-headerpad_max_install_names -undefined dynamic_lookup -single_module -multiply_defined suppress -L/Library/Frameworks/R.framework/Resources/lib -L/usr/local/lib -o SNPRelate.so ConvToGDS.o R_SNPRelate.o SNPRelate.o dGenGWAS.o dVect.o genFst.o genHWE.o genIBD.o genIBS.o genKING.o genLD.o genPCA.o genRec.o genSlideWin.o -L/usr/local/lib/gcc/x86_64-apple-darwin13.0.0/4.8.2 -lgfortran -lquadmath -lm -L/Library/Frameworks/R.framework/Resources/lib -lRblas -L/Library/Frameworks/R.framework/Resources/lib -lRlapack -F/Library/Frameworks/R.framework/.. -framework R -Wl,-framework -Wl,CoreFoundation
installing to /Users/biocbuild/bbs-3.3-bioc/meat/SNPRelate.Rcheck/SNPRelate/libs
** R
** data
** inst
** preparing package for lazy loading
** help
*** installing help indices
** building package indices
** installing vignettes
** testing if installed package can be loaded
* DONE (SNPRelate)

SNPRelate.Rcheck/SNPRelate-Ex.timings:

nameusersystemelapsed
SNPGDSFileClass-class0.0290.0020.032
SNPRelate-package1.4960.0721.646
snpgdsAdmixProp1.3990.0171.443
snpgdsAlleleSwitch0.1190.0100.165
snpgdsApartSelection0.1510.0150.184
snpgdsBED2GDS0.0780.0060.084
snpgdsClose0.0140.0010.015
snpgdsCombineGeno0.4570.0180.479
snpgdsCreateGeno0.1610.0190.184
snpgdsCreateGenoSet0.1870.0090.217
snpgdsCutTree2.2640.0192.290
snpgdsDiss1.7280.0071.738
snpgdsDrawTree1.5320.0041.544
snpgdsEIGMIX1.2780.0061.297
snpgdsErrMsg0.0010.0000.000
snpgdsExampleFileName0.0010.0000.001
snpgdsFst0.0570.0030.061
snpgdsGDS2BED0.0740.0060.081
snpgdsGDS2Eigen0.6250.0350.676
snpgdsGDS2PED0.4820.0360.539
snpgdsGEN2GDS0.0000.0000.001
snpgdsGRM0.9790.0041.027
snpgdsGetGeno0.3430.0110.354
snpgdsHCluster1.8310.0161.884
snpgdsHWE0.0130.0020.015
snpgdsIBDKING0.2550.0100.267
snpgdsIBDMLE0.4930.0050.499
snpgdsIBDMLELogLik0.6190.0080.628
snpgdsIBDMoM0.2270.0410.282
snpgdsIBDSelection0.0630.0040.068
snpgdsIBS0.3420.0040.347
snpgdsIBSNum0.3750.0080.384
snpgdsIndInb0.0470.0040.050
snpgdsIndInbCoef0.0180.0010.019
snpgdsLDMat0.3900.0230.436
snpgdsLDpair0.0040.0000.004
snpgdsLDpruning0.0450.0030.048
snpgdsOpen0.0180.0010.019
snpgdsOption0.0040.0010.005
snpgdsPCA0.3610.0090.376
snpgdsPCACorr0.2840.0040.289
snpgdsPCASNPLoading0.3050.0060.323
snpgdsPCASampLoading0.3320.0050.337
snpgdsPED2GDS3.7890.0724.005
snpgdsPairIBD0.5830.0100.599
snpgdsPairIBDMLELogLik0.5050.0090.524
snpgdsPairScore0.1220.0110.406
snpgdsSNPList0.0270.0020.029
snpgdsSNPListIntersect0.0800.0030.082
snpgdsSNPListStrand0.0880.0020.091
snpgdsSNPRateFreq0.0370.0040.042
snpgdsSampMissRate0.0090.0010.010
snpgdsSelectSNP0.0170.0010.018
snpgdsSlidingWindow1.0000.0721.075
snpgdsSummary0.0620.0010.062
snpgdsTranspose0.2230.0090.239
snpgdsVCF2GDS0.1010.0170.119
snpgdsVCF2GDS_R0.0310.0060.045